Workbook

Sheet Comparison
A1: State GB Weight | B1: 0.5
A2: Cap (State Agreement) | B2: 0.3
D3: Option 1 applies a bridge adjustment to spread the aggregate (state-level) difference between CMMI and state global budgets across all hospitals as weighted by a glide path factor (i.e. state weight) | E3: Option 2 splits the difference between the hospital and state global budgets based on a glide path factor, and shifts additional budget based on the aggregate, state-level difference to ensure a budget neutral bridge adjustment | F3: Option 3 creates a pool of bridge funding from hospitals with a CMMI global budget higher than their state global budget based on a glide path factor (i.e. state weight of 50%) and distributes the pool based on proportional changes in global budgets to hospitals with a CMMI global budget less than their state global budget, up to a maximum associated with the glide path factor.
A4: Scenario A: Total Medicare FFS Hospital GB CMMI > Maryland | B4: Hospital-specific global budget (CMMI) | C4: Hospital-specific global budget (State) | D4: HBG Under Option 1 - Original | E4: HGB Under Option 2 - Split the Difference | F4: HGB Under Option 3 - Funding Pool | G4: Percent Difference before Bridge | H4: Percent Difference After Bridge - Option 1 | I4: Percent Difference After Bridge - Option 2 | J4: Percent Difference After Bridge - Option 3
A5: Hospital U | B5: ='Option 1 - Original, Proportion'!B6 -> 50 | C5: ='Option 1 - Original, Proportion'!C6 -> 45 | D5: ='Option 1 - Original, Proportion'!H6 -> 47.816901 | E5: ='Option 2 - Split the Difference'!J6 -> 48.214286 | F5: ='Option 3 - Funding Pool'!J6 -> 48.214286 | G5: =B5/C5-1 -> 0.11111111 | H5: =D5/C5-1 -> 0.062597809 | I5: =E5/C5-1 -> 0.071428571 | J5: =F5/C5-1 -> 0.071428571
A6: Hospital V | B6: ='Option 1 - Original, Proportion'!B7 -> 7 | C6: ='Option 1 - Original, Proportion'!C7 -> 6 | D6: ='Option 1 - Original, Proportion'!H7 -> 6.5422535 | E6: ='Option 2 - Split the Difference'!J7 -> 6.6428571 | F6: ='Option 3 - Funding Pool'!J7 -> 6.6428571 | G6: =B6/C6-1 -> 0.16666667 | H6: =D6/C6-1 -> 0.090375587 | I6: =E6/C6-1 -> 0.10714286 | J6: =F6/C6-1 -> 0.10714286
A7: Hospital W | B7: ='Option 1 - Original, Proportion'!B8 -> 11 | C7: ='Option 1 - Original, Proportion'!C8 -> 10 | D7: ='Option 1 - Original, Proportion'!H8 -> 10.570423 | E7: ='Option 2 - Split the Difference'!J8 -> 10.642857 | F7: ='Option 3 - Funding Pool'!J8 -> 10.642857 | G7: =B7/C7-1 -> 0.1 | H7: =D7/C7-1 -> 0.057042254 | I7: =E7/C7-1 -> 0.064285714 | J7: =F7/C7-1 -> 0.064285714
A8: Hospital X | B8: ='Option 1 - Original, Proportion'!B9 -> 21 | C8: ='Option 1 - Original, Proportion'!C9 -> 22 | D8: ='Option 1 - Original, Proportion'!H9 -> 21.65493 | E8: ='Option 2 - Split the Difference'!J9 -> 21.5 | F8: ='Option 3 - Funding Pool'!J9 -> 21.5 | G8: =B8/C8-1 -> -0.045454545 | H8: =D8/C8-1 -> -0.015685019 | I8: =E8/C8-1 -> -0.022727273 | J8: =F8/C8-1 -> -0.022727273
A9: Hospital Y | B9: ='Option 1 - Original, Proportion'!B10 -> 32 | C9: ='Option 1 - Original, Proportion'!C10 -> 34 | D9: ='Option 1 - Original, Proportion'!H10 -> 33.239437 | E9: ='Option 2 - Split the Difference'!J10 -> 33 | F9: ='Option 3 - Funding Pool'!J10 -> 33 | G9: =B9/C9-1 -> -0.058823529 | H9: =D9/C9-1 -> -0.022369511 | I9: =E9/C9-1 -> -0.029411765 | J9: =F9/C9-1 -> -0.029411765
A10: Hospital Z | B10: ='Option 1 - Original, Proportion'!B11 -> 23 | C10: ='Option 1 - Original, Proportion'!C11 -> 25 | D10: ='Option 1 - Original, Proportion'!H11 -> 24.176056 | E10: ='Option 2 - Split the Difference'!J11 -> 24 | F10: ='Option 3 - Funding Pool'!J11 -> 24 | G10: =B10/C10-1 -> -0.08 | H10: =D10/C10-1 -> -0.032957746 | I10: =E10/C10-1 -> -0.04 | J10: =F10/C10-1 -> -0.04
A11: Total | B11: ='Option 1 - Original, Proportion'!B12 -> 144 | C11: ='Option 1 - Original, Proportion'!C12 -> 142 | D11: ='Option 1 - Original, Proportion'!H12 -> 144 | E11: ='Option 2 - Split the Difference'!J12 -> 144 | F11: ='Option 3 - Funding Pool'!J12 -> 144 | G11: =B11/C11-1 -> 0.014084507 | H11: =D11/C11-1 -> 0.014084507 | I11: =E11/C11-1 -> 0.014084507 | J11: =F11/C11-1 -> 0.014084507
A12: Scenario B: Total Medicare FFS Hospital GB CMMI < Maryland | B12: Hospital-specific global budget (CMMI) | C12: Hospital-specific global budget (State) | D12: HBG Under Option 1 - Original | E12: HGB Under Option 2 - Split the Difference | F12: HGB Under Option 3 - Funding Pool | G12: Percent Difference before Bridge | H12: Percent Difference After Bridge - Option 1 | I12: Percent Difference After Bridge - Option 2 | J12: Percent Difference After Bridge - Option 3
A13: Hospital U | B13: ='Option 1 - Original, Proportion'!B21 -> 45 | C13: ='Option 1 - Original, Proportion'!C21 -> 50 | D13: ='Option 1 - Original, Proportion'!H21 -> 47.152778 | E13: ='Option 2 - Split the Difference'!J22 -> 47.5 | F13: ='Option 3 - Funding Pool'!J22 -> 46.785714 | G13: =B13/C13-1 -> -0.1 | H13: =$D13/C13-1 -> -0.056944444 | I13: =E13/C13-1 -> -0.05 | J13: =F13/C13-1 -> -0.064285714
A14: Hospital V | B14: ='Option 1 - Original, Proportion'!B22 -> 6 | C14: ='Option 1 - Original, Proportion'!C22 -> 7 | D14: ='Option 1 - Original, Proportion'!H22 -> 6.4513889 | E14: ='Option 2 - Split the Difference'!J23 -> 6.5 | F14: ='Option 3 - Funding Pool'!J23 -> 6.3571429 | G14: =B14/C14-1 -> -0.14285714 | H14: =$D14/C14-1 -> -0.078373016 | I14: =E14/C14-1 -> -0.071428571 | J14: =F14/C14-1 -> -0.091836735
A15: Hospital W | B15: ='Option 1 - Original, Proportion'!B23 -> 10 | C15: ='Option 1 - Original, Proportion'!C23 -> 11 | D15: ='Option 1 - Original, Proportion'!H23 -> 10.423611 | E15: ='Option 2 - Split the Difference'!J24 -> 10.5 | F15: ='Option 3 - Funding Pool'!J24 -> 10.357143 | G15: =B15/C15-1 -> -0.090909091 | H15: =$D15/C15-1 -> -0.05239899 | I15: =E15/C15-1 -> -0.045454545 | J15: =F15/C15-1 -> -0.058441558
A16: Hospital X | B16: ='Option 1 - Original, Proportion'!B24 -> 22 | C16: ='Option 1 - Original, Proportion'!C24 -> 21 | D16: ='Option 1 - Original, Proportion'!H24 -> 21.354167 | E16: ='Option 2 - Split the Difference'!J25 -> 21.3 | F16: ='Option 3 - Funding Pool'!J25 -> 21.5 | G16: =B16/C16-1 -> 0.047619048 | H16: =$D16/C16-1 -> 0.016865079 | I16: =E16/C16-1 -> 0.014285714 | J16: =F16/C16-1 -> 0.023809524
A17: Hospital Y | B17: ='Option 1 - Original, Proportion'!B25 -> 34 | C17: ='Option 1 - Original, Proportion'!C25 -> 32 | D17: ='Option 1 - Original, Proportion'!H25 -> 32.777778 | E17: ='Option 2 - Split the Difference'!J26 -> 32.6 | F17: ='Option 3 - Funding Pool'!J26 -> 33 | G17: =B17/C17-1 -> 0.0625 | H17: =$D17/C17-1 -> 0.024305556 | I17: =E17/C17-1 -> 0.01875 | J17: =F17/C17-1 -> 0.03125
A18: Hospital Z | B18: ='Option 1 - Original, Proportion'!B26 -> 25 | C18: ='Option 1 - Original, Proportion'!C26 -> 23 | D18: ='Option 1 - Original, Proportion'!H26 -> 23.840278 | E18: ='Option 2 - Split the Difference'!J27 -> 23.6 | F18: ='Option 3 - Funding Pool'!J27 -> 24 | G18: =B18/C18-1 -> 0.086956522 | H18: =$D18/C18-1 -> 0.036533816 | I18: =E18/C18-1 -> 0.026086957 | J18: =F18/C18-1 -> 0.043478261
A19: Total | B19: ='Option 1 - Original, Proportion'!B27 -> 142 | C19: ='Option 1 - Original, Proportion'!C27 -> 144 | D19: ='Option 1 - Original, Proportion'!H27 -> 142 | E19: ='Option 2 - Split the Difference'!J28 -> 142 | F19: ='Option 3 - Funding Pool'!J28 -> 142 | G19: =B19/C19-1 -> -0.013888889 | H19: =$D19/C19-1 -> -0.013888889 | I19: =E19/C19-1 -> -0.013888889 | J19: =F19/C19-1 -> -0.013888889

Sheet Option 1 - Original, Proportion
A1: Scenario A: Total Medicare FFS Hospital GB CMMI > Maryland
B2: Hospital-specific global budget (CMMI) | C2: Hospital-specific global budget (State) | D2: State Equivalent HGB | E2: Difference | F2: State GB Weight Applied | G2: Bridge Adjustment Cap Applied | H2: PY3 Final HGB
B3: A | C3: B | D3: C=B/[Btotal] * [Atotal] | E3: D = C - A | F3: E = D * [% State GB Weight] | G3: F = E unless [Etotal]>Cap, otherwise = [Eproportion] * Cap | H3: G = A + F
A4: State GB Weight | F4: =Comparison!B1 -> 0.5
A5: Cap (State Agreement) | G5: =Comparison!B2 -> 0.3
A6: Hospital U | B6: 50 | C6: 45 | D6: =C6/$C$12*$B$12 -> 45.633803 | E6: =D6-B6 -> -4.3661972 | F6: =E6*$F$4 -> -2.1830986 | G6: =IF($F$13<($B$12*$G$5),F6,(F6/$F$13*($B$12*$G$5))) -> -2.1830986 | H6: =$B6+G6 -> 47.816901
A7: Hospital V | B7: 7 | C7: 6 | D7: =C7/$C$12*$B$12 -> 6.084507 | E7: =D7-B7 -> -0.91549296 | F7: =E7*$F$4 -> -0.45774648 | G7: =IF($F$13<($B$12*$G$5),F7,(F7/$F$13*($B$12*$G$5))) -> -0.45774648 | H7: =$B7+G7 -> 6.5422535
A8: Hospital W | B8: 11 | C8: 10 | D8: =C8/$C$12*$B$12 -> 10.140845 | E8: =D8-B8 -> -0.85915493 | F8: =E8*$F$4 -> -0.42957746 | G8: =IF($F$13<($B$12*$G$5),F8,(F8/$F$13*($B$12*$G$5))) -> -0.42957746 | H8: =$B8+G8 -> 10.570423
A9: Hospital X | B9: 21 | C9: 22 | D9: =C9/$C$12*$B$12 -> 22.309859 | E9: =D9-B9 -> 1.3098592 | F9: =E9*$F$4 -> 0.65492958 | G9: =IF($F$13<($B$12*$G$5),F9,(F9/$F$13*($B$12*$G$5))) -> 0.65492958 | H9: =$B9+G9 -> 21.65493
A10: Hospital Y | B10: 32 | C10: 34 | D10: =C10/$C$12*$B$12 -> 34.478873 | E10: =D10-B10 -> 2.4788732 | F10: =E10*$F$4 -> 1.2394366 | G10: =IF($F$13<($B$12*$G$5),F10,(F10/$F$13*($B$12*$G$5))) -> 1.2394366 | H10: =$B10+G10 -> 33.239437
A11: Hospital Z | B11: 23 | C11: 25 | D11: =C11/$C$12*$B$12 -> 25.352113 | E11: =D11-B11 -> 2.3521127 | F11: =E11*$F$4 -> 1.1760563 | G11: =IF($F$13<($B$12*$G$5),F11,(F11/$F$13*($B$12*$G$5))) -> 1.1760563 | H11: =$B11+G11 -> 24.176056
A12: Total | B12: =SUM(B6:B11) -> 144 | C12: =SUM(C6:C11) -> 142 | D12: =SUM(D6:D11) -> 144 | E12: =SUM(E6:E11) -> -6.2172489e-15 | F12: =SUM(F6:F11) -> -3.1086245e-15 | G12: =SUM(G6:G11) -> -3.1086245e-15 | H12: =SUM(H6:H11) -> 144
A13: Abs Total | E13: {=SUM(ABS(E6:E11))} -> 12.28169 | F13: {=SUM(ABS(F6:F11))} -> 6.1408451 | G13: {=SUM(ABS(G6:G11))} -> 6.1408451
A16: Scenario B: Total Medicare FFS Hospital GB CMMI < Maryland
B17: Hospital-specific global budget (CMMI) | C17: Hospital-specific global budget (State) | D17: State Equivalent HGB | E17: Difference | F17: State GB Weight Applied | G17: Bridge Adjustment Cap Applied | H17: PY3 Final HGB
B18: A | C18: B | D18: C=B/[Btotal] * [Atotal] | E18: D = C - A | F18: E = D * [% State GB Weight] | G18: F = E unless [Etotal]>Cap, otherwise = [Eproportion] * Cap | H18: G = A + F
A19: State GB Weight | F19: =F4 -> 0.5
A20: Cap (State Agreement) | G20: =G5 -> 0.3
A21: Hospital U | B21: 45 | C21: 50 | D21: =C21/$C$27*$B$27 -> 49.305556 | E21: =D21-B21 -> 4.3055556 | F21: =E21*$F$19 -> 2.1527778 | G21: =IF($F$28<($B$27*$G$20),F21,(F21/$F$28*($B$27*$G$20))) -> 2.1527778 | H21: =$B21+G21 -> 47.152778
A22: Hospital V | B22: 6 | C22: 7 | D22: =C22/$C$27*$B$27 -> 6.9027778 | E22: =D22-B22 -> 0.90277778 | F22: =E22*$F$19 -> 0.45138889 | G22: =IF($F$28<($B$27*$G$20),F22,(F22/$F$28*($B$27*$G$20))) -> 0.45138889 | H22: =$B22+G22 -> 6.4513889
A23: Hospital W | B23: 10 | C23: 11 | D23: =C23/$C$27*$B$27 -> 10.847222 | E23: =D23-B23 -> 0.84722222 | F23: =E23*$F$19 -> 0.42361111 | G23: =IF($F$28<($B$27*$G$20),F23,(F23/$F$28*($B$27*$G$20))) -> 0.42361111 | H23: =$B23+G23 -> 10.423611
A24: Hospital X | B24: 22 | C24: 21 | D24: =C24/$C$27*$B$27 -> 20.708333 | E24: =D24-B24 -> -1.2916667 | F24: =E24*$F$19 -> -0.64583333 | G24: =IF($F$28<($B$27*$G$20),F24,(F24/$F$28*($B$27*$G$20))) -> -0.64583333 | H24: =$B24+G24 -> 21.354167
A25: Hospital Y | B25: 34 | C25: 32 | D25: =C25/$C$27*$B$27 -> 31.555556 | E25: =D25-B25 -> -2.4444444 | F25: =E25*$F$19 -> -1.2222222 | G25: =IF($F$28<($B$27*$G$20),F25,(F25/$F$28*($B$27*$G$20))) -> -1.2222222 | H25: =$B25+G25 -> 32.777778
A26: Hospital Z | B26: 25 | C26: 23 | D26: =C26/$C$27*$B$27 -> 22.680556 | E26: =D26-B26 -> -2.3194444 | F26: =E26*$F$19 -> -1.1597222 | G26: =IF($F$28<($B$27*$G$20),F26,(F26/$F$28*($B$27*$G$20))) -> -1.1597222 | H26: =$B26+G26 -> 23.840278
A27: Total | B27: =SUM(B21:B26) -> 142 | C27: =SUM(C21:C26) -> 144 | D27: =SUM(D21:D26) -> 142 | E27: =SUM(E21:E26) -> 0 | F27: =SUM(F21:F26) -> 0 | G27: =SUM(G21:G26) -> 0 | H27: =SUM(H21:H26) -> 142
A28: Abs Total | E28: {=SUM(ABS(E21:E26))} -> 12.111111 | F28: {=SUM(ABS(F21:F26))} -> 6.0555556 | G28: {=SUM(ABS(G21:G26))} -> 6.0555556

Sheet Option 2 - Split the Difference
A1: Scenario A: Total Medicare FFS Hospital GB CMMI > Maryland
B2: Hospital-specific global budget (CMMI) | C2: Hospital-specific global budget (State) | D2: Difference | E2: Apply State Weight | F2: Pool Positives and Negatives | G2: Only apply net+ to hospital+ and net- to hosptial- | H2: Bridge Adjustment without Cap | I2: Bridge Adjustment with Cap Applied | J2: Final HGB
B3: A | C3: B
A4: State GB Weight | E4: =Comparison!B1 -> 0.5
A5: Cap (State Agreement) | I5: =Comparison!B2 -> 0.3
A6: Hospital U | B6: ='Option 1 - Original, Proportion'!B6 -> 50 | C6: ='Option 1 - Original, Proportion'!C6 -> 45 | D6: =C6-B6 -> -5 | E6: =D6*$E$4 -> -2.5 | F6: =IF(D6>0, D6/ABS($D$15), D6/ABS($D$14)) -> -0.71428571 | G6: =IF(F6<0, F6*$E$12, 0) -> 0.71428571 | H6: =E6+G6 -> -1.7857143 | I6: =IF($H$13<($B$12*$I$5),H6,(H6/$H$13)*($B$12*$I$5)) -> -1.7857143 | J6: =B6+I6 -> 48.214286
A7: Hospital V | B7: ='Option 1 - Original, Proportion'!B7 -> 7 | C7: ='Option 1 - Original, Proportion'!C7 -> 6 | D7: =C7-B7 -> -1 | E7: =D7*$E$4 -> -0.5 | F7: =IF(D7>0, D7/ABS($D$15), D7/ABS($D$14)) -> -0.14285714 | G7: =IF(F7<0, F7*$E$12, 0) -> 0.14285714 | H7: =E7+G7 -> -0.35714286 | I7: =IF($H$13<($B$12*$I$5),H7,(H7/$H$13)*($B$12*$I$5)) -> -0.35714286 | J7: =B7+I7 -> 6.6428571
A8: Hospital W | B8: ='Option 1 - Original, Proportion'!B8 -> 11 | C8: ='Option 1 - Original, Proportion'!C8 -> 10 | D8: =C8-B8 -> -1 | E8: =D8*$E$4 -> -0.5 | F8: =IF(D8>0, D8/ABS($D$15), D8/ABS($D$14)) -> -0.14285714 | G8: =IF(F8<0, F8*$E$12, 0) -> 0.14285714 | H8: =E8+G8 -> -0.35714286 | I8: =IF($H$13<($B$12*$I$5),H8,(H8/$H$13)*($B$12*$I$5)) -> -0.35714286 | J8: =B8+I8 -> 10.642857
A9: Hospital X | B9: ='Option 1 - Original, Proportion'!B9 -> 21 | C9: ='Option 1 - Original, Proportion'!C9 -> 22 | D9: =C9-B9 -> 1 | E9: =D9*$E$4 -> 0.5 | F9: =IF(D9>0, D9/ABS($D$15), D9/ABS($D$14)) -> 0.2 | G9: =IF(F9<0, F9*$E$12, 0) -> 0 | H9: =E9+G9 -> 0.5 | I9: =IF($H$13<($B$12*$I$5),H9,(H9/$H$13)*($B$12*$I$5)) -> 0.5 | J9: =B9+I9 -> 21.5
A10: Hospital Y | B10: ='Option 1 - Original, Proportion'!B10 -> 32 | C10: ='Option 1 - Original, Proportion'!C10 -> 34 | D10: =C10-B10 -> 2 | E10: =D10*$E$4 -> 1 | F10: =IF(D10>0, D10/ABS($D$15), D10/ABS($D$14)) -> 0.4 | G10: =IF(F10<0, F10*$E$12, 0) -> 0 | H10: =E10+G10 -> 1 | I10: =IF($H$13<($B$12*$I$5),H10,(H10/$H$13)*($B$12*$I$5)) -> 1 | J10: =B10+I10 -> 33
A11: Hospital Z | B11: ='Option 1 - Original, Proportion'!B11 -> 23 | C11: ='Option 1 - Original, Proportion'!C11 -> 25 | D11: =C11-B11 -> 2 | E11: =D11*$E$4 -> 1 | F11: =IF(D11>0, D11/ABS($D$15), D11/ABS($D$14)) -> 0.4 | G11: =IF(F11<0, F11*$E$12, 0) -> 0 | H11: =E11+G11 -> 1 | I11: =IF($H$13<($B$12*$I$5),H11,(H11/$H$13)*($B$12*$I$5)) -> 1 | J11: =B11+I11 -> 24
A12: Total | B12: =SUM(B6:B11) -> 144 | C12: =SUM(C6:C11) -> 142 | D12: =SUM(D6:D11) -> -2 | E12: =SUM(E6:E11) -> -1 | F12: =SUM(F6:F11) -> 0 | G12: =SUM(G6:G11) -> 1 | H12: =SUM(H6:H11) -> 0 | I12: =SUM(I6:I11) -> 0 | J12: =SUM(J6:J11) -> 144
A13: Abs Total | D13: {=SUM(ABS(D6:D11))} -> 12 | E13: {=SUM(ABS(E6:E11))} -> 6 | F13: {=SUM(ABS(F6:F11))} -> 2 | G13: {=SUM(ABS(G6:G11))} -> 1 | H13: {=SUM(ABS(H6:H11))} -> 5 | I13: {=SUM(ABS(I6:I11))} -> 5
A14: Negative total | D14: =SUMIF(D6:D11,"<0") -> -7
A15: Positive total | D15: =SUMIF(D6:D11,">0") -> 5
A17: Scenario B: Total Medicare FFS Hospital GB CMMI > Maryland
B18: Hospital-specific global budget (CMMI) | C18: Hospital-specific global budget (State) | D18: Difference | E18: Apply State Weight | F18: Pool Positives and Negatives | G18: Only apply net+ to hospital+ and net- to hosptial- | H18: Bridge Adjustment without Cap | I18: Bridge Adjustment Cap Applied | J18: Final HGB
B19: A | C19: B
A20: State GB Weight | E20: ='Option 1 - Original, Proportion'!F19 -> 0.5
A21: Cap (State Agreement) | I21: ='Option 1 - Original, Proportion'!G20 -> 0.3
A22: Hospital U | B22: ='Option 1 - Original, Proportion'!B21 -> 45 | C22: ='Option 1 - Original, Proportion'!C21 -> 50 | D22: =C22-B22 -> 5 | E22: =D22*$E$20 -> 2.5 | F22: =IF(D22>0, D22/ABS($D$31), D22/ABS($D$30)) -> 0.71428571 | G22: =IF(F22<0, F22*$E$28, 0) -> 0 | H22: =E22+G22 -> 2.5 | I22: =IF($H$29<($B$12*$I$21),H22,(H22/$H$29)*($B$12*$I$21)) -> 2.5 | J22: =B22+I22 -> 47.5
A23: Hospital V | B23: ='Option 1 - Original, Proportion'!B22 -> 6 | C23: ='Option 1 - Original, Proportion'!C22 -> 7 | D23: =C23-B23 -> 1 | E23: =D23*$E$20 -> 0.5 | F23: =IF(D23>0, D23/ABS($D$31), D23/ABS($D$30)) -> 0.14285714 | G23: =IF(F23<0, F23*$E$28, 0) -> 0 | H23: =E23+G23 -> 0.5 | I23: =IF($H$29<($B$12*$I$21),H23,(H23/$H$29)*($B$12*$I$21)) -> 0.5 | J23: =B23+I23 -> 6.5
A24: Hospital W | B24: ='Option 1 - Original, Proportion'!B23 -> 10 | C24: ='Option 1 - Original, Proportion'!C23 -> 11 | D24: =C24-B24 -> 1 | E24: =D24*$E$20 -> 0.5 | F24: =IF(D24>0, D24/ABS($D$31), D24/ABS($D$30)) -> 0.14285714 | G24: =IF(F24<0, F24*$E$28, 0) -> 0 | H24: =E24+G24 -> 0.5 | I24: =IF($H$29<($B$12*$I$21),H24,(H24/$H$29)*($B$12*$I$21)) -> 0.5 | J24: =B24+I24 -> 10.5
A25: Hospital X | B25: ='Option 1 - Original, Proportion'!B24 -> 22 | C25: ='Option 1 - Original, Proportion'!C24 -> 21 | D25: =C25-B25 -> -1 | E25: =D25*$E$20 -> -0.5 | F25: =IF(D25>0, D25/ABS($D$31), D25/ABS($D$30)) -> -0.2 | G25: =IF(F25<0, F25*$E$28, 0) -> -0.2 | H25: =E25+G25 -> -0.7 | I25: =IF($H$29<($B$12*$I$21),H25,(H25/$H$29)*($B$12*$I$21)) -> -0.7 | J25: =B25+I25 -> 21.3
A26: Hospital Y | B26: ='Option 1 - Original, Proportion'!B25 -> 34 | C26: ='Option 1 - Original, Proportion'!C25 -> 32 | D26: =C26-B26 -> -2 | E26: =D26*$E$20 -> -1 | F26: =IF(D26>0, D26/ABS($D$31), D26/ABS($D$30)) -> -0.4 | G26: =IF(F26<0, F26*$E$28, 0) -> -0.4 | H26: =E26+G26 -> -1.4 | I26: =IF($H$29<($B$12*$I$21),H26,(H26/$H$29)*($B$12*$I$21)) -> -1.4 | J26: =B26+I26 -> 32.6
A27: Hospital Z | B27: ='Option 1 - Original, Proportion'!B26 -> 25 | C27: ='Option 1 - Original, Proportion'!C26 -> 23 | D27: =C27-B27 -> -2 | E27: =D27*$E$20 -> -1 | F27: =IF(D27>0, D27/ABS($D$31), D27/ABS($D$30)) -> -0.4 | G27: =IF(F27<0, F27*$E$28, 0) -> -0.4 | H27: =E27+G27 -> -1.4 | I27: =IF($H$29<($B$12*$I$21),H27,(H27/$H$29)*($B$12*$I$21)) -> -1.4 | J27: =B27+I27 -> 23.6
A28: Total | B28: =SUM(B22:B27) -> 142 | C28: =SUM(C22:C27) -> 144 | D28: =SUM(D22:D27) -> 2 | E28: =SUM(E22:E27) -> 1 | F28: =SUM(F22:F27) -> 0 | G28: =SUM(G22:G27) -> -1 | H28: =SUM(H22:H27) -> 0 | I28: =SUM(I22:I27) -> 0 | J28: =SUM(J22:J27) -> 142
A29: Abs Total | D29: {=SUM(ABS(D22:D27))} -> 12 | E29: {=SUM(ABS(E22:E27))} -> 6 | F29: {=SUM(ABS(F22:F27))} -> 2 | G29: {=SUM(ABS(G22:G27))} -> 1 | H29: {=SUM(ABS(H22:H27))} -> 7 | I29: {=SUM(ABS(I22:I27))} -> 7
A30: Negative total | D30: =SUMIF(D22:D27,"<0") -> -5
A31: Positive total | D31: =SUMIF(D22:D27,">0") -> 7

Sheet Option 3 - Funding Pool
A1: Scenario A: Total Medicare FFS Hospital GB CMMI > Maryland
B2: Hospital-specific global budget (CMMI) | C2: Hospital-specific global budget (State) | D2: Difference | E2: Generate funding pool (based on weight) | F2: Calculate Raw Funding Shift | G2: Calculate Funding Shift, Proportional to available pool | H2: Bridge Adjustment without Cap | I2: Bridge Adjustment with Cap Applied | J2: Final HGB
B3: A | C3: B
A4: State GB Weight | E4: =Comparison!B1 -> 0.5
A5: Cap (State Agreement) | I5: =Comparison!B2 -> 0.3
A6: Hospital U | B6: ='Option 1 - Original, Proportion'!B6 -> 50 | C6: ='Option 1 - Original, Proportion'!C6 -> 45 | D6: =C6-B6 -> -5 | E6: =IF(D6<0,D6*$E$4,0) -> -2.5 | F6: =IF(D6>0,D6*$E$4,0) -> 0 | G6: =IF(ABS($F$12)<=ABS($E$12),F6,F6/$F$12*ABS(E12)) -> 0 | H6: =IF(D6<0,IF(ABS($E$12)>ABS($F$12),E6/$E$12*$F$12*-1,E6),G6) -> -1.7857143 | I6: =IF($H$13<($B$12*$I$5),H6,(H6/$H$13)*($B$12*$I$5)) -> -1.7857143 | J6: =B6+I6 -> 48.214286
A7: Hospital V | B7: ='Option 1 - Original, Proportion'!B7 -> 7 | C7: ='Option 1 - Original, Proportion'!C7 -> 6 | D7: =C7-B7 -> -1 | E7: =IF(D7<0,D7*$E$4,0) -> -0.5 | F7: =IF(D7>0,D7*$E$4,0) -> 0 | G7: =IF(ABS($F$12)<=ABS($E$12),F7,F7/$F$12*ABS(E13)) -> 0 | H7: =IF(D7<0,IF(ABS($E$12)>ABS($F$12),E7/$E$12*$F$12*-1,E7),G7) -> -0.35714286 | I7: =IF($H$13<($B$12*$I$5),H7,(H7/$H$13)*($B$12*$I$5)) -> -0.35714286 | J7: =B7+I7 -> 6.6428571
A8: Hospital W | B8: ='Option 1 - Original, Proportion'!B8 -> 11 | C8: ='Option 1 - Original, Proportion'!C8 -> 10 | D8: =C8-B8 -> -1 | E8: =IF(D8<0,D8*$E$4,0) -> -0.5 | F8: =IF(D8>0,D8*$E$4,0) -> 0 | G8: =IF(ABS($F$12)<=ABS($E$12),F8,F8/$F$12*ABS(E14)) -> 0 | H8: =IF(D8<0,IF(ABS($E$12)>ABS($F$12),E8/$E$12*$F$12*-1,E8),G8) -> -0.35714286 | I8: =IF($H$13<($B$12*$I$5),H8,(H8/$H$13)*($B$12*$I$5)) -> -0.35714286 | J8: =B8+I8 -> 10.642857
A9: Hospital X | B9: ='Option 1 - Original, Proportion'!B9 -> 21 | C9: ='Option 1 - Original, Proportion'!C9 -> 22 | D9: =C9-B9 -> 1 | E9: =IF(D9<0,D9*$E$4,0) -> 0 | F9: =IF(D9>0,D9*$E$4,0) -> 0.5 | G9: =IF(ABS($F$12)<=ABS($E$12),F9,F9/$F$12*ABS(E15)) -> 0.5 | H9: =IF(D9<0,IF(ABS($E$12)>ABS($F$12),E9/$E$12*$F$12*-1,E9),G9) -> 0.5 | I9: =IF($H$13<($B$12*$I$5),H9,(H9/$H$13)*($B$12*$I$5)) -> 0.5 | J9: =B9+I9 -> 21.5
A10: Hospital Y | B10: ='Option 1 - Original, Proportion'!B10 -> 32 | C10: ='Option 1 - Original, Proportion'!C10 -> 34 | D10: =C10-B10 -> 2 | E10: =IF(D10<0,D10*$E$4,0) -> 0 | F10: =IF(D10>0,D10*$E$4,0) -> 1 | G10: =IF(ABS($F$12)<=ABS($E$12),F10,F10/$F$12*ABS(E16)) -> 1 | H10: =IF(D10<0,IF(ABS($E$12)>ABS($F$12),E10/$E$12*$F$12*-1,E10),G10) -> 1 | I10: =IF($H$13<($B$12*$I$5),H10,(H10/$H$13)*($B$12*$I$5)) -> 1 | J10: =B10+I10 -> 33
A11: Hospital Z | B11: ='Option 1 - Original, Proportion'!B11 -> 23 | C11: ='Option 1 - Original, Proportion'!C11 -> 25 | D11: =C11-B11 -> 2 | E11: =IF(D11<0,D11*$E$4,0) -> 0 | F11: =IF(D11>0,D11*$E$4,0) -> 1 | G11: =IF(ABS($F$12)<=ABS($E$12),F11,F11/$F$12*ABS(E17)) -> 1 | H11: =IF(D11<0,IF(ABS($E$12)>ABS($F$12),E11/$E$12*$F$12*-1,E11),G11) -> 1 | I11: =IF($H$13<($B$12*$I$5),H11,(H11/$H$13)*($B$12*$I$5)) -> 1 | J11: =B11+I11 -> 24
A12: Total | B12: =SUM(B6:B11) -> 144 | C12: =SUM(C6:C11) -> 142 | D12: =SUM(D6:D11) -> -2 | E12: =SUM(E6:E11) -> -3.5 | F12: =SUM(F6:F11) -> 2.5 | G12: =SUM(G6:G11) -> 2.5 | H12: =SUM(H6:H11) -> 0 | I12: =SUM(I6:I11) -> 0 | J12: =SUM(J6:J11) -> 144
A13: Abs Total | D13: {=SUM(ABS(D6:D11))} -> 12 | E13: {=SUM(ABS(E6:E11))} -> 3.5 | F13: {=SUM(ABS(F6:F11))} -> 2.5 | G13: {=SUM(ABS(G6:G11))} -> 2.5 | H13: {=SUM(ABS(H6:H11))} -> 5 | I13: {=SUM(ABS(I6:I11))} -> 5
A17: Scenario B: Total Medicare FFS Hospital GB CMMI > Maryland
B18: Hospital-specific global budget (CMMI) | C18: Hospital-specific global budget (State) | D18: Difference | E18: Generate funding pool (based on weight) | F18: Calculate Raw Funding Shift | G18: Calculate Funding Shift, Proportional to available pool | H18: Bridge Adjustment without Cap | I18: Bridge Adjustment Cap Applied | J18: Final HGB
B19: A | C19: B
A20: State GB Weight | E20: =E4 -> 0.5
A21: Cap (State Agreement) | I21: ='Option 1 - Original, Proportion'!G20 -> 0.3
A22: Hospital U | B22: ='Option 1 - Original, Proportion'!B21 -> 45 | C22: ='Option 1 - Original, Proportion'!C21 -> 50 | D22: =C22-B22 -> 5 | E22: =IF(D22<0,D22*$E$4,0) -> 0 | F22: =IF(D22>0,D22*$E$4,0) -> 2.5 | G22: =IF(ABS($F$28)<=ABS($E$28),F22,F22/$F$28*ABS($E$28)) -> 1.7857143 | H22: =IF(D22<0,IF(ABS($E$28)>ABS($F$28),E22/$E$28*$F$28*-1,E22),G22) -> 1.7857143 | I22: =IF($H$29<($B$12*$I$21),H22,(H22/$H$29)*($B$12*$I$21)) -> 1.7857143 | J22: =B22+I22 -> 46.785714
A23: Hospital V | B23: ='Option 1 - Original, Proportion'!B22 -> 6 | C23: ='Option 1 - Original, Proportion'!C22 -> 7 | D23: =C23-B23 -> 1 | E23: =IF(D23<0,D23*$E$4,0) -> 0 | F23: =IF(D23>0,D23*$E$4,0) -> 0.5 | G23: =IF(ABS($F$28)<=ABS($E$28),F23,F23/$F$28*ABS($E$28)) -> 0.35714286 | H23: =IF(D23<0,IF(ABS($E$28)>ABS($F$28),E23/$E$28*$F$28*-1,E23),G23) -> 0.35714286 | I23: =IF($H$29<($B$12*$I$21),H23,(H23/$H$29)*($B$12*$I$21)) -> 0.35714286 | J23: =B23+I23 -> 6.3571429
A24: Hospital W | B24: ='Option 1 - Original, Proportion'!B23 -> 10 | C24: ='Option 1 - Original, Proportion'!C23 -> 11 | D24: =C24-B24 -> 1 | E24: =IF(D24<0,D24*$E$4,0) -> 0 | F24: =IF(D24>0,D24*$E$4,0) -> 0.5 | G24: =IF(ABS($F$28)<=ABS($E$28),F24,F24/$F$28*ABS($E$28)) -> 0.35714286 | H24: =IF(D24<0,IF(ABS($E$28)>ABS($F$28),E24/$E$28*$F$28*-1,E24),G24) -> 0.35714286 | I24: =IF($H$29<($B$12*$I$21),H24,(H24/$H$29)*($B$12*$I$21)) -> 0.35714286 | J24: =B24+I24 -> 10.357143
A25: Hospital X | B25: ='Option 1 - Original, Proportion'!B24 -> 22 | C25: ='Option 1 - Original, Proportion'!C24 -> 21 | D25: =C25-B25 -> -1 | E25: =IF(D25<0,D25*$E$4,0) -> -0.5 | F25: =IF(D25>0,D25*$E$4,0) -> 0 | G25: =IF(ABS($F$28)<=ABS($E$28),F25,F25/$F$28*ABS($E$28)) -> 0 | H25: =IF(D25<0,IF(ABS($E$28)>ABS($F$28),E25/$E$28*$F$28*-1,E25),G25) -> -0.5 | I25: =IF($H$29<($B$12*$I$21),H25,(H25/$H$29)*($B$12*$I$21)) -> -0.5 | J25: =B25+I25 -> 21.5
A26: Hospital Y | B26: ='Option 1 - Original, Proportion'!B25 -> 34 | C26: ='Option 1 - Original, Proportion'!C25 -> 32 | D26: =C26-B26 -> -2 | E26: =IF(D26<0,D26*$E$4,0) -> -1 | F26: =IF(D26>0,D26*$E$4,0) -> 0 | G26: =IF(ABS($F$28)<=ABS($E$28),F26,F26/$F$28*ABS($E$28)) -> 0 | H26: =IF(D26<0,IF(ABS($E$28)>ABS($F$28),E26/$E$28*$F$28*-1,E26),G26) -> -1 | I26: =IF($H$29<($B$12*$I$21),H26,(H26/$H$29)*($B$12*$I$21)) -> -1 | J26: =B26+I26 -> 33
A27: Hospital Z | B27: ='Option 1 - Original, Proportion'!B26 -> 25 | C27: ='Option 1 - Original, Proportion'!C26 -> 23 | D27: =C27-B27 -> -2 | E27: =IF(D27<0,D27*$E$4,0) -> -1 | F27: =IF(D27>0,D27*$E$4,0) -> 0 | G27: =IF(ABS($F$28)<=ABS($E$28),F27,F27/$F$28*ABS($E$28)) -> 0 | H27: =IF(D27<0,IF(ABS($E$28)>ABS($F$28),E27/$E$28*$F$28*-1,E27),G27) -> -1 | I27: =IF($H$29<($B$12*$I$21),H27,(H27/$H$29)*($B$12*$I$21)) -> -1 | J27: =B27+I27 -> 24
A28: Total | B28: =SUM(B22:B27) -> 142 | C28: =SUM(C22:C27) -> 144 | D28: =SUM(D22:D27) -> 2 | E28: =SUM(E22:E27) -> -2.5 | F28: =SUM(F22:F27) -> 3.5 | G28: =SUM(G22:G27) -> 2.5 | H28: =SUM(H22:H27) -> 0 | I28: =SUM(I22:I27) -> 0 | J28: =SUM(J22:J27) -> 142
A29: Abs Total | D29: {=SUM(ABS(D22:D27))} -> 12 | E29: {=SUM(ABS(E22:E27))} -> 2.5 | F29: {=SUM(ABS(F22:F27))} -> 3.5 | G29: {=SUM(ABS(G22:G27))} -> 2.5 | H29: {=SUM(ABS(H22:H27))} -> 5 | I29: {=SUM(ABS(I22:I27))} -> 5
