Workbook

Sheet HSCRC Final UCC Results (2026)
A1: Final Results of the Hospital Uncompensated Care Provision for RY 2027
A2: HOSPID | B2: HOSPNAME | C2: FY2027 GBR Permanent Revenue | D2: FY 2025 UCC Based on FY 2027 GBR Permanent Revenue | E2: FY 2025 Percent UCC from the RE Schedule | F2: FY 2025 Percent Predicted UCC (Adjusted) | G2: Predicted UCC Amounts (Based on FY 2027 GBR Permanent Revenue) | H2: 50/50 Blend | I2: 50/50 Blend Percent | J2: 50/50 Blend, Adjusted | K2: Percent UCC
A3: 210001 | B3: Meritus Medical Cntr | C3: 5.8546297e+08 | D3: =E3*C3 -> 26195603 | E3: =VLOOKUP(A3,'FY25 RE Regulate'!$K$4:$P$47, 6, FALSE) -> 0.044743398 | F3: =VLOOKUP(A3,'UCC2027 Hospital Level Summary '!$B$4:$I$46,8,FALSE) -> 0.04414816 | G3: =F3*C3 -> 25847113 | H3: =(D3*0.5)+(G3*0.5) -> 26021358 | I3: =H3/C3 -> 0.044445779 | J3: =H3*$I$47 -> 27446192 | K3: =J3/C3 -> 0.046879467
A4: 210002 | B4: UMMC | C4: 2.1683994e+09 | D4: =E4*C4 -> 46680327 | E4: =VLOOKUP(A4,'FY25 RE Regulate'!$K$4:$P$47, 6, FALSE) -> 0.02152755 | F4: =VLOOKUP(A4,'UCC2027 Hospital Level Summary '!$B$4:$I$46,8,FALSE) -> 0.027165457 | G4: =F4*C4 -> 58905561 | H4: =(D4*0.5)+(G4*0.5) -> 52792944 | I4: =H4/C4 -> 0.024346503 | J4: =H4*$I$47 -> 55683692 | K4: =J4/C4 -> 0.025679629
A5: 210003 | B5: UM-Prince George's Hospital | C5: 4.9955347e+08 | D5: =E5*C5 -> 31901483 | E5: =VLOOKUP(A5,'FY25 RE Regulate'!$K$4:$P$47, 6, FALSE) -> 0.063859997 | F5: =VLOOKUP(A5,'UCC2027 Hospital Level Summary '!$B$4:$I$46,8,FALSE) -> 0.047493645 | G5: =F5*C5 -> 23725615 | H5: =(D5*0.5)+(G5*0.5) -> 27813549 | I5: =H5/C5 -> 0.055676821 | J5: =H5*$I$47 -> 29336517 | K5: =J5/C5 -> 0.05872548
A6: 210004 | B6: Holy Cross | C6: 6.9250122e+08 | D6: =E6*C6 -> 41620597 | E6: =VLOOKUP(A6,'FY25 RE Regulate'!$K$4:$P$47, 6, FALSE) -> 0.060101839 | F6: =VLOOKUP(A6,'UCC2027 Hospital Level Summary '!$B$4:$I$46,8,FALSE) -> 0.049916595 | G6: =F6*C6 -> 34567303 | H6: =(D6*0.5)+(G6*0.5) -> 38093950 | I6: =H6/C6 -> 0.055009217 | J6: =H6*$I$47 -> 40179835 | K6: =J6/C6 -> 0.058021321
A7: 210005 | B7: Frederick Memorial | C7: 4.9032964e+08 | D7: =E7*C7 -> 32175006 | E7: =VLOOKUP(A7,'FY25 RE Regulate'!$K$4:$P$47, 6, FALSE) -> 0.065619134 | F7: =VLOOKUP(A7,'UCC2027 Hospital Level Summary '!$B$4:$I$46,8,FALSE) -> 0.04886484 | G7: =F7*C7 -> 23959879 | H7: =(D7*0.5)+(G7*0.5) -> 28067443 | I7: =H7/C7 -> 0.057241987 | J7: =H7*$I$47 -> 29604313 | K7: =J7/C7 -> 0.060376348
A8: 210008 | B8: Mercy Medical Cntr | C8: 7.6231138e+08 | D8: =E8*C8 -> 35188321 | E8: =VLOOKUP(A8,'FY25 RE Regulate'!$K$4:$P$47, 6, FALSE) -> 0.046160037 | F8: =VLOOKUP(A8,'UCC2027 Hospital Level Summary '!$B$4:$I$46,8,FALSE) -> 0.037002194 | G8: =F8*C8 -> 28207193 | H8: =(D8*0.5)+(G8*0.5) -> 31697757 | I8: =H8/C8 -> 0.041581115 | J8: =H8*$I$47 -> 33433410 | K8: =J8/C8 -> 0.043857945
A9: 210009 | B9: Johns Hopkins | C9: 3.5648492e+09 | D9: =E9*C9 -> 97276136 | E9: =VLOOKUP(A9,'FY25 RE Regulate'!$K$4:$P$47, 6, FALSE) -> 0.027287588 | F9: =VLOOKUP(A9,'UCC2027 Hospital Level Summary '!$B$4:$I$46,8,FALSE) -> 0.030872081 | G9: =F9*C9 -> 1.1005431e+08 | H9: =(D9*0.5)+(G9*0.5) -> 1.0366522e+08 | I9: =H9/C9 -> 0.029079834 | J9: =H9*$I$47 -> 1.0934155e+08 | K9: =J9/C9 -> 0.030672139
A10: 210011 | B10: St. Agnes Hospital | C10: 5.6720332e+08 | D10: =E10*C10 -> 31649024 | E10: =VLOOKUP(A10,'FY25 RE Regulate'!$K$4:$P$47, 6, FALSE) -> 0.055798376 | F10: =VLOOKUP(A10,'UCC2027 Hospital Level Summary '!$B$4:$I$46,8,FALSE) -> 0.050296835 | G10: =F10*C10 -> 28528532 | H10: =(D10*0.5)+(G10*0.5) -> 30088778 | I10: =H10/C10 -> 0.053047606 | J10: =H10*$I$47 -> 31736329 | K10: =J10/C10 -> 0.055952298
A11: 210012 | B11: Sinai Hospital | C11: 1.0399695e+09 | D11: =E11*C11 -> 31652112 | E11: =VLOOKUP(A11,'FY25 RE Regulate'!$K$4:$P$47, 6, FALSE) -> 0.030435617 | F11: =VLOOKUP(A11,'UCC2027 Hospital Level Summary '!$B$4:$I$46,8,FALSE) -> 0.026124108 | G11: =F11*C11 -> 27168275 | H11: =(D11*0.5)+(G11*0.5) -> 29410193 | I11: =H11/C11 -> 0.028279863 | J11: =H11*$I$47 -> 31020588 | K11: =J11/C11 -> 0.029828365
A12: 210015 | B12: MedStar Franklin Square | C12: 7.9269132e+08 | D12: =E12*C12 -> 28768819 | E12: =VLOOKUP(A12,'FY25 RE Regulate'!$K$4:$P$47, 6, FALSE) -> 0.036292587 | F12: =VLOOKUP(A12,'UCC2027 Hospital Level Summary '!$B$4:$I$46,8,FALSE) -> 0.031782398 | G12: =F12*C12 -> 25193631 | H12: =(D12*0.5)+(G12*0.5) -> 26981225 | I12: =H12/C12 -> 0.034037492 | J12: =H12*$I$47 -> 28458618 | K12: =J12/C12 -> 0.035901261
A13: 210016 | B13: Washington Adventist Hospital | C13: 4.8127036e+08 | D13: =E13*C13 -> 29574028 | E13: =VLOOKUP(A13,'FY25 RE Regulate'!$K$4:$P$47, 6, FALSE) -> 0.061449926 | F13: =VLOOKUP(A13,'UCC2027 Hospital Level Summary '!$B$4:$I$46,8,FALSE) -> 0.041471638 | G13: =F13*C13 -> 19959070 | H13: =(D13*0.5)+(G13*0.5) -> 24766549 | I13: =H13/C13 -> 0.051460782 | J13: =H13*$I$47 -> 26122674 | K13: =J13/C13 -> 0.054278586
A14: 210017 | B14: Garrett Co Memorial | C14: 1.0433949e+08 | D14: =E14*C14 -> 6039080.8 | E14: =VLOOKUP(A14,'FY25 RE Regulate'!$K$4:$P$47, 6, FALSE) -> 0.05787915 | F14: =VLOOKUP(A14,'UCC2027 Hospital Level Summary '!$B$4:$I$46,8,FALSE) -> 0.046474018 | G14: =F14*C14 -> 4849075.2 | H14: =(D14*0.5)+(G14*0.5) -> 5444078 | I14: =H14/C14 -> 0.052176584 | J14: =H14*$I$47 -> 5742175.8 | K14: =J14/C14 -> 0.055033582
A15: 210018 | B15: MedStar Montgomery | C15: 2.4887872e+08 | D15: =E15*C15 -> 10656712 | E15: =VLOOKUP(A15,'FY25 RE Regulate'!$K$4:$P$47, 6, FALSE) -> 0.042818897 | F15: =VLOOKUP(A15,'UCC2027 Hospital Level Summary '!$B$4:$I$46,8,FALSE) -> 0.032857351 | G15: =F15*C15 -> 8177495.6 | H15: =(D15*0.5)+(G15*0.5) -> 9417104 | I15: =H15/C15 -> 0.037838124 | J15: =H15*$I$47 -> 9932750.1 | K15: =J15/C15 -> 0.039910001
A16: 210019 | B16: Peninsula Regional | C16: 6.8810445e+08 | D16: =E16*C16 -> 32301612 | E16: =VLOOKUP(A16,'FY25 RE Regulate'!$K$4:$P$47, 6, FALSE) -> 0.04694289 | F16: =VLOOKUP(A16,'UCC2027 Hospital Level Summary '!$B$4:$I$46,8,FALSE) -> 0.040183435 | G16: =F16*C16 -> 27650400 | H16: =(D16*0.5)+(G16*0.5) -> 29976006 | I16: 0.040124794 | J16: =H16*$I$47 -> 31617382 | K16: =J16/C16 -> 0.045948522
A17: 210022 | B17: Suburban | C17: 4.9867828e+08 | D17: =E17*C17 -> 18242362 | E17: =VLOOKUP(A17,'FY25 RE Regulate'!$K$4:$P$47, 6, FALSE) -> 0.036581426 | F17: =VLOOKUP(A17,'UCC2027 Hospital Level Summary '!$B$4:$I$46,8,FALSE) -> 0.035722107 | G17: =F17*C17 -> 17813839 | H17: =(D17*0.5)+(G17*0.5) -> 18028100 | I17: =H17/C17 -> 0.036151766 | J17: =H17*$I$47 -> 19015253 | K17: =J17/C17 -> 0.038131304
A18: 210023 | B18: Anne Arundel Medical Cntr | C18: 8.5699687e+08 | D18: =E18*C18 -> 18166436 | E18: =VLOOKUP(A18,'FY25 RE Regulate'!$K$4:$P$47, 6, FALSE) -> 0.021197786 | F18: =VLOOKUP(A18,'UCC2027 Hospital Level Summary '!$B$4:$I$46,8,FALSE) -> 0.031894835 | G18: =F18*C18 -> 27333774 | H18: =(D18*0.5)+(G18*0.5) -> 22750105 | I18: =H18/C18 -> 0.026546311 | J18: =H18*$I$47 -> 23995818 | K18: =J18/C18 -> 0.02799989
A19: 210024 | B19: MedStar Union Memorial | C19: 5.4802436e+08 | D19: =E19*C19 -> 20404209 | E19: =VLOOKUP(A19,'FY25 RE Regulate'!$K$4:$P$47, 6, FALSE) -> 0.037232303 | F19: =VLOOKUP(A19,'UCC2027 Hospital Level Summary '!$B$4:$I$46,8,FALSE) -> 0.03207244 | G19: =F19*C19 -> 17576478 | H19: =(D19*0.5)+(G19*0.5) -> 18990344 | I19: =H19/C19 -> 0.034652372 | J19: =H19*$I$47 -> 20030186 | K19: =J19/C19 -> 0.036549809
A20: 210027 | B20: Western Maryland | C20: 4.1367983e+08 | D20: =E20*C20 -> 20787684 | E20: =VLOOKUP(A20,'FY25 RE Regulate'!$K$4:$P$47, 6, FALSE) -> 0.050250659 | F20: =VLOOKUP(A20,'UCC2027 Hospital Level Summary '!$B$4:$I$46,8,FALSE) -> 0.039301833 | G20: =F20*C20 -> 16258376 | H20: =(D20*0.5)+(G20*0.5) -> 18523030 | I20: =H20/C20 -> 0.044776246 | J20: =H20*$I$47 -> 19537283 | K20: =J20/C20 -> 0.047228029
A21: 210028 | B21: MedStar St. Mary's | C21: 2.6663599e+08 | D21: =E21*C21 -> 11136302 | E21: =VLOOKUP(A21,'FY25 RE Regulate'!$K$4:$P$47, 6, FALSE) -> 0.041765938 | F21: =VLOOKUP(A21,'UCC2027 Hospital Level Summary '!$B$4:$I$46,8,FALSE) -> 0.037127902 | G21: =F21*C21 -> 9899635 | H21: =(D21*0.5)+(G21*0.5) -> 10517969 | I21: =H21/C21 -> 0.03944692 | J21: =H21*$I$47 -> 11093894 | K21: =J21/C21 -> 0.041606889
A22: 210029 | B22: JH Bayview | C22: 8.9802553e+08 | D22: =E22*C22 -> 36966160 | E22: =VLOOKUP(A22,'FY25 RE Regulate'!$K$4:$P$47, 6, FALSE) -> 0.041163818 | F22: =VLOOKUP(A22,'UCC2027 Hospital Level Summary '!$B$4:$I$46,8,FALSE) -> 0.03685491 | G22: =F22*C22 -> 33096650 | H22: =(D22*0.5)+(G22*0.5) -> 35031405 | I22: =H22/C22 -> 0.039009364 | J22: =H22*$I$47 -> 36949596 | K22: =J22/C22 -> 0.041145374
A23: 210030 | B23: UM-SRH at Chestertown | C23: 59603159 | D23: =E23*C23 -> 3143163.7 | E23: =VLOOKUP(A23,'FY25 RE Regulate'!$K$4:$P$47, 6, FALSE) -> 0.052734851 | F23: =VLOOKUP(A23,'UCC2027 Hospital Level Summary '!$B$4:$I$46,8,FALSE) -> 0.043766068 | G23: =F23*C23 -> 2608595.9 | H23: =(D23*0.5)+(G23*0.5) -> 2875879.8 | I23: =H23/C23 -> 0.04825046 | J23: =H23*$I$47 -> 3033352.5 | K23: =J23/C23 -> 0.050892478
A24: 210032 | B24: Union Hospital of Cecil Co | C24: 2.2285926e+08 | D24: =E24*C24 -> 10908570 | E24: =VLOOKUP(A24,'FY25 RE Regulate'!$K$4:$P$47, 6, FALSE) -> 0.048948249 | F24: =VLOOKUP(A24,'UCC2027 Hospital Level Summary '!$B$4:$I$46,8,FALSE) -> 0.039123774 | G24: =F24*C24 -> 8719095 | H24: =(D24*0.5)+(G24*0.5) -> 9813832.6 | I24: =H24/C24 -> 0.044036011 | J24: =H24*$I$47 -> 10351202 | K24: =J24/C24 -> 0.046447262
A25: 210033 | B25: Carroll Co Hospital Cntr | C25: 3.0468134e+08 | D25: =E25*C25 -> 10236365 | E25: =VLOOKUP(A25,'FY25 RE Regulate'!$K$4:$P$47, 6, FALSE) -> 0.033596955 | F25: =VLOOKUP(A25,'UCC2027 Hospital Level Summary '!$B$4:$I$46,8,FALSE) -> 0.030691633 | G25: =F25*C25 -> 9351168 | H25: =(D25*0.5)+(G25*0.5) -> 9793766.6 | I25: =H25/C25 -> 0.032144294 | J25: =H25*$I$47 -> 10330037 | K25: =J25/C25 -> 0.033904398
A26: 210034 | B26: MedStar Harbor Hospital Cntr | C26: 2.4673026e+08 | D26: =E26*C26 -> 18047488 | E26: =VLOOKUP(A26,'FY25 RE Regulate'!$K$4:$P$47, 6, FALSE) -> 0.073146633 | F26: =VLOOKUP(A26,'UCC2027 Hospital Level Summary '!$B$4:$I$46,8,FALSE) -> 0.048233562 | G26: =F26*C26 -> 11900679 | H26: =(D26*0.5)+(G26*0.5) -> 14974083 | I26: =H26/C26 -> 0.060690097 | J26: =H26*$I$47 -> 15794009 | K26: =J26/C26 -> 0.064013265
A27: 210035 | B27: UM-Charles Regional | C27: 2.0508809e+08 | D27: =E27*C27 -> 14662624 | E27: =VLOOKUP(A27,'FY25 RE Regulate'!$K$4:$P$47, 6, FALSE) -> 0.071494272 | F27: =VLOOKUP(A27,'UCC2027 Hospital Level Summary '!$B$4:$I$46,8,FALSE) -> 0.048031042 | G27: =F27*C27 -> 9850594.6 | H27: =(D27*0.5)+(G27*0.5) -> 12256609 | I27: =H27/C27 -> 0.059762657 | J27: =H27*$I$47 -> 12927736 | K27: =J27/C27 -> 0.063035042
A28: 210037 | B28: UM-SRH at Easton | C28: 3.2227415e+08 | D28: =E28*C28 -> 12690537 | E28: =VLOOKUP(A28,'FY25 RE Regulate'!$K$4:$P$47, 6, FALSE) -> 0.039378081 | F28: =VLOOKUP(A28,'UCC2027 Hospital Level Summary '!$B$4:$I$46,8,FALSE) -> 0.033300102 | G28: =F28*C28 -> 10731762 | H28: =(D28*0.5)+(G28*0.5) -> 11711150 | I28: =H28/C28 -> 0.036339092 | J28: =H28*$I$47 -> 12352409 | K28: =J28/C28 -> 0.038328887
... A43: 210065 | B43: HC-Germantown | C43: 1.9898978e+08 | D43: =E43*C43 -> 11975854 | E43: =VLOOKUP(A43,'FY25 RE Regulate'!$K$4:$P$47, 6, FALSE) -> 0.060183259 | F43: =VLOOKUP(A43,'UCC2027 Hospital Level Summary '!$B$4:$I$46,8,FALSE) -> 0.051996328 | G43: =F43*C43 -> 10346738 | H43: =(D43*0.5)+(G43*0.5) -> 11161296 | I43: =H43/C43 -> 0.056089794 | J43: =H43*$I$47 -> 11772448 | K43: =J43/C43 -> 0.059161065
A45: Statewide | B45: Total | C45: =SUM(C3:C43) -> 2.2995315e+10 | D45: =SUBTOTAL(9,D3:D43) -> 9.1683019e+08 | E45: ='FY25 RE Regulate'!P49 -> 0.040109055 | F45: =VLOOKUP(A45,'UCC2027 Hospital Level Summary '!$B$4:$I$46,8,FALSE) -> 0.036213248 | G45: =SUBTOTAL(9,G3:G43) -> 8.3204835e+08 | H45: =SUBTOTAL(9,H3:H43) -> 8.7443927e+08 | I45: =H45/C45 -> 0.038026844 | J45: =SUBTOTAL(9,J3:J43) -> 9.2232036e+08 | K45: =J45/C45 -> 0.040109055
I47: =E45/I45 -> 1.0547563

Sheet UCC2027 Hospital Level Summary 
A1: FY2025 Predicted UCC
A3: ADJ_FAC | B3: HOSPID | C3: TOT_CHG | D3: TOTAL_WO | E3: PREDICTED_UCC | F3: PREDICTED_UCC_ADJUSTED | G3: PERCENT TOTAL_WO | H3: PERCENT PREDICTED UCC | I3: PERCENT PREDICTED UCC (ADJUSTED)
A4: 1.0598447 | B4: 210001 | C4: 5.3801838e+08 | D4: 26527952 | E4: 22411322 | F4: 23752521 | G4: =D4/C4 -> 0.049306777 | H4: =E4/C4 -> 0.041655309 | I4: =F4/C4 -> 0.04414816
A5: 1.0598447 | B5: 210002 | C5: 1.9628758e+09 | D5: 40340995 | E5: 50311537 | F5: 53322417 | G5: =D5/C5 -> 0.020551986 | H5: =E5/C5 -> 0.025631544 | I5: =F5/C5 -> 0.027165457
A6: 1.0598447 | B6: 210003 | C6: 4.7986861e+08 | D6: 27866963 | E6: 21503820 | F6: 22790710 | G6: =D6/C6 -> 0.058072069 | H6: =E6/C6 -> 0.04481189 | I6: =F6/C6 -> 0.047493645
A7: 1.0598447 | B7: 210004 | C7: 6.284004e+08 | D7: 31566556 | E7: 29596419 | F7: 31367608 | G7: =D7/C7 -> 0.05023319 | H7: =E7/C7 -> 0.047098027 | I7: =F7/C7 -> 0.049916595
A8: 1.0598447 | B8: 210005 | C8: 4.5849463e+08 | D8: 22141571 | E8: 21139197 | F8: 22404267 | G8: =D8/C8 -> 0.048291887 | H8: =E8/C8 -> 0.04610566 | I8: =F8/C8 -> 0.04886484
A9: 1.0598447 | B9: 210008 | C9: 7.173552e+08 | D9: 32305750 | E9: 25044911 | F9: 26543716 | G9: =D9/C9 -> 0.045034524 | H9: =E9/C9 -> 0.034912845 | I9: =F9/C9 -> 0.037002194
A10: 1.0598447 | B10: 210009 | C10: 3.2774604e+09 | D10: 80246553 | E10: 95468724 | F10: 1.0118202e+08 | G10: =D10/C10 -> 0.02448437 | H10: =E10/C10 -> 0.029128872 | I10: =F10/C10 -> 0.030872081
A11: 1.0598447 | B11: 210011 | C11: 5.4409022e+08 | D11: 28381834 | E11: 25820779 | F11: 27366016 | G11: =D11/C11 -> 0.052163837 | H11: =E11/C11 -> 0.047456796 | I11: =F11/C11 -> 0.050296835
A12: 1.0598447 | B12: 210012 | C12: 9.9464523e+08 | D12: 25146882 | E12: 24517007 | F12: 25984220 | G12: =D12/C12 -> 0.025282263 | H12: =E12/C12 -> 0.024648996 | I12: =F12/C12 -> 0.026124108
A13: 1.0598447 | B13: 210015 | C13: 7.4080346e+08 | D13: 25026287 | E13: 22215056 | F13: 23544510 | G13: =D13/C13 -> 0.033782627 | H13: =E13/C13 -> 0.029987787 | I13: =F13/C13 -> 0.031782398
A14: 1.0598447 | B14: 210016 | C14: 4.1308613e+08 | D14: 23125506 | E14: 16164027 | F14: 17131358 | G14: =D14/C14 -> 0.055982284 | H14: =E14/C14 -> 0.039129919 | I14: =F14/C14 -> 0.041471638
A15: 1.0598447 | B15: 210017 | C15: 98900206 | D15: 5248355.6 | E15: 4336757.9 | F15: 4596290 | G15: =D15/C15 -> 0.053067186 | H15: =E15/C15 -> 0.043849837 | I15: =F15/C15 -> 0.046474018
... A44: 1.0598447 | B44: 210065 | C44: 1.7903743e+08 | D44: 8998797.1 | E44: 8783634.6 | F44: 9309288.7 | G44: =D44/C44 -> 0.050262101 | H44: =E44/C44 -> 0.049060327 | I44: =F44/C44 -> 0.051996328
B46: Statewide | C46: =SUM(C4:C44) -> 2.1574123e+10 | D46: =SUM(D4:D44) -> 7.8126906e+08 | E46: =SUM(E4:E44) -> 7.3715428e+08 | F46: =SUM(F4:F44) -> 7.8126906e+08 | G46: =D46/C46 -> 0.036213248 | H46: =E46/C46 -> 0.034168447 | I46: =F46/C46 -> 0.036213248

Sheet FY25 RE Regulate
A1: FY2025 Actual UCC
A3: BASEYEAR | B3: HOSPNUMB | C3: HospName | D3: GREV_PAT | E3: BAD_DEBT | F3: CHARUNC | G3: Actual UCC | J3: BASEYEAR | K3: HOSPNUMB | L3: HospName | M3: GREV_PAT | N3: BAD_DEBT | O3: CHARUNC | P3: Actual UCC
A4: FY2025 | B4: 210001 | C4: Meritus Medical Center | D4: =VLOOKUP(B4,[1]REGULATED!$B$2:$F$58, 3, FALSE) -> 540426.1 | E4: =VLOOKUP(B4,[1]REGULATED!$B$2:$F$58, 4, FALSE) -> 5592.8 | F4: =VLOOKUP(B4,[1]REGULATED!$B$2:$F$58, 5, FALSE) -> 18587.7 | G4: =(F4+E4)/D4 -> 0.044743398 | J4: FY2025 | K4: 210001 | L4: Meritus | M4: =VLOOKUP(K4,[1]REGULATED!$B$2:$F$58, 3, FALSE) -> 540426.1 | N4: =VLOOKUP(K4,[1]REGULATED!$B$2:$F$58, 4, FALSE) -> 5592.8 | O4: =VLOOKUP(K4,[1]REGULATED!$B$2:$F$58, 5, FALSE) -> 18587.7 | P4: =(O4+N4)/M4 -> 0.044743398
A5: FY2025 | B5: 210002 | C5: UM Medical Center | D5: =VLOOKUP(B5,[1]REGULATED!$B$2:$F$58, 3, FALSE) -> 1998942.6 | E5: =VLOOKUP(B5,[1]REGULATED!$B$2:$F$58, 4, FALSE) -> 22654.337 | F5: =VLOOKUP(B5,[1]REGULATED!$B$2:$F$58, 5, FALSE) -> 20378 | G5: =(F5+E5)/D5 -> 0.02152755 | J5: FY2025 | K5: 210002 | L5: UMMS- UMMC | M5: =VLOOKUP(K5,[1]REGULATED!$B$2:$F$58, 3, FALSE) -> 1998942.6 | N5: =VLOOKUP(K5,[1]REGULATED!$B$2:$F$58, 4, FALSE) -> 22654.337 | O5: =VLOOKUP(K5,[1]REGULATED!$B$2:$F$58, 5, FALSE) -> 20378 | P5: =(O5+N5)/M5 -> 0.02152755
A6: FY2025 | B6: 210003 | C6: UM Capital Region Medical Center | D6: =VLOOKUP(B6,[1]REGULATED!$B$2:$F$58, 3, FALSE) -> 484325.11 | E6: =VLOOKUP(B6,[1]REGULATED!$B$2:$F$58, 4, FALSE) -> 25138 | F6: =VLOOKUP(B6,[1]REGULATED!$B$2:$F$58, 5, FALSE) -> 5791 | G6: =(F6+E6)/D6 -> 0.063859997 | J6: FY2025 | K6: 210003 | L6: UMMS- Capital Region | M6: =VLOOKUP(K6,[1]REGULATED!$B$2:$F$58, 3, FALSE) -> 484325.11 | N6: =VLOOKUP(K6,[1]REGULATED!$B$2:$F$58, 4, FALSE) -> 25138 | O6: =VLOOKUP(K6,[1]REGULATED!$B$2:$F$58, 5, FALSE) -> 5791 | P6: =(O6+N6)/M6 -> 0.063859997
A7: FY2025 | B7: 210004 | C7: Holy Cross Hospital | D7: =VLOOKUP(B7,[1]REGULATED!$B$2:$F$58, 3, FALSE) -> 638008.06 | E7: =VLOOKUP(B7,[1]REGULATED!$B$2:$F$58, 4, FALSE) -> 9546.4594 | F7: =VLOOKUP(B7,[1]REGULATED!$B$2:$F$58, 5, FALSE) -> 28798.998 | G7: =(F7+E7)/D7 -> 0.060101839 | J7: FY2025 | K7: 210004 | L7: Trinity - Holy Cross | M7: =VLOOKUP(K7,[1]REGULATED!$B$2:$F$58, 3, FALSE) -> 638008.06 | N7: =VLOOKUP(K7,[1]REGULATED!$B$2:$F$58, 4, FALSE) -> 9546.4594 | O7: =VLOOKUP(K7,[1]REGULATED!$B$2:$F$58, 5, FALSE) -> 28798.998 | P7: =(O7+N7)/M7 -> 0.060101839
A8: FY2025 | B8: 210005 | C8: Frederick Health Hospital | D8: =VLOOKUP(B8,[1]REGULATED!$B$2:$F$58, 3, FALSE) -> 464628.2 | E8: =VLOOKUP(B8,[1]REGULATED!$B$2:$F$58, 4, FALSE) -> 15402.7 | F8: =VLOOKUP(B8,[1]REGULATED!$B$2:$F$58, 5, FALSE) -> 15085.8 | G8: =(F8+E8)/D8 -> 0.065619134 | J8: FY2025 | K8: 210005 | L8: Frederick | M8: =VLOOKUP(K8,[1]REGULATED!$B$2:$F$58, 3, FALSE) -> 464628.2 | N8: =VLOOKUP(K8,[1]REGULATED!$B$2:$F$58, 4, FALSE) -> 15402.7 | O8: =VLOOKUP(K8,[1]REGULATED!$B$2:$F$58, 5, FALSE) -> 15085.8 | P8: =(O8+N8)/M8 -> 0.065619134
A9: FY2025 | B9: 210006 | C9: UM Upper Chesapeake Medical Center -Aberdeen | D9: =VLOOKUP(B9,[1]REGULATED!$B$2:$F$58, 3, FALSE) -> 38346.876 | E9: =VLOOKUP(B9,[1]REGULATED!$B$2:$F$58, 4, FALSE) -> 2112 | F9: =VLOOKUP(B9,[1]REGULATED!$B$2:$F$58, 5, FALSE) -> 415 | G9: =(F9+E9)/D9 -> 0.065898458 | H9: Exclude | J9: FY2025 | K9: 210008 | L9: Mercy | M9: =VLOOKUP(K9,[1]REGULATED!$B$2:$F$58, 3, FALSE) -> 717488.1 | N9: =VLOOKUP(K9,[1]REGULATED!$B$2:$F$58, 4, FALSE) -> 5585.276 | O9: =VLOOKUP(K9,[1]REGULATED!$B$2:$F$58, 5, FALSE) -> 27534.001 | P9: =(O9+N9)/M9 -> 0.046160037
A10: FY2025 | B10: 210008 | C10: Mercy Medical Center | D10: =VLOOKUP(B10,[1]REGULATED!$B$2:$F$58, 3, FALSE) -> 717488.1 | E10: =VLOOKUP(B10,[1]REGULATED!$B$2:$F$58, 4, FALSE) -> 5585.276 | F10: =VLOOKUP(B10,[1]REGULATED!$B$2:$F$58, 5, FALSE) -> 27534.001 | G10: =(F10+E10)/D10 -> 0.046160037 | J10: FY2025 | K10: 210009 | L10: JHH- Johns Hopkins | M10: =VLOOKUP(K10,[1]REGULATED!$B$2:$F$58, 3, FALSE) -> 3311615.6 | N10: =VLOOKUP(K10,[1]REGULATED!$B$2:$F$58, 4, FALSE) -> 32284 | O10: =VLOOKUP(K10,[1]REGULATED!$B$2:$F$58, 5, FALSE) -> 58082 | P10: =(O10+N10)/M10 -> 0.027287588
A11: FY2025 | B11: 210009 | C11: Johns Hopkins Hospital | D11: =VLOOKUP(B11,[1]REGULATED!$B$2:$F$58, 3, FALSE) -> 3311615.6 | E11: =VLOOKUP(B11,[1]REGULATED!$B$2:$F$58, 4, FALSE) -> 32284 | F11: =VLOOKUP(B11,[1]REGULATED!$B$2:$F$58, 5, FALSE) -> 58082 | G11: =(F11+E11)/D11 -> 0.027287588 | J11: FY2025 | K11: 210011 | L11: Saint Agnes | M11: =VLOOKUP(K11,[1]REGULATED!$B$2:$F$58, 3, FALSE) -> 568926.8 | N11: =VLOOKUP(K11,[1]REGULATED!$B$2:$F$58, 4, FALSE) -> 10705.792 | O11: =VLOOKUP(K11,[1]REGULATED!$B$2:$F$58, 5, FALSE) -> 21039.4 | P11: =(O11+N11)/M11 -> 0.055798376
A12: FY2025 | B12: 210010 | C12: UM Shore Regional Health at Cambridge | D12: =VLOOKUP(B12,[1]REGULATED!$B$2:$F$58, 3, FALSE) -> 17496.641 | E12: =VLOOKUP(B12,[1]REGULATED!$B$2:$F$58, 4, FALSE) -> 1117 | F12: =VLOOKUP(B12,[1]REGULATED!$B$2:$F$58, 5, FALSE) -> 492 | G12: =(F12+E12)/D12 -> 0.09196051 | H12: Exclude | J12: FY2025 | K12: 210012 | L12: Lifebridge- Sinai | M12: =VLOOKUP(K12,[1]REGULATED!$B$2:$F$58, 3, FALSE) -> 994389.63 | N12: =VLOOKUP(K12,[1]REGULATED!$B$2:$F$58, 4, FALSE) -> 12720.462 | O12: =VLOOKUP(K12,[1]REGULATED!$B$2:$F$58, 5, FALSE) -> 17544.4 | P12: =(O12+N12)/M12 -> 0.030435617
A13: FY2025 | B13: 210011 | C13: Ascension St. Agnes Hospital | D13: =VLOOKUP(B13,[1]REGULATED!$B$2:$F$58, 3, FALSE) -> 568926.8 | E13: =VLOOKUP(B13,[1]REGULATED!$B$2:$F$58, 4, FALSE) -> 10705.792 | F13: =VLOOKUP(B13,[1]REGULATED!$B$2:$F$58, 5, FALSE) -> 21039.4 | G13: =(F13+E13)/D13 -> 0.055798376 | J13: FY2025 | K13: 210015 | L13: MedStar- Franklin Square | M13: =VLOOKUP(K13,[1]REGULATED!$B$2:$F$58, 3, FALSE) -> 743866.3 | N13: =VLOOKUP(K13,[1]REGULATED!$B$2:$F$58, 4, FALSE) -> 7043.7741 | O13: =VLOOKUP(K13,[1]REGULATED!$B$2:$F$58, 5, FALSE) -> 19953.058 | P13: =(O13+N13)/M13 -> 0.036292587
A14: FY2025 | B14: 210012 | C14: LifeBridge Health Sinai Hospital | D14: =VLOOKUP(B14,[1]REGULATED!$B$2:$F$58, 3, FALSE) -> 994389.63 | E14: =VLOOKUP(B14,[1]REGULATED!$B$2:$F$58, 4, FALSE) -> 12720.462 | F14: =VLOOKUP(B14,[1]REGULATED!$B$2:$F$58, 5, FALSE) -> 17544.4 | G14: =(F14+E14)/D14 -> 0.030435617 | J14: CY2025 | K14: 210016 | L14: Adventist White Oak Medical Center | M14: =VLOOKUP(K14,[1]REGULATED!$B$2:$F$58, 3, FALSE) -> 449898.83 | N14: =VLOOKUP(K14,[1]REGULATED!$B$2:$F$58, 4, FALSE) -> 22398.367 | O14: =VLOOKUP(K14,[1]REGULATED!$B$2:$F$58, 5, FALSE) -> 5247.8828 | P14: =(O14+N14)/M14 -> 0.061449926
A15: FY2025 | B15: 210013 | C15: LifeBridge Health Grace Medical Center | D15: =VLOOKUP(B15,[1]REGULATED!$B$2:$F$58, 3, FALSE) -> 34392.859 | E15: =VLOOKUP(B15,[1]REGULATED!$B$2:$F$58, 4, FALSE) -> 1421.271 | F15: =VLOOKUP(B15,[1]REGULATED!$B$2:$F$58, 5, FALSE) -> 1416.749 | G15: =(F15+E15)/D15 -> 0.082517711 | H15: Exclude | J15: CY2026 | K15: 210017 | L15: Garrett Co Memorial | M15: =VLOOKUP(K15,[1]REGULATED!$B$2:$F$58, 3, FALSE) -> 103987.85 | N15: =VLOOKUP(K15,[1]REGULATED!$B$2:$F$58, 4, FALSE) -> 2501.316 | O15: =VLOOKUP(K15,[1]REGULATED!$B$2:$F$58, 5, FALSE) -> 3517.4123 | P15: =(O15+N15)/M15 -> 0.05787915
A16: FY2025 | B16: 210015 | C16: MedStar Franklin Square Hospital | D16: =VLOOKUP(B16,[1]REGULATED!$B$2:$F$58, 3, FALSE) -> 743866.3 | E16: =VLOOKUP(B16,[1]REGULATED!$B$2:$F$58, 4, FALSE) -> 7043.7741 | F16: =VLOOKUP(B16,[1]REGULATED!$B$2:$F$58, 5, FALSE) -> 19953.058 | G16: =(F16+E16)/D16 -> 0.036292587 | J16: FY2025 | K16: 210018 | L16: MedStar- Montgomery | M16: =VLOOKUP(K16,[1]REGULATED!$B$2:$F$58, 3, FALSE) -> 241848.93 | N16: =VLOOKUP(K16,[1]REGULATED!$B$2:$F$58, 4, FALSE) -> 3661.7543 | O16: =VLOOKUP(K16,[1]REGULATED!$B$2:$F$58, 5, FALSE) -> 6693.95 | P16: =(O16+N16)/M16 -> 0.042818897
A17: CY2025 | B17: 210016 | C17: Adventist White Oak Medical Center | D17: =VLOOKUP(B17,[1]REGULATED!$B$2:$F$58, 3, FALSE) -> 449898.83 | E17: =VLOOKUP(B17,[1]REGULATED!$B$2:$F$58, 4, FALSE) -> 22398.367 | F17: =VLOOKUP(B17,[1]REGULATED!$B$2:$F$58, 5, FALSE) -> 5247.8828 | G17: =(F17+E17)/D17 -> 0.061449926 | J17: FY2025 | K17: 210019 | L17: Tidal- Peninsula | M17: =VLOOKUP(K17,[1]REGULATED!$B$2:$F$58, 3, FALSE) -> 650222 | N17: =VLOOKUP(K17,[1]REGULATED!$B$2:$F$58, 4, FALSE) -> 15251.1 | O17: =VLOOKUP(K17,[1]REGULATED!$B$2:$F$58, 5, FALSE) -> 15272.2 | P17: =(O17+N17)/M17 -> 0.04694289
A18: CY2025 | B18: 210017 | C18: Garrett Co Memorial | D18: =VLOOKUP(B18,[1]REGULATED!$B$2:$F$58, 3, FALSE) -> 103987.85 | E18: =VLOOKUP(B18,[1]REGULATED!$B$2:$F$58, 4, FALSE) -> 2501.316 | F18: =VLOOKUP(B18,[1]REGULATED!$B$2:$F$58, 5, FALSE) -> 3517.4123 | G18: =(F18+E18)/D18 -> 0.05787915 | J18: FY2025 | K18: 210022 | L18: JHH- Suburban | M18: =VLOOKUP(K18,[1]REGULATED!$B$2:$F$58, 3, FALSE) -> 465603.38 | N18: =VLOOKUP(K18,[1]REGULATED!$B$2:$F$58, 4, FALSE) -> 8415.9572 | O18: =VLOOKUP(K18,[1]REGULATED!$B$2:$F$58, 5, FALSE) -> 8616.4784 | P18: =(O18+N18)/M18 -> 0.036581426
A19: FY2025 | B19: 210018 | C19: Medstar Montgomery Medical Center | D19: =VLOOKUP(B19,[1]REGULATED!$B$2:$F$58, 3, FALSE) -> 241848.93 | E19: =VLOOKUP(B19,[1]REGULATED!$B$2:$F$58, 4, FALSE) -> 3661.7543 | F19: =VLOOKUP(B19,[1]REGULATED!$B$2:$F$58, 5, FALSE) -> 6693.95 | G19: =(F19+E19)/D19 -> 0.042818897 | J19: FY2025 | K19: 210023 | L19: Luminis- Anne Arundel | M19: =VLOOKUP(K19,[1]REGULATED!$B$2:$F$58, 3, FALSE) -> 791316.59 | N19: =VLOOKUP(K19,[1]REGULATED!$B$2:$F$58, 4, FALSE) -> 11811.193 | O19: =VLOOKUP(K19,[1]REGULATED!$B$2:$F$58, 5, FALSE) -> 4962.9667 | P19: =(O19+N19)/M19 -> 0.021197786
A20: FY2025 | B20: 210019 | C20: TidalHealth Peninsula Regional | D20: =VLOOKUP(B20,[1]REGULATED!$B$2:$F$58, 3, FALSE) -> 650222 | E20: =VLOOKUP(B20,[1]REGULATED!$B$2:$F$58, 4, FALSE) -> 15251.1 | F20: =VLOOKUP(B20,[1]REGULATED!$B$2:$F$58, 5, FALSE) -> 15272.2 | G20: =(F20+E20)/D20 -> 0.04694289 | J20: FY2025 | K20: 210024 | L20: MedStar- Union Mem | M20: =VLOOKUP(K20,[1]REGULATED!$B$2:$F$58, 3, FALSE) -> 524653.15 | N20: =VLOOKUP(K20,[1]REGULATED!$B$2:$F$58, 4, FALSE) -> 5389.358 | O20: =VLOOKUP(K20,[1]REGULATED!$B$2:$F$58, 5, FALSE) -> 14144.687 | P20: =(O20+N20)/M20 -> 0.037232303
A21: FY2025 | B21: 210022 | C21: Johns Hopkins Suburban Hospital | D21: =VLOOKUP(B21,[1]REGULATED!$B$2:$F$58, 3, FALSE) -> 465603.38 | E21: =VLOOKUP(B21,[1]REGULATED!$B$2:$F$58, 4, FALSE) -> 8415.9572 | F21: =VLOOKUP(B21,[1]REGULATED!$B$2:$F$58, 5, FALSE) -> 8616.4784 | G21: =(F21+E21)/D21 -> 0.036581426 | J21: CY2025 | K21: 210027 | L21: UPMC Western Maryland | M21: =VLOOKUP(K21,[1]REGULATED!$B$2:$F$58, 3, FALSE) -> 418657.2 | N21: =VLOOKUP(K21,[1]REGULATED!$B$2:$F$58, 4, FALSE) -> 2290 | O21: =VLOOKUP(K21,[1]REGULATED!$B$2:$F$58, 5, FALSE) -> 18747.8 | P21: =(O21+N21)/M21 -> 0.050250659
A22: FY2025 | B22: 210023 | C22: Luminis Health Anne Arundel Medical Center | D22: =VLOOKUP(B22,[1]REGULATED!$B$2:$F$58, 3, FALSE) -> 791316.59 | E22: =VLOOKUP(B22,[1]REGULATED!$B$2:$F$58, 4, FALSE) -> 11811.193 | F22: =VLOOKUP(B22,[1]REGULATED!$B$2:$F$58, 5, FALSE) -> 4962.9667 | G22: =(F22+E22)/D22 -> 0.021197786 | J22: FY2025 | K22: 210028 | L22: MedStar- St. Mary's | M22: =VLOOKUP(K22,[1]REGULATED!$B$2:$F$58, 3, FALSE) -> 256129.03 | N22: =VLOOKUP(K22,[1]REGULATED!$B$2:$F$58, 4, FALSE) -> 4531.537 | O22: =VLOOKUP(K22,[1]REGULATED!$B$2:$F$58, 5, FALSE) -> 6165.9321 | P22: =(O22+N22)/M22 -> 0.041765938
A23: FY2025 | B23: 210024 | C23: Medstar Union Memorial Hospital | D23: =VLOOKUP(B23,[1]REGULATED!$B$2:$F$58, 3, FALSE) -> 524653.15 | E23: =VLOOKUP(B23,[1]REGULATED!$B$2:$F$58, 4, FALSE) -> 5389.358 | F23: =VLOOKUP(B23,[1]REGULATED!$B$2:$F$58, 5, FALSE) -> 14144.687 | G23: =(F23+E23)/D23 -> 0.037232303 | J23: FY2025 | K23: 210029 | L23: JHH- Bayview | M23: =VLOOKUP(K23,[1]REGULATED!$B$2:$F$58, 3, FALSE) -> 867460.83 | N23: =VLOOKUP(K23,[1]REGULATED!$B$2:$F$58, 4, FALSE) -> 13854 | O23: =VLOOKUP(K23,[1]REGULATED!$B$2:$F$58, 5, FALSE) -> 21854 | P23: =(O23+N23)/M23 -> 0.041163818
A24: CY2025 | B24: 210027 | C24: UPMC Western Maryland | D24: =VLOOKUP(B24,[1]REGULATED!$B$2:$F$58, 3, FALSE) -> 418657.2 | E24: =VLOOKUP(B24,[1]REGULATED!$B$2:$F$58, 4, FALSE) -> 2290 | F24: =VLOOKUP(B24,[1]REGULATED!$B$2:$F$58, 5, FALSE) -> 18747.8 | G24: =(F24+E24)/D24 -> 0.050250659 | J24: FY2025 | K24: 210030 | L24: UMMS- Chestertown | M24: =VLOOKUP(K24,[1]REGULATED!$B$2:$F$58, 3, FALSE) -> 59088.059 | N24: =VLOOKUP(K24,[1]REGULATED!$B$2:$F$58, 4, FALSE) -> 2607 | O24: =VLOOKUP(K24,[1]REGULATED!$B$2:$F$58, 5, FALSE) -> 509 | P24: =(O24+N24)/M24 -> 0.052734851
A25: FY2025 | B25: 210028 | C25: Medstar St. Mary's Hospital | D25: =VLOOKUP(B25,[1]REGULATED!$B$2:$F$58, 3, FALSE) -> 256129.03 | E25: =VLOOKUP(B25,[1]REGULATED!$B$2:$F$58, 4, FALSE) -> 4531.537 | F25: =VLOOKUP(B25,[1]REGULATED!$B$2:$F$58, 5, FALSE) -> 6165.9321 | G25: =(F25+E25)/D25 -> 0.041765938 | J25: FY2025 | K25: 210032 | L25: ChristianaCare, Union | M25: =VLOOKUP(K25,[1]REGULATED!$B$2:$F$58, 3, FALSE) -> 212930.73 | N25: =VLOOKUP(K25,[1]REGULATED!$B$2:$F$58, 4, FALSE) -> 6906.7841 | O25: =VLOOKUP(K25,[1]REGULATED!$B$2:$F$58, 5, FALSE) -> 3515.802 | P25: =(O25+N25)/M25 -> 0.048948249
A26: FY2025 | B26: 210029 | C26: Johns Hopkins Bayview Medical Center | D26: =VLOOKUP(B26,[1]REGULATED!$B$2:$F$58, 3, FALSE) -> 867460.83 | E26: =VLOOKUP(B26,[1]REGULATED!$B$2:$F$58, 4, FALSE) -> 13854 | F26: =VLOOKUP(B26,[1]REGULATED!$B$2:$F$58, 5, FALSE) -> 21854 | G26: =(F26+E26)/D26 -> 0.041163818 | J26: FY2025 | K26: 210033 | L26: Lifebridge- Carroll | M26: =VLOOKUP(K26,[1]REGULATED!$B$2:$F$58, 3, FALSE) -> 290567.44 | N26: =VLOOKUP(K26,[1]REGULATED!$B$2:$F$58, 4, FALSE) -> 4583.932 | O26: =VLOOKUP(K26,[1]REGULATED!$B$2:$F$58, 5, FALSE) -> 5178.249 | P26: =(O26+N26)/M26 -> 0.033596955
A27: FY2025 | B27: 210030 | C27: UM Shore Regional Health at Chestertown | D27: =VLOOKUP(B27,[1]REGULATED!$B$2:$F$58, 3, FALSE) -> 59088.059 | E27: =VLOOKUP(B27,[1]REGULATED!$B$2:$F$58, 4, FALSE) -> 2607 | F27: =VLOOKUP(B27,[1]REGULATED!$B$2:$F$58, 5, FALSE) -> 509 | G27: =(F27+E27)/D27 -> 0.052734851 | J27: FY2025 | K27: 210034 | L27: MedStar- Harbor | M27: =VLOOKUP(K27,[1]REGULATED!$B$2:$F$58, 3, FALSE) -> 241447.81 | N27: =VLOOKUP(K27,[1]REGULATED!$B$2:$F$58, 4, FALSE) -> 4553.5109 | O27: =VLOOKUP(K27,[1]REGULATED!$B$2:$F$58, 5, FALSE) -> 13107.584 | P27: =(O27+N27)/M27 -> 0.073146633
... A47: FY2025 | B47: 210061 | C47: Atlantic General Hospital | D47: =VLOOKUP(B47,[1]REGULATED!$B$2:$F$58, 3, FALSE) -> 140018.93 | E47: =VLOOKUP(B47,[1]REGULATED!$B$2:$F$58, 4, FALSE) -> 5039.683 | F47: =VLOOKUP(B47,[1]REGULATED!$B$2:$F$58, 5, FALSE) -> 661.308 | G47: =(F47+E47)/D47 -> 0.040715859 | J47: FY2025 | K47: 218992 | L47: UM-Shock Trauma | M47: =VLOOKUP(K47,[1]REGULATED!$B$2:$F$58, 3, FALSE) -> 285922.1 | N47: =VLOOKUP(K47,[1]REGULATED!$B$2:$F$58, 4, FALSE) -> 6227 | O47: =VLOOKUP(K47,[1]REGULATED!$B$2:$F$58, 5, FALSE) -> 6357 | P47: =(O47+N47)/M47 -> 0.044011988
A48: FY2025 | B48: 210062 | C48: Medstar Southern Maryland Hospital Center | D48: =VLOOKUP(B48,[1]REGULATED!$B$2:$F$58, 3, FALSE) -> 361328.38 | E48: =VLOOKUP(B48,[1]REGULATED!$B$2:$F$58, 4, FALSE) -> 6241.6962 | F48: =VLOOKUP(B48,[1]REGULATED!$B$2:$F$58, 5, FALSE) -> 12917.681 | G48: =(F48+E48)/D48 -> 0.053024833
A49: FY2025 | B49: 210063 | C49: UM St. Joseph Medical Center | D49: =VLOOKUP(B49,[1]REGULATED!$B$2:$F$58, 3, FALSE) -> 506646.5 | E49: =VLOOKUP(B49,[1]REGULATED!$B$2:$F$58, 4, FALSE) -> 11147.533 | F49: =VLOOKUP(B49,[1]REGULATED!$B$2:$F$58, 5, FALSE) -> 5286.2761 | G49: =(F49+E49)/D49 -> 0.032436441 | K49: Statewide | L49: Statewide | M49: =SUM(M4:M47) -> 22318561 | N49: =SUM(N4:N47) -> 412463.44 | O49: =SUM(O4:O47) -> 482712.96 | P49: =(N49+O49)/M49 -> 0.040109055
A50: FY2025 | B50: 210064 | C50: LifeBridge Health Levindale | D50: =VLOOKUP(B50,[1]REGULATED!$B$2:$F$58, 3, FALSE) -> 70446.064 | E50: =VLOOKUP(B50,[1]REGULATED!$B$2:$F$58, 4, FALSE) -> -1909.535 | F50: =VLOOKUP(B50,[1]REGULATED!$B$2:$F$58, 5, FALSE) -> 6162.812 | G50: =(F50+E50)/D50 -> 0.060376361
A51: FY2025 | B51: 210065 | C51: Holy Cross Hospital Germantown | D51: =VLOOKUP(B51,[1]REGULATED!$B$2:$F$58, 3, FALSE) -> 180505.38 | E51: =VLOOKUP(B51,[1]REGULATED!$B$2:$F$58, 4, FALSE) -> 4482.0039 | F51: =VLOOKUP(B51,[1]REGULATED!$B$2:$F$58, 5, FALSE) -> 6381.3981 | G51: =(F51+E51)/D51 -> 0.060183259
A52: FY2025 | B52: 210087 | C52: Adventist Germantown ED | D52: =VLOOKUP(B52,[1]REGULATED!$B$2:$F$58, 3, FALSE) -> 22558.764 | E52: =VLOOKUP(B52,[1]REGULATED!$B$2:$F$58, 4, FALSE) -> 3125.867 | F52: =VLOOKUP(B52,[1]REGULATED!$B$2:$F$58, 5, FALSE) -> 2274.493 | G52: =(F52+E52)/D52 -> 0.23939078
A53: FY2025 | B53: 210088 | C53: UM Queen Anne's Freestanding Emergency | D53: =VLOOKUP(B53,[1]REGULATED!$B$2:$F$58, 3, FALSE) -> 9274.921 | E53: =VLOOKUP(B53,[1]REGULATED!$B$2:$F$58, 4, FALSE) -> 832 | F53: =VLOOKUP(B53,[1]REGULATED!$B$2:$F$58, 5, FALSE) -> 113 | G53: =(F53+E53)/D53 -> 0.10188766
A54: FY2025 | B54: 210333 | C54: UM Bowie Health Center | D54: =VLOOKUP(B54,[1]REGULATED!$B$2:$F$58, 3, FALSE) -> 24873.23 | E54: =VLOOKUP(B54,[1]REGULATED!$B$2:$F$58, 4, FALSE) -> 4042 | F54: =VLOOKUP(B54,[1]REGULATED!$B$2:$F$58, 5, FALSE) -> 381 | G54: =(F54+E54)/D54 -> 0.1778217
A55: FY2025 | B55: 213300 | C55: UM Mt. Washington Pediatric Hospital | D55: =VLOOKUP(B55,[1]REGULATED!$B$2:$F$58, 3, FALSE) -> 76855.132 | E55: =VLOOKUP(B55,[1]REGULATED!$B$2:$F$58, 4, FALSE) -> 653.1055 | F55: =VLOOKUP(B55,[1]REGULATED!$B$2:$F$58, 5, FALSE) -> 376.6914 | G55: =(F55+E55)/D55 -> 0.013399195
A56: FY2025 | B56: 214000 | C56: Sheppard & Enoch Pratt Hospital | D56: =VLOOKUP(B56,[1]REGULATED!$B$2:$F$58, 3, FALSE) -> 217367.05 | E56: =VLOOKUP(B56,[1]REGULATED!$B$2:$F$58, 4, FALSE) -> 405.4772 | F56: =VLOOKUP(B56,[1]REGULATED!$B$2:$F$58, 5, FALSE) -> 9652.282 | G56: =(F56+E56)/D56 -> 0.046270854
A57: FY2025 | B57: 214003 | C57: Brook lane | D57: =VLOOKUP(B57,[1]REGULATED!$B$2:$F$58, 3, FALSE) -> 30901.2 | E57: =VLOOKUP(B57,[1]REGULATED!$B$2:$F$58, 4, FALSE) -> 172.5 | F57: =VLOOKUP(B57,[1]REGULATED!$B$2:$F$58, 5, FALSE) -> 808 | G57: =(F57+E57)/D57 -> 0.031730159
A58: FY2025 | B58: 214020 | C58: Luminis Health J. Kent McNew Family Medical Center | D58: =VLOOKUP(B58,[1]REGULATED!$B$2:$F$58, 3, FALSE) -> 10295.888 | E58: =VLOOKUP(B58,[1]REGULATED!$B$2:$F$58, 4, FALSE) -> 860.3 | F58: =VLOOKUP(B58,[1]REGULATED!$B$2:$F$58, 5, FALSE) -> 69.4 | G58: =(F58+E58)/D58 -> 0.090298189
A59: FY2025 | B59: 214022 | C59: UM Behavioral Health Pavilion - Aberdeen | D59: =VLOOKUP(B59,[1]REGULATED!$B$2:$F$58, 3, FALSE) -> 28720.775 | E59: =VLOOKUP(B59,[1]REGULATED!$B$2:$F$58, 4, FALSE) -> 502 | F59: =VLOOKUP(B59,[1]REGULATED!$B$2:$F$58, 5, FALSE) -> 307 | G59: =(F59+E59)/D59 -> 0.028167764
A60: FY2025 | B60: 218992 | C60: UM Shock Trauma | D60: =VLOOKUP(B60,[1]REGULATED!$B$2:$F$58, 3, FALSE) -> 285922.1 | E60: =VLOOKUP(B60,[1]REGULATED!$B$2:$F$58, 4, FALSE) -> 6227 | F60: =VLOOKUP(B60,[1]REGULATED!$B$2:$F$58, 5, FALSE) -> 6357 | G60: =(F60+E60)/D60 -> 0.044011988
...
