Workbook

Sheet Sheet1
A1: New or Revised Edit - In Production this FY
A2: Existing Edit
A3: N/A

Sheet Data Submission Instructions
A1: Outpatient Data Submission Format
A3: A. | B3: For each patient, the data elements form 3 records, each could be variable in record length.
B4: • | C4: One Type 1 record: Patient/Payer/Provider Demographic Data
B5: • | C5: One Type 2 record: Clinical Data
B6: • | C6: Multiple Type 3 records: Financial/Billing Data
C7: • | D7: Each Type 3 record can hold up to 10 occurrences of revenue data.
C8: • | D8: The last occurrence of revenue data shall contain the total charges for the patient.
C9: • | D9: The Bill Type, Occurrence Span Code and Date, and Condition Codes shall only be reported in the first Type 3 Record
B11: The record type is always identified as the 6th data element of each record.
A13: B. | B13: The data is required to have a "PIPE" delimiter (a.k.a. "BAR") between each data element.
B14: This delimiter is NOT required at the end of the record.
B15: The "BAR" delimiter is the character "|", which is above the Backslash key.
A17: C. | B17: Alphabetical characters (A-Z) may only be used for the following data elements:
B18: • | C18: Primary, Secondary and E-Code Diagnosis Codes
B19: • | C19: Primary and Secondary Procedure Codes
B20: • | C20: Reserve Flag Fields
B21: • | C21: Alternative Rate Case Identifier
B22: • | C22: Preferred Other Language
B23: • | C23: Provider Specific Admission Source and Discharge Disposition
B24: • | C24: Ambulance Run Number
B25: • | C25: Country of Origin
A27: D. | B27: The following data elements are character (LEADING ZEROES WILL BE ADDED DURING PROCESSING TO THESE FIELDS TO FILL TO MAXIMUM LENGTH):
B28: • | C28: Medical Record Number
B29: • | C29: Patient Account Number
B30: • | C30: MD Medicaid ID Number
B31: • | C31: Patient Zip Code
B32: • | C32: Primary and Secondary Health Plan Payer
B33: • | C33: Primary and Secondary Expected Payer
B34: • | C34: Major Service and Special Care Unit Stays
B35: • | C35: Type of Daily Hospital Service
B36: • | C36: Operating and Attending NPI
B37: • | C37: Ambulance Run Number
B38: • | C38: Preferred Language Codes
B39: • | C39: UB-04 Codes
A41: E. | B41: The following date variables are to be reported in the MMDDYYYY format:
B42: • | C42: Admission and Discharge Dates
B43: • | C43: Date of Birth
B44: • | C44: Procedure Dates
B45: • | C45: Date of Service
A47: F. | B47: Decimal points may only be used with revenue/charge data.
...

Sheet Revision Log
A1: Revised on | B1: Applicable in production environment from | C1: Change
A2: 46203 | B2: 46296 | C2: New FY27 DSR, Filter tabs Record Type 1, Record Type 2, Record Type 3 or Record Type 4 on column I (Edit Status: New Edit - In Production this FY, Existing Edit or N/A) to 'New Edit - In Production this FY' to review the new/update rules: - MedChi variables are removed and DoNotFill placeholder variables added in their place -Converted EDTIAGE and EDTRIAGE2 variables warning to error -SOGI variables- converted errors to warning
A3: 46280 | B3: 46280 | C3: Cigna Medicare Advantage officially transitioned and rebranded to HealthSpring on January 1, 2026. Consequently, the 103 Plan payer code will now include HealthSpring's Medicare product.

Sheet Record Type 1
A1: FY 2027 MARYLAND HOSPITAL OUTPATIENT DATA SUBMISSION ELEMENTS AND FORMATS | D1: Text in RED indicate new items from prior fiscal year
A2: (As referenced in COMAR 10.37.06.01)
A3: RECORD TYPE 1
A5: Data Items | D5: Data Format | H5: Data Quality
A6: Data Item | B6: Data Item Name | C6: Description | D6: HSCRC Variable | E6: Data Type | F6: Max Length | G6: Format | H6: Required Field | I6: Edit Status: New Edit - In Production this FY, Existing Edit or N/A | J6: Edit Check Level (Warning/Error/Fatal Error/Cross Edit Error) | K6: Cross Edit Error Variable | L6: Quality Threshold 10%: Monthly 5%: Quarterly
A7: 1 | B7: Medicare Provider Number | C7: Enter the Medicare provider number assigned to the hospital. | D7: HOSPID | E7: NUM | F7: 6 | G7: See "Provider ID" tabs for codes | H7: Yes | I7: Existing Edit | J7: Fatal error: If value is missing or invalid (alpha or special characters) | K7: N/A | L7: 100% Complete
C8: NNNNNN = MEDICARE PROVIDER NUMBER (SEE "Provider ID" TAB FOR CODES)
A9: =A7+1 -> 2 | B9: Medical Record Number | C9: Enter the unique medical record number assigned by the hospital for the patient’s medical record. The unique medical record number is to be assigned permanently to the patient and may not change regardless of the number of admissions for that particular patient during the patient’s lifetime. LEADING ZEROES/SPACES ARE NOT REQUIRED. | D9: MRNUM | E9: CHAR | F9: 12 | G9: No alpha or special characters. | H9: Yes | I9: Existing Edit | J9: Fatal error: If value is missing or invalid (alpha or special characters) | K9: N/A | L9: 100% Complete
C10: NNNNNNNNNNN = PATIENT'S MEDICAL RECORD NUMBER
A11: =A9+1 -> 3 | B11: Patient Account Number | C11: Enter the unique number assigned by the hospital for this patient’s admission. For Commission reporting requirements, this number is related to a single admission, and will change with each encounter or visit reported. LEADING ZEROES/SPACES ARE NOT REQUIRED. | D11: PATACCT | E11: CHAR | F11: 18 | G11: No alpha or special characters. | H11: Yes | I11: Existing Edit | J11: Fatal Error: If value is missing, invalid (alpha or special characters), all 9's or all 0's | K11: N/A | L11: 100% Complete
C12: NNNNNNNNNNNNNNNNNN = PATIENT ACCOUNT NUMBER
A13: =A11+1 -> 4 | B13: From Date of Service | C13: Enter the month, day, and year for the first day of the specific patient encounter or visit. For example, for April 2, 2007, enter 04022007 (mmddyyyy). The From Date must be before the Through Date. | D13: FR_DATE | E13: DATE | F13: 8 | H13: Yes | I13: Existing Edit | J13: Fatal error: If value is missing or invalid (alpha or special characters) Fatal error: If value is after Thru Date | K13: Thru Date of Service | L13: 100% Complete
C14: MMDDYYYY = MONTH,DAY,YEAR
A15: =A13+1 -> 5 | B15: Thru Date of Service | C15: Enter the month, day, and year for the last day covering the specific patient encounter, visit or the date of discharge. For example, for April 3, 2007, enter 04032007 (mmddyyyy). The Through Date must be after the From Date and be in the current reporting period. | D15: TH_DATE | E15: DATE | F15: 8 | H15: Yes | I15: Existing Edit | J15: Fatal error: If value is missing or invalid (alpha or special characters) Fatal Error: If value reported is outside of reporting quarter | K15: N/A | L15: 100% Complete
C16: MMDDYYYY = MONTH,DAY,YEAR
A17: =A15+1 -> 6 | B17: Record Type | C17: Enter the record type | D17: REC_TYPE | E17: NUM | F17: 1 | H17: Yes | I17: Existing Edit | J17: Fatal error: If value is missing or invalid (alpha or special characters) | K17: N/A | L17: 100% Complete
C18: 1 = RECORD TYPE 1 - PATIENT DEMOGRAPHIC/PAYER/PROVIDER DATA
A19: =A17+1 -> 7 | B19: Enterprise Master Patient Identifier (EMPI) | C19: Enter the enterprise number of the patient (the hospital system identifier). A hospital system enterprise identifier (EMPI), also known as the master patient identifier is a unique patient identification number that links a patient across system hospitals. This is an OPTIONAL FIELD and not required to be reported. LEADING ZEROES/SPACES ARE NOT REQUIRED. | D19: EMPI | E19: NUM | F19: 11 | H19: No | I19: N/A | J19: N/A | K19: N/A | L19: N/A
C20: NNNNNNNNNNN = SYSTEM HOSPITAL EMPI NUMBER
C21: BLANKS = NOT APPLICABLE
A22: =A19+1 -> 8 | B22: Date of Birth | C22: Enter the month, day, and year of the patient's birth. (Ex., October 14, 1977, is entered as 10141977 (mm/dd/yyyy)). | D22: DOB | E22: DATE | F22: 8 | H22: Yes | I22: Existing Edit | J22: Error: If value is missing or invalid (alpha or special characters) Error: If value > From Date Cross Edit Error: If calculated age based on DOB is < 0 and Nature of Admission = 2 Note: Records with Invalid dates will not be grouped Error: If calculated age => 115 years | K22: From Date | L22: Included in Error Threshold
C23: MMDDYYYY = MONTH,DAY,YEAR
C24: 99999999 = UNKNOWN
A25: =A22+1 -> 9 | B25: Sex of the Patient | C25: Enter the sex of the patient using the following coding: | D25: SEX | E25: NUM | F25: 1 | H25: Yes | I25: Existing Edit | J25: Error: If value is missing or invalid (alpha or special characters) Cross-Edit Error: If sex is invalid for sex-specific diagnosis or procedure code | K25: Principle Diagnosis, Principle Procedure | L25: Included in Error Threshold
C26: 1 = MALE
C27: 2 = FEMALE
C28: 9 = UNKNOWN
A29: =A25+1 -> 10 | B29: Marital Status of the Patient | C29: Enter the marital status of the patient using the following code: | D29: MARISTAT | E29: NUM | F29: 1 | H29: Yes | I29: Existing Edit | J29: Warning: If value is missing or invalid (alpha or special characters) | K29: N/A | L29: N/A
C30: 1 = SINGLE
C31: 2 = MARRIED
C32: 3 = SEPARATED
C33: 4 = DIVORCED
C34: 5 = WIDOW/WIDOWER
C35: 9 = UNKNOWN
A36: =A29+1 -> 11 | B36: Ethnicity of the Patient | C36: Enter whether the patient-defined ethnicity is Hispanic using the following coding. Hispanic is defined as a person of Cuban, Mexican, Puerto Rican, South or Central American, or other Spanish culture or lineage, regardless of race. The term, "Spanish origin," can be used in addition to "Hispanic or Latino." | D36: ETHNICIT | E36: NUM | F36: 1 | H36: Yes | I36: Existing Edit | J36: Error: If value is missing or invalid (alpha or special characters) | L36: <1% of total charges = 99 (Unknown) Included in Error Threshold
C37: 1 = SPANISH/HISPANIC ORIGIN
C38: 2 = NOT SPANISH HISPANIC ORIGIN
C39: 7 = DECLINED TO ANSWER
C40: 9 = UNKNOWN
A41: =A36+1 -> 12 | B41: Race Category White | C41: Enter whether the self-defined race of the patient is White or Caucasian using the following coding. White is defined as a person having lineage in any of the original peoples of Europe, the Middle East, or North Africa. | D41: RWHITE | E41: NUM | F41: 1 | H41: Yes | I41: Existing Edit | J41: Error: If value is missing or invalid (alpha or special characters) Cross Edit Error: No race category values = 1 | K41: Race Categories: White, Black, American Indian, Asian, Native Hawaiian, Other, Declined, Unknown | L41: Included in Error Threshold
...

Sheet Record Type 2
A1: ='Record Type 1'!A1 -> FY 2027 MARYLAND HOSPITAL OUTPATIENT DATA SUBMISSION ELEMENTS AND FORMATS | D1: ='Record Type 1'!D1 -> Text in RED indicate new items from prior fiscal year
A2: ='Record Type 1'!A2 -> (As referenced in COMAR 10.37.06.01)
A3: RECORD TYPE 2
A5: ='Record Type 1'!A5 -> Data Items | D5: ='Record Type 1'!D5 -> Data Format | H5: ='Record Type 1'!H5 -> Data Quality | L5: ='Record Type 1'!L5 -> 0
A6: ='Record Type 1'!A6 -> Data Item | B6: ='Record Type 1'!B6 -> Data Item Name | C6: ='Record Type 1'!C6 -> Description | D6: ='Record Type 1'!D6 -> HSCRC Variable | E6: ='Record Type 1'!E6 -> Data Type | F6: ='Record Type 1'!F6 -> Max Length | G6: ='Record Type 1'!G6 -> Format | H6: ='Record Type 1'!H6 -> Required Field | ... J6: ='Record Type 1'!J6 -> Edit Check Level (Warning/Error/Fatal Error/Cross Edit Error) | K6: Cross Edit Error Variable | L6: ='Record Type 1'!L6 -> Quality Threshold 10%: Monthly 5%: Quarterly
A7: ='Record Type 1'!A7 -> 1 | B7: ='Record Type 1'!B7 -> Medicare Provider Number | C7: ='Record Type 1'!C7 -> Enter the Medicare provider number assigned to the hospital. | D7: ='Record Type 1'!D7 -> HOSPID | E7: ='Record Type 1'!E7 -> NUM | F7: ='Record Type 1'!F7 -> 6 | G7: ='Record Type 1'!G7 -> See "Provider ID" tabs for codes | H7: ='Record Type 1'!H7 -> Yes | ... L7: ='Record Type 1'!L7 -> 100% Complete
C8: ='Record Type 1'!C8 -> NNNNNN = MEDICARE PROVIDER NUMBER (SEE "Provider ID" TAB FOR CODES)
A9: ='Record Type 1'!A9 -> 2 | B9: ='Record Type 1'!B9 -> Medical Record Number | C9: ='Record Type 1'!C9 -> Enter the unique medical record number assigned by the hospital for the patient’s medical record. The unique medical record number is to be assigned permanently to the patient and may not change regardless of the number of admissions for that particular patient during the patient’s lifetime. LEADING ZEROES/SPACES ARE NOT REQUIRED. | D9: ='Record Type 1'!D9 -> MRNUM | E9: ='Record Type 1'!E9 -> CHAR | F9: ='Record Type 1'!F9 -> 12 | G9: ='Record Type 1'!G9 -> No alpha or special characters. | H9: ='Record Type 1'!H9 -> Yes | ... L9: ='Record Type 1'!L9 -> 100% Complete
C10: ='Record Type 1'!C10 -> NNNNNNNNNNN = PATIENT'S MEDICAL RECORD NUMBER
A11: ='Record Type 1'!A11 -> 3 | B11: ='Record Type 1'!B11 -> Patient Account Number | C11: ='Record Type 1'!C11 -> Enter the unique number assigned by the hospital for this patient’s admission. For Commission reporting requirements, this number is related to a single admission, and will change with each encounter or visit reported. LEADING ZEROES/SPACES ARE NOT REQUIRED. | D11: ='Record Type 1'!D11 -> PATACCT | E11: ='Record Type 1'!E11 -> CHAR | F11: ='Record Type 1'!F11 -> 18 | G11: ='Record Type 1'!G11 -> No alpha or special characters. | H11: ='Record Type 1'!H11 -> Yes | ... L11: ='Record Type 1'!L11 -> 100% Complete
C12: ='Record Type 1'!C12 -> NNNNNNNNNNNNNNNNNN = PATIENT ACCOUNT NUMBER
A13: ='Record Type 1'!A13 -> 4 | B13: ='Record Type 1'!B13 -> From Date of Service | C13: ='Record Type 1'!C13 -> Enter the month, day, and year for the first day of the specific patient encounter or visit. For example, for April 2, 2007, enter 04022007 (mmddyyyy). The From Date must be before the Through Date. | D13: ='Record Type 1'!D13 -> FR_DATE | E13: ='Record Type 1'!E13 -> DATE | F13: ='Record Type 1'!F13 -> 8 | H13: ='Record Type 1'!H13 -> Yes | I13: ='Record Type 1'!I13 -> Existing Edit | J13: ='Record Type 1'!J13 -> Fatal error: If value is missing or invalid (alpha or special characters) Fatal error: If value is after Thru Date | K13: ='Record Type 1'!K13 -> Thru Date of Service | L13: ='Record Type 1'!L13 -> 100% Complete
C14: ='Record Type 1'!C14 -> MMDDYYYY = MONTH,DAY,YEAR
A15: ='Record Type 1'!A15 -> 5 | B15: ='Record Type 1'!B15 -> Thru Date of Service | C15: ='Record Type 1'!C15 -> Enter the month, day, and year for the last day covering the specific patient encounter, visit or the date of discharge. For example, for April 3, 2007, enter 04032007 (mmddyyyy). The Through Date must be after the From Date and be in the current reporting period. | D15: ='Record Type 1'!D15 -> TH_DATE | E15: ='Record Type 1'!E15 -> DATE | F15: ='Record Type 1'!F15 -> 8 | H15: ='Record Type 1'!H15 -> Yes | I15: ='Record Type 1'!I15 -> Existing Edit | J15: ='Record Type 1'!J15 -> Fatal error: If value is missing or invalid (alpha or special characters) Fatal Error: If value reported is outside of reporting quarter | K15: ='Record Type 1'!K15 -> N/A | L15: ='Record Type 1'!L15 -> 100% Complete
C16: ='Record Type 1'!C16 -> MMDDYYYY = MONTH,DAY,YEAR
A17: ='Record Type 1'!A17 -> 6 | B17: ='Record Type 1'!B17 -> Record Type | C17: ='Record Type 1'!C17 -> Enter the record type | D17: ='Record Type 1'!D17 -> REC_TYPE | E17: ='Record Type 1'!E17 -> NUM | F17: ='Record Type 1'!F17 -> 1 | H17: ='Record Type 1'!H17 -> Yes | I17: ='Record Type 1'!I17 -> Existing Edit | J17: ='Record Type 1'!J17 -> Fatal error: If value is missing or invalid (alpha or special characters) | K17: ='Record Type 1'!K17 -> N/A | L17: ='Record Type 1'!L17 -> 100% Complete
C18: 2 = RECORD TYPE 2 - CLINICAL DATA
A19: ='Record Type 1'!A178+1 -> 47 | B19: Principal Diagnosis | C19: Enter the ICD-10-CM code for the principal diagnosis. The principal diagnosis is the condition established after study to be chiefly responsible for occasioning the admission of the patient to the hospital. | D19: PRINDIAG | E19: CHAR | F19: 7 | H19: No | I19: Existing Edit | J19: Error: If value is invalid (special characters) Error: If value is missing and Other Diagnosis 1 is reported Error: If diagnosis is flagged by the grouper as ungroupable (for medical and observation case) | K19: Other Diagnosis 1 | L19: Included in Error Threshold
C20: XXXXXXX = ICD-10-CM CODE
C21: BLANKS = NOT APPLICABLE
A22: =A19+1 -> 48 | B22: Other Diagnosis 1 | C22: Enter on each appropriate line the ICD-10-CM code for the secondary diagnoses. Other diagnoses to be listed are conditions that co-exist at the time of admission or develop subsequently, which affect the treatment received or the length of stay. Diagnoses that relate to an earlier admission which have no bearing on this admission shall be excluded. | D22: DIAG1 | E22: CHAR | F22: 7 | H22: No | I22: Existing Edit | J22: Error: If value is invalid (special characters) | K22: N/A | L22: Included in Error Threshold
C23: SAME AS PRINCIPAL DIAGNOSIS
A24: =A22+1 -> 49 | B24: Other Diagnosis 2 | C24: Enter on each appropriate line the ICD-10-CM coding for the secondary diagnoses. | D24: DIAG3 | E24: CHAR | F24: 7 | H24: No | I24: Existing Edit | J24: Error: If value is invalid (special characters) | K24: N/A | L24: Included in Error Threshold
A25: =A24+1 -> 50 | B25: Other Diagnosis 3 | C25: Enter on each appropriate line the ICD-10-CM coding for the secondary diagnoses. | D25: DIAG3 | E25: CHAR | F25: 7 | H25: No | I25: Existing Edit | J25: Error: If value is invalid (special characters) | K25: N/A | L25: Included in Error Threshold
A26: =A25+1 -> 51 | B26: Other Diagnosis 4 | C26: Enter on each appropriate line the ICD-10-CM coding for the secondary diagnoses. | D26: DIAG4 | E26: CHAR | F26: 7 | H26: No | I26: Existing Edit | J26: Error: If value is invalid (special characters) | K26: N/A | L26: Included in Error Threshold
A27: =A26+1 -> 52 | B27: Other Diagnosis 5 | C27: Enter on each appropriate line the ICD-10-CM coding for the secondary diagnoses. | D27: DIAG5 | E27: CHAR | F27: 7 | H27: No | I27: Existing Edit | J27: Error: If value is invalid (special characters) | K27: N/A | L27: Included in Error Threshold
A28: =A27+1 -> 53 | B28: Other Diagnosis 6 | C28: Enter on each appropriate line the ICD-10-CM coding for the secondary diagnoses. | D28: DIAG6 | E28: CHAR | F28: 7 | H28: No | I28: Existing Edit | J28: Error: If value is invalid (special characters) | K28: N/A | L28: Included in Error Threshold
A29: =A28+1 -> 54 | B29: Other Diagnosis 7 | C29: Enter on each appropriate line the ICD-10-CM coding for the secondary diagnoses. | D29: DIAG7 | E29: CHAR | F29: 7 | H29: No | I29: Existing Edit | J29: Error: If value is invalid (special characters) | K29: N/A | L29: Included in Error Threshold
A30: =A29+1 -> 55 | B30: Other Diagnosis 8 | C30: Enter on each appropriate line the ICD-10-CM coding for the secondary diagnoses. | D30: DIAG8 | E30: CHAR | F30: 7 | H30: No | I30: Existing Edit | J30: Error: If value is invalid (special characters) | K30: N/A | L30: Included in Error Threshold
A31: =A30+1 -> 56 | B31: Other Diagnosis 9 | C31: Enter on each appropriate line the ICD-10-CM coding for the secondary diagnoses. | D31: DIAG9 | E31: CHAR | F31: 7 | H31: No | I31: Existing Edit | J31: Error: If value is invalid (special characters) | K31: N/A | L31: Included in Error Threshold
A32: =A31+1 -> 57 | B32: Other Diagnosis 10 | C32: Enter on each appropriate line the ICD-10-CM coding for the secondary diagnoses. | D32: DIAG10 | E32: CHAR | F32: 7 | H32: No | I32: Existing Edit | J32: Error: If value is invalid (special characters) | K32: N/A | L32: Included in Error Threshold
A33: =A32+1 -> 58 | B33: Other Diagnosis 11 | C33: Enter on each appropriate line the ICD-10-CM coding for the secondary diagnoses. | D33: DIAG11 | E33: CHAR | F33: 7 | H33: No | I33: Existing Edit | J33: Error: If value is invalid (special characters) | K33: N/A | L33: Included in Error Threshold
A34: =A33+1 -> 59 | B34: Other Diagnosis 12 | C34: Enter on each appropriate line the ICD-10-CM coding for the secondary diagnoses. | D34: DIAG12 | E34: CHAR | F34: 7 | H34: No | I34: Existing Edit | J34: Error: If value is invalid (special characters) | K34: N/A | L34: Included in Error Threshold
A35: =A34+1 -> 60 | B35: Other Diagnosis 13 | C35: Enter on each appropriate line the ICD-10-CM coding for the secondary diagnoses. | D35: DIAG13 | E35: CHAR | F35: 7 | H35: No | I35: Existing Edit | J35: Error: If value is invalid (special characters) | K35: N/A | L35: Included in Error Threshold
A36: =A35+1 -> 61 | B36: Other Diagnosis 14 | C36: Enter on each appropriate line the ICD-10-CM coding for the secondary diagnoses. | D36: DIAG14 | E36: CHAR | F36: 7 | H36: No | I36: Existing Edit | J36: Error: If value is invalid (special characters) | K36: N/A | L36: Included in Error Threshold
... A121: =A120+1 -> 146 | B121: Other Diagnosis 99 | C121: Enter on each appropriate line the ICD-10-CM coding for the secondary diagnoses | D121: DIAG99 | E121: CHAR | F121: 7 | H121: No | I121: Existing Edit | J121: Error: If value is invalid (special characters) | K121: N/A | L121: Included in Error Threshold
A122: =A121+1 -> 147 | B122: External Cause of Injury Code (E-Code) | C122: Enter the ICD-10-CM code for the external cause of an injury, poisoning, or adverse reaction. The E-Code shall be reported whenever an injury is the principal diagnosis or directly related to the principal diagnosis. Additional E-codes, including Place of Occurrence Codes, may be recorded in the Other Diagnosis fields as space permits. Y92 should be coded as a DIAGNOSIS code instead of an E-Code. | D122: E_CODE | E122: CHAR | F122: 7 | H122: No | I122: Existing Edit | J122: Error: if value is invalid (special characters)
C123: XXXXXXX = ICD-10-CM CODE
C124: BLANKS = NOT APPLICABLE
A125: =A122+1 -> 148 | B125: Admitting diagnosis | C125: Enter the ICD-10-CM code for the admitting diagnosis of the outpatient. This is the presenting reason for the visit reported by the patient. | D125: ADM_DIAG | E125: CHAR | F125: 7 | H125: Yes | I125: Existing Edit | J125: Error: If value is invalid (special characters) and Visit, Daily Visit, or Encounter type is 02 = EMERGENCY ROOM SERVICES | K125: N/A | L125: Included in Error Threshold
...

Sheet Record Type 3
A1: ='Record Type 1'!A1 -> FY 2027 MARYLAND HOSPITAL OUTPATIENT DATA SUBMISSION ELEMENTS AND FORMATS | D1: ='Record Type 1'!D1 -> Text in RED indicate new items from prior fiscal year
A2: ='Record Type 1'!A2 -> (As referenced in COMAR 10.37.06.01)
A3: RECORD TYPE 3
A5: ='Record Type 1'!A5 -> Data Items | D5: ='Record Type 1'!D5 -> Data Format | H5: ='Record Type 1'!H5 -> Data Quality | L5: ='Record Type 1'!L5 -> 0
A6: ='Record Type 1'!A6 -> Data Item | B6: ='Record Type 1'!B6 -> Data Item Name | C6: ='Record Type 1'!C6 -> Description | D6: ='Record Type 1'!D6 -> HSCRC Variable | E6: ='Record Type 1'!E6 -> Data Type | F6: ='Record Type 1'!F6 -> Max Length | G6: ='Record Type 1'!G6 -> Format | H6: ='Record Type 1'!H6 -> Required Field | ... J6: ='Record Type 1'!J6 -> Edit Check Level (Warning/Error/Fatal Error/Cross Edit Error) | K6: Cross Edit Error Variable | L6: ='Record Type 1'!L6 -> Quality Threshold 10%: Monthly 5%: Quarterly
A7: ='Record Type 1'!A7 -> 1 | B7: ='Record Type 1'!B7 -> Medicare Provider Number | C7: ='Record Type 1'!C7 -> Enter the Medicare provider number assigned to the hospital. | D7: ='Record Type 1'!D7 -> HOSPID | E7: ='Record Type 1'!E7 -> NUM | F7: ='Record Type 1'!F7 -> 6 | G7: ='Record Type 1'!G7 -> See "Provider ID" tabs for codes | H7: ='Record Type 1'!H7 -> Yes | ... L7: ='Record Type 1'!L7 -> 100% Complete
C8: ='Record Type 1'!C8 -> NNNNNN = MEDICARE PROVIDER NUMBER (SEE "Provider ID" TAB FOR CODES)
A9: ='Record Type 1'!A9 -> 2 | B9: ='Record Type 1'!B9 -> Medical Record Number | C9: ='Record Type 1'!C9 -> Enter the unique medical record number assigned by the hospital for the patient’s medical record. The unique medical record number is to be assigned permanently to the patient and may not change regardless of the number of admissions for that particular patient during the patient’s lifetime. LEADING ZEROES/SPACES ARE NOT REQUIRED. | D9: ='Record Type 1'!D9 -> MRNUM | E9: ='Record Type 1'!E9 -> CHAR | F9: ='Record Type 1'!F9 -> 12 | G9: ='Record Type 1'!G9 -> No alpha or special characters. | H9: ='Record Type 1'!H9 -> Yes | ... L9: ='Record Type 1'!L9 -> 100% Complete
C10: ='Record Type 1'!C10 -> NNNNNNNNNNN = PATIENT'S MEDICAL RECORD NUMBER
A11: ='Record Type 1'!A11 -> 3 | B11: ='Record Type 1'!B11 -> Patient Account Number | C11: ='Record Type 1'!C11 -> Enter the unique number assigned by the hospital for this patient’s admission. For Commission reporting requirements, this number is related to a single admission, and will change with each encounter or visit reported. LEADING ZEROES/SPACES ARE NOT REQUIRED. | D11: ='Record Type 1'!D11 -> PATACCT | E11: ='Record Type 1'!E11 -> CHAR | F11: ='Record Type 1'!F11 -> 18 | G11: ='Record Type 1'!G11 -> No alpha or special characters. | H11: ='Record Type 1'!H11 -> Yes | ... L11: ='Record Type 1'!L11 -> 100% Complete
C12: ='Record Type 1'!C12 -> NNNNNNNNNNNNNNNNNN = PATIENT ACCOUNT NUMBER
A13: ='Record Type 1'!A13 -> 4 | B13: ='Record Type 1'!B13 -> From Date of Service | C13: ='Record Type 1'!C13 -> Enter the month, day, and year for the first day of the specific patient encounter or visit. For example, for April 2, 2007, enter 04022007 (mmddyyyy). The From Date must be before the Through Date. | D13: ='Record Type 1'!D13 -> FR_DATE | E13: ='Record Type 1'!E13 -> DATE | F13: ='Record Type 1'!F13 -> 8 | H13: ='Record Type 1'!H13 -> Yes | I13: ='Record Type 1'!I13 -> Existing Edit | J13: ='Record Type 1'!J13 -> Fatal error: If value is missing or invalid (alpha or special characters) Fatal error: If value is after Thru Date | K13: ='Record Type 1'!K13 -> Thru Date of Service | L13: ='Record Type 1'!L13 -> 100% Complete
C14: ='Record Type 1'!C14 -> MMDDYYYY = MONTH,DAY,YEAR
A15: ='Record Type 1'!A15 -> 5 | B15: ='Record Type 1'!B15 -> Thru Date of Service | C15: ='Record Type 1'!C15 -> Enter the month, day, and year for the last day covering the specific patient encounter, visit or the date of discharge. For example, for April 3, 2007, enter 04032007 (mmddyyyy). The Through Date must be after the From Date and be in the current reporting period. | D15: ='Record Type 1'!D15 -> TH_DATE | E15: ='Record Type 1'!E15 -> DATE | F15: ='Record Type 1'!F15 -> 8 | H15: ='Record Type 1'!H15 -> Yes | I15: ='Record Type 1'!I15 -> Existing Edit | J15: ='Record Type 1'!J15 -> Fatal error: If value is missing or invalid (alpha or special characters) Fatal Error: If value reported is outside of reporting quarter | K15: ='Record Type 1'!K15 -> N/A | L15: ='Record Type 1'!L15 -> 100% Complete
C16: ='Record Type 1'!C16 -> MMDDYYYY = MONTH,DAY,YEAR
A17: ='Record Type 1'!A17 -> 6 | B17: ='Record Type 1'!B17 -> Record Type | C17: ='Record Type 1'!C17 -> Enter the record type | D17: ='Record Type 1'!D17 -> REC_TYPE | E17: ='Record Type 1'!E17 -> NUM | F17: ='Record Type 1'!F17 -> 1 | H17: ='Record Type 1'!H17 -> Yes | I17: ='Record Type 1'!I17 -> Existing Edit | J17: ='Record Type 1'!J17 -> Fatal error: If value is missing or invalid (alpha or special characters) | K17: ='Record Type 1'!K17 -> N/A | L17: ='Record Type 1'!L17 -> 100% Complete
C18: 3 = RECORD TYPE 3 - FINANCIAL/BILLING DATA
A19: ='Record Type 2'!A125+1 -> 149 | B19: Bill Type | C19: Enter the 3-digit bill type (do not report leading zero) that is reported on the UB04. The value submitted in the first Type 3 Record will be used. | D19: BILLTYPE | E19: CHAR | F19: 3 | H19: Yes | I19: Existing Edit | J19: Error: If value is invalid (special characters) Warning: If value is missing Warning: If value is invalid. See the valid values in tab "Bill type" | K19: N/A | L19: Included in Error Threshold
C20: XXX = BILL TYPE
A21: =A19+1 -> 150 | B21: Occurrence Code and Date | C21: Enter the occurrence code and associated date for a significant event related to the bill tat may affect processing. Usage Notes: Accident Codes should be report in the first 2 characters of this field if Accident Hour (Item 34 in Record Type 1) is populated. Refer to "https://resdac.org/CMS-data/variables/claim-related-occurrence-code-encounter" for valid Accident codes. This field should be submitted in the first Type 3 Record. They may reoccur in other Type 3 records only the first will be used. | D21: OSCODE | E21: CHAR | F21: 10 | G21: First 2 Digits is the Occurrence Code (ALPHANUMERIC) and the last 8 digits is the Date (MMDDYYYY). Refer to https://www.resdac.org/sites/resdac.umn.edu/files/Claim%20Related%20Occurrence%20Table.txt for valid Accident codes and other Occurrence Codes | H21: No | I21: Existing Edit | J21: Warning: If value is invalid Warning: If value is blank or invalid and Accident Hour is not Blank Warning: if last eight characters is not in a valid MMDDYYYY date format. | K21: N/A | L21: N/A
C22: XXMMDDYYYY = OCCURANCE CODE AND DATE OF OCCURANCE (MONTH,DAY,YEAR)
C23: BLANKS = NOT APPLICABLE
A24: =A21+1 -> 151 | B24: Condition Code 1 | C24: Enter the condition code that may affect payer processing of the bill. Up to 5 condition codes are accepted. This field should be submitted in the first Type 3 Record. They may reoccur in other Type 3 records only the first will be used. | D24: CONDCODE1 | E24: CHAR | F24: 2 | H24: No | I24: Existing Edit | J24: Error: If value is invalid (special characters) | K24: N/A | L24: Included in Error Threshold
C25: XX = CONDITION CODE
C26: BLANKS = NOT APPLICABLE
A27: =A24+1 -> 152 | B27: Condition Code 2 | C27: Enter the Condition code. Up to 5 condition codes are accepted. This field should be submitted in the first Type 3 Record. They may reoccur in other Type 3 records only the first will be used. | D27: CONDCODE2 | E27: CHAR | F27: 2 | H27: No | I27: Existing Edit | J27: Error: If value is invalid (special characters) | K27: N/A | L27: Included in Error Threshold
C28: SAME AS CONDITION CODE 1
A29: =A27+1 -> 153 | B29: Condition Code 3 | C29: Enter the Condition code. Up to 5 condition codes are accepted. This field should be submitted in the first Type 3 Record. They may reoccur in other Type 3 records only the first will be used. | D29: CONDCODE3 | E29: CHAR | F29: 2 | H29: No | I29: Existing Edit | J29: Error: If value is invalid (special characters) | K29: N/A | L29: Included in Error Threshold
C30: SAME AS CONDITION CODE 1
A31: =A29+1 -> 154 | B31: Condition Code 4 | C31: Enter the Condition code. Up to 5 condition codes are accepted. This field should be submitted in the first Type 3 Record. They may reoccur in other Type 3 records only the first will be used. | D31: CONDCODE4 | E31: CHAR | F31: 2 | H31: No | I31: Existing Edit | J31: Error: If value is invalid (special characters) | K31: N/A | L31: Included in Error Threshold
C32: SAME AS CONDITION CODE 1
A33: =A31+1 -> 155 | B33: Condition Code 5 | C33: Enter the Condition code. Up to 5 condition codes are accepted. This field should be submitted in the first Type 3 Record. They may reoccur in other Type 3 records only the first will be used. | D33: CONDCODE5 | E33: CHAR | F33: 2 | H33: No | I33: Existing Edit | J33: Error: If value is invalid (special characters) | K33: N/A | L33: Included in Error Threshold
C34: SAME AS CONDITION CODE 1
A35: Patient Revenue Data. The full charges for all services provided to the patient shall be reported. These charges do not include Part B physician charges or charges not regulated by the Health Services Cost Review Commission (for example, telephone service, television charges, or private duty nursing charges). For each patient, there will be multiple occurrences of revenue data reported according to the Uniform Billing Claims Form.
A36: =A33+1 -> 156 | B36: Uniform Billing (UB-04) Revenue Code 1 | C36: This code identifies a specific accommodation, ancillary service, or billing calculation. Enter “1” for the UB code associated with the Total Charge. LEADING ZEROES/SPACES ARE NOT REQUIRED. | D36: REVCODE1 | E36: Num | F36: 4 | H36: Yes | I36: Existing Edit | J36: Error: If value is invalid Warning: If value is missing and associated Rate Center Units of Service, Charges, Date of Service or CPT code are not blank | K36: Rate Center 1, Units of Service 1, Charges 1, CPT 1, Date of Service 1 | L36: Included in Error Threshold
C37: xxxx = UB-04 CODE
C38: 0001 = UB-04 CODE ASSOCIATED WITH THE TOTAL CHARGE OF THE RECORD
A39: =A36+1 -> 157 | B39: Rate Center Code 1 | C39: This code identifies the HSCRC rate center to which the related UB revenue code and charges are mapped. | D39: SEE "Rate Center Code" TAB FOR VARIABLE NAMES | E39: Char | F39: 3 | H39: Yes, if REVCODE is reported | I39: New or Revised Edit - In Production this FY | J39: Error: If value is invalid (values other than what is in tab "Rate Center Codes") Cross Edit Error: If value is missing and associated Revenue Code is reported Cross Edit Error: If value is not "00" when associated Revenue Code is = "0001" | K39: Revenue Code 1 ,Units of Service 1, Charges 1, CPT 1, Date of Service 1 | L39: Included in Error Threshold
C40: XX = RATE CENTER CODE ASSOCIATED WITH UB-04 CODE (SEE "Rate Center Code" TAB FOR CODES)
A41: =A39+1 -> 158 | B41: Units of Service 1 | C41: Enter the units of service (as defined in Appendix D of the HSCRC Accounting and Budget Manual) associated with the rate center. For the Medical Surgical Supplies and Organ Acquisition rate centers, enter 0. For the Drug rate center, enter the units as defined by the ICD-10 drug code dosage level. For the Drug rate center, enter the units as defined by the CPT/HCPC drug code dosage level, which may equal the amount administered and wasted if the amount of both the administered and wasted corresponds to the total amount of the drug when billed properly. Usage Notes: The amount administered and the amount wasted must each be reported in the patient’s medical record, per Novitas guidance published in 2017, which states, "providers are required to document the discarded drug or biological in the patient's medical record." The drug units reported in the case mix data and in the HSCRC Schedule CDS-A: Growth in the Use of Outpatient. Infusion, Chemo-therapy, and Biological Oncology Drugs (CDS-A) should equal the number of doses procured and administered and where each dose is defined and measured by Medicare on their quarterly published ASP listing. Drug services should be reported with the appropriate HCPCS code and the units is the total of procured units (including the amount administered and waste). | D41: UNTSVC1 | E41: Num | F41: 6 | H41: Yes, if REVCODE is reported | I41: Existing Edit | J41: Error: If value is invalid (alpha or special characters) Cross Edit Error: If value NE 0 and Rate Center = 55 (Organ Acquisition) Cross Edit Error: If value NE 0 and Rate Center = 65 (Med/Surg Supplies) Cross Edit Error: If value is missing and associated Revenue Code, Rate Center Code, Charges or Date of Service are not blank Warning: If CPT/HCPCS Code reported is (99202-99205, 99211-99215, and G0463) and the Units of Service is not between 2-6 | K41: Rate Center 1, Revenue Code 1, Charges 1, CPT 1, Date of Service 1 | L41: Included in Error Threshold
...

Sheet Exp Payer & Health Plan Code
A1: Expected Payer Codes
A2: Code | B2: Description
A3: 01 | B3: MEDICARE FFS
A4: 02 | B4: MD MEDICAID FFS AND PENDING MD MEDICAID
A5: 03 | B5: DO NOT USE
A6: 04 | B6: DO NOT USE
A7: 05 | B7: COMMERCIAL INSURANCE (HMO/POS/PPO/PPN/TPA)
A8: 06 | B8: OTHER GOVERNMENT PROGRAMS Usage Note: Report Out-of-State (non-MD) Medicaid , Tri-Care, Tri-Care for Life and Title V under this category
A9: 07 | B9: WORKMEN'S COMPENSATION
A10: 08 | B10: SELF PAY
A11: 09 | B11: CHARITY (PATIENT WAS NOT CHARGED FOR CARE)
A12: 10 | B12: OTHER Usage Note: Report Grant and Donor funding in this category
A13: 11 | B13: DO NOT USE
... A23: 99 | B23: UNKNOWN
A25: Expected Health Plan Payer Codes
A26: Code | B26: Description
A27: 98 | B27: HEALTH PLAN PAYERS NOT SPECIFIED BELOW Usage Note: Report Qualified Dental Plans (QDPs), Pharmacy Benefit Managers (PBMs), and any new health plans that become effective during the FY). This can be used with payer (05,14,15,19)
A28: 99 | B28: UNKNOWN
A29: 100 | B29: NOT APPLICABLE - DOES NOT REQUIRE HEALTH PLAN PAYER Usage Note: Report this code for Expected Payer Codes in (01, 02, 06 - 10, 18, and 77)
A30: 101 | B30: AETNA HEALTHPLANS
A31: 102 | B31: CAREFIRST BLUECROSS BLUESHIELD (INCLUSIVE OF ALL COMMUNITY, COMMERCIAL, AND FEP PRODUCTS, includes formerly UNIVERSITY OF MD HEALTH PARTNERS)
A32: 103 | B32: CIGNA (INCLUSIVE OF ALL COMMERCIAL AND HEALTHSPRING'S MEDICARE PRODUCTS) Usage Note: Cigna Medicare Advantage officially transitioned and rebranded to HealthSpring on January 1, 2026.
A33: 104 | B33: GENERIC TPA/COMMERCIAL PLANS
A34: 105 | B34: GENERIC COMMERCIAL EMPLOYEE HEALTH PLANS Usage Note: Do not report Johns Hopkins, MedStar or University of MD Employee Health plans in this category.
A35: 106 | B35: HUMANA
A36: 107 | B36: KAISER PERMANENTE
A37: 108 | B37: UNITED HEALTHCARE
A38: 109 | B38: WELLPOINT (formerly AMERIGROUP COMMUNITY CARE)
A39: 110 | B39: JAI MEDICAL SYSTEMS
A40: 111 | B40: MARYLAND PHYSICIANS CARE
A41: 112 | B41: MEDSTAR FAMILY CHOICE
... A59: 130 | B59: CARELON BEHAVIORAL HEALTH MD MEDICIAD Usage notes: Valid for discharges on or after 1/1/2025
A61: Expected Payer and Plan Payer Group Crosswalk
A63: Payer Code | B63: Payer Description | C63: Plan Payer Code | D63: Plan Payer Description
A64: 5 | B64: Commercial HMO/POS/PPO/PPN/TPA | C64: 98 | D64: HEALTH PLAN PAYERS NOT SPECIFIED BELOW
C65: 101 | D65: AETNA HEALTHPLANS
C66: 102 | D66: CAREFIRST BLUECROSS BLUESHIELD (INCLUSIVE OF ALL COMMUNITY, COMMERCIAL, AND FEP PRODUCTS, includes formerly UNIVERSITY OF MD HEALTH PARTNERS)
C67: 103 | D67: CIGNA (INCLUSIVE OF ALL COMMERCIAL AND HEALTHSPRING'S MEDICARE PRODUCTS)
C68: 104 | D68: GENERIC TPA/COMMERCIAL PLANS
C69: 105 | D69: GENERIC COMMERCIAL EMPLOYEE HEALTH PLANS
...

Sheet Country of Birth codes
A1: HSCRC uses the ISO 3166-1 alpha-2 digit code published by the International Organization for Standardization (https://www.iso.org/obp/ui/#home)
D2: Last updated on 6/30/2026
A3: English short name | B3: Alpha-2 code | C3: Alpha-3 code | D3: Numeric
A4: Afghanistan | B4: AF | C4: AFG | D4: 4
A5: Albania | B5: AL | C5: ALB | D5: 8
A6: Algeria | B6: DZ | C6: DZA | D6: 12
A7: American Samoa | B7: AS | C7: ASM | D7: 16
A8: Andorra | B8: AD | C8: AND | D8: 20
A9: Angola | B9: AO | C9: AGO | D9: 24
A10: Anguilla | B10: AI | C10: AIA | D10: 660
A11: Antarctica | B11: AQ | C11: ATA | D11: 10
A12: Antigua and Barbuda | B12: AG | C12: ATG | D12: 28
A13: Argentina | B13: AR | C13: ARG | D13: 32
A14: Armenia | B14: AM | C14: ARM | D14: 51
A15: Aruba | B15: AW | C15: ABW | D15: 533
... A252: Åland Islands | B252: AX | C252: ALA | D252: 248
A253: Declined to answer | B253: XZ
A254: Unknown | B254: ZZ

Sheet County Codes
A1: County of Patient Residency (Optional beginning FY 2022) | C1: Text in RED indicate new items from prior fiscal year
A2: Code | B2: Description
A3: 01 | B3: ALLEGANY COUNTY
A4: 02 | B4: ANNE ARUNDEL COUNTY
A5: 03 | B5: BALTIMORE COUNTY
A6: 04 | B6: CALVERT COUNTY
A7: 05 | B7: CAROLINE COUNTY
A8: 06 | B8: CARROLL COUNTY
A9: 07 | B9: CECIL COUNTY
A10: 08 | B10: CHARLES COUNTY
A11: 09 | B11: DORCHESTER COUNTY
A12: 10 | B12: FREDERICK COUNTY
A13: 11 | B13: GARRETT COUNTY
... A36: 99 | B36: UNKNOWN

Sheet Hospital List
A1: Hospital ID | B1: Case Mix ID | C1: FIN Hospital ID | D1: Hospital Type | E1: Payment Type | F1: Location | G1: Teaching | H1: Formal Name | I1: Hospital Name | J1: System | K1: Rehab | L1: Psych | M1: Chronic | N1: Has ED? | O1: MEIMSS Hospital | P1: Acedemic Medical Center | Q1: Burn Care Hospital | R1: Hospice
A2: 210000 | D2: ACUTE | E2: GBR | G2: No | H2: STATEWIDE | I2: Statewide | J2: State | K2: No | L2: No | M2: No | N2: No | O2: No | P2: No | Q2: No | R2: No
A3: 210001 | B3: 1 | C3: 1 | D3: ACUTE | E3: GBR | F3: Washington | G3: No | H3: Meritus Medical Center | I3: Meritus | J3: Meritus Health | K3: Yes | L3: Yes | M3: No | N3: Yes | O3: Yes | P3: No | Q3: No | R3: Yes
A4: 210002 | B4: 2 | C4: 2 | D4: ACUTE | E4: GBR | F4: Baltimore City | G4: Yes | H4: UM Medical Center | I4: UMMS- UMMC | J4: University of Maryland Medical (UMMS) | K4: No | L4: Yes | M4: No | N4: Yes | O4: Yes | P4: Yes | Q4: No | R4: Yes
A5: 210003 | B5: 3 | C5: 3 | D5: ACUTE | E5: GBR | F5: Prince Georges | G5: Yes | H5: UM Capital Region Medical Center | I5: UMMS- Capital Region | J5: University of Maryland Medical (UMMS) | K5: Yes | L5: Yes | M5: No | N5: Yes | O5: Yes | P5: No | Q5: No | R5: Yes
A6: 210004 | B6: 4 | C6: 4 | D6: ACUTE | E6: GBR | F6: Montgomery | G6: Yes | H6: Holy Cross Hospital | I6: Trinity - Holy Cross | J6: Trinity Health | K6: No | L6: No | M6: No | N6: Yes | O6: No | P6: No | Q6: No | R6: Yes
A7: 210005 | B7: 5 | C7: 5 | D7: ACUTE | E7: GBR | F7: Frederick | G7: No | H7: Frederick Health Hospital | I7: Frederick | J7: Independent | K7: No | L7: Yes | M7: No | N7: Yes | O7: No | P7: No | Q7: No | R7: Yes
A8: 210006 | B8: 6 | C8: 6 | D8: FS MF | E8: GBR | F8: Harford | G8: No | H8: UM Upper Chesapeake Medical Center -Aberdeen | I8: UMMS- Aberdeen | J8: University of Maryland Medical (UMMS) | K8: No | L8: Yes | M8: No | N8: Yes | O8: No | P8: No | Q8: No | R8: No
A9: 210008 | B9: 8 | C9: 8 | D9: ACUTE | E9: GBR | F9: Baltimore City | G9: Yes | H9: Mercy Medical Center | I9: Mercy | J9: Independent | K9: No | L9: No | M9: No | N9: Yes | O9: No | P9: No | Q9: No | R9: No
A10: 210009 | B10: 9 | C10: 9 | D10: ACUTE | E10: GBR | F10: Baltimore City | G10: Yes | H10: Johns Hopkins Hospital | I10: JHH- Johns Hopkins | J10: Johns Hopkins Health | K10: Yes | L10: Yes | M10: No | N10: Yes | O10: Yes | P10: Yes | Q10: No | R10: No
A11: 210010 | B11: 10 | C11: 10 | D11: FS MF | E11: GBR | F11: Dorchester | G11: No | H11: UM Shore Regional Health at Cambridge | I11: UMMS- Cambridge | J11: University of Maryland Medical (UMMS) | K11: No | L11: No | M11: No | N11: Yes | O11: No | P11: No | Q11: No | R11: Yes
A12: 210011 | B12: 11 | C12: 11 | D12: ACUTE | E12: GBR | F12: Baltimore City | G12: Yes | H12: Ascension St. Agnes Hospital | I12: Saint Agnes | J12: Ascension | K12: No | L12: No | M12: No | N12: Yes | O12: No | P12: No | Q12: No | R12: Yes
A13: 210012 | B13: 12 | C13: 12 | D13: ACUTE | E13: GBR | F13: Baltimore City | G13: Yes | H13: LifeBridge Health Sinai Hospital | I13: Lifebridge- Sinai | J13: LifeBridge Health | K13: Yes | L13: Yes | M13: No | N13: Yes | O13: Yes | P13: No | Q13: No | R13: Yes
A14: 210013 | B14: 13 | C14: 13 | D14: FS MF | E14: GBR | F14: Baltimore City | G14: No | H14: LifeBridge Health Grace Medical Center | I14: Lifebridge- Grace | J14: LifeBridge Health | K14: No | L14: Yes | M14: No | N14: Yes | O14: No | P14: No | Q14: No | R14: No
... A40: 210051 | B40: 48 | C40: 51 | D40: ACUTE | E40: GBR | F40: Prince Georges | G40: No | H40: Luminis Health Doctors Community Medical Center | I40: Luminis- Doctors | J40: Luminis Health | K40: No | L40: No | M40: No | N40: Yes | O40: No | P40: No | Q40: No | R40: Yes
A41: 210052 | D41: SPECIALTY | E41: Other | F41: Baltimore City | G41: No | H41: KENNEDY KRIEGER INSTITUTE | I41: Kennedy Krieger Institute | J41: Independent- children | K41: Yes | L41: No | M41: No | N41: Yes | O41: No | P41: No | Q41: No | R41: No
A42: 210055 | B42: 50 | C42: 55 | D42: FS MF | E42: GBR | F42: Prince Georges | G42: No | H42: UM Laurel Medical Center | I42: UMMS- Laurel | J42: University of Maryland Medical (UMMS) | K42: No | L42: No | M42: No | N42: Yes | O42: No | P42: No | Q42: No | R42: Yes
A43: 210056 | B43: 52 | C43: 2004 | D43: ACUTE | E43: GBR | F43: Baltimore City | G43: Yes | H43: MedStar Good Samaritan Hospital | I43: MedStar- Good Sam | J43: MedStar Health | K43: Yes | L43: No | M43: No | N43: Yes | O43: No | P43: No | Q43: No | R43: Yes
A44: 210057 | B44: 53 | C44: 5050 | D44: ACUTE | E44: GBR | F44: Montgomery | G44: Yes | H44: Adventist HealthCare Shady Grove Medical Center | I44: Adventist- Shady Grove | J44: Adventist Health | K44: No | L44: Yes | M44: No | N44: Yes | O44: No | P44: No | Q44: No | R44: No
A45: 210058 | B45: 51 | C45: 2001 | D45: ACUTE | E45: GBR | F45: Baltimore City | G45: No | H45: UM Rehabilitation & Orthopaedic Institute | I45: UMMS- UMROI | J45: University of Maryland Medical (UMMS) | K45: Yes | L45: No | M45: Yes | N45: No | O45: No | P45: No | Q45: No | R45: No
A46: 210060 | B46: 60 | C46: 60 | D46: ACUTE | E46: GBR | F46: Prince Georges | G46: No | H46: Adventist Healthcare Fort Washington Medical Center | I46: Adventist-Ft. Washington | J46: Adventist Health | K46: No | L46: No | M46: No | N46: Yes | O46: No | P46: No | Q46: No | R46: No
A47: 210061 | B47: 58 | C47: 61 | D47: ACUTE | E47: GBR | F47: Worcester | G47: No | H47: Atlantic General Hospital | I47: Atlantic General | J47: TidalHealth | K47: No | L47: No | M47: No | N47: Yes | O47: No | P47: No | Q47: No | R47: Yes
A48: 210062 | C48: 62 | D48: ACUTE | E48: GBR | F48: Prince Georges | G48: No | H48: Medstar Southern Maryland Hospital Center | I48: MedStar- Southern MD | J48: MedStar Health | K48: No | L48: Yes | M48: No | N48: Yes | O48: No | P48: No | Q48: No | R48: Yes
A49: 210063 | C49: 63 | D49: ACUTE | E49: GBR | F49: Baltimore | G49: No | H49: UM St. Joseph Medical Center | I49: UMMS- St. Joe | J49: University of Maryland Medical (UMMS) | K49: No | L49: Yes | M49: No | N49: Yes | O49: No | P49: No | Q49: No | R49: No
A50: 210064 | C50: 5033 | D50: ACUTE | E50: GBR | F50: Baltimore City | G50: No | H50: LifeBridge Health Levindale | I50: Lifebridge- Levindale | J50: LifeBridge Health | K50: Yes | L50: No | M50: Yes | N50: No | O50: No | P50: No | Q50: No | R50: No
A51: 210065 | B51: 210065 | C51: 65 | D51: ACUTE | E51: GBR | F51: Montgomery | G51: No | H51: Holy Cross Hospital Germantown | I51: Trinity - Holy Cross Germantown | J51: Trinity Health | K51: No | L51: No | M51: No | N51: Yes | O51: No | P51: No | Q51: No | R51: Yes
A52: 210068 | C52: 68 | D52: ACUTE | E52: Other | F52: Baltimore City | G52: No | H52: BALTIMORE CONVENTION CENTER | I52: UMMS- Convention Center | J52: University of Maryland Medical (UMMS) | K52: No | L52: No | M52: No | N52: Yes | O52: No | P52: No | Q52: No | R52: No
A53: 210080 | D53: ACUTE | E53: GBR | F53: Baltimore City | G53: Yes | H53: SINAI HOSPITAL ONCOLOGY | I53: Lifebridge- Sinai Oncology | J53: LifeBridge Health | K53: No | L53: No | M53: No | N53: No | O53: No | P53: No | Q53: No | R53: No
A54: 210087 | C54: 87 | D54: FS ER | E54: GBR | F54: Montgomery | G54: No | H54: Adventist HealthCare Germantown Emergency Center | I54: Adventist- Germantown ED | J54: Adventist Health | K54: No | L54: No | M54: No | N54: Yes | O54: No | P54: No | Q54: No | R54: No
A55: 210088 | C55: 88 | D55: FS ER | E55: GBR | F55: QueenAnnes | G55: No | H55: UM Queen Anne's Freestanding Emergency | I55: UMMS-Queen Anne's ED | J55: University of Maryland Medical (UMMS) | K55: No | L55: No | M55: No | N55: Yes | O55: No | P55: No | Q55: No | R55: No
A56: 210089 | B56: 210089 | C56: 89 | D56: SPECIALTY | E56: Other | F56: Montgomery | G56: No | H56: Adventist HealthCare Rehabilitation - White Oak | J56: Adventist Health | K56: Yes | L56: No | M56: No | N56: No | O56: No | P56: No | Q56: No | R56: No
A57: 210333 | C57: 333 | D57: FS ER | E57: GBR | F57: Prince Georges | G57: No | H57: UM Bowie Health Center | I57: UMMS-Bowie ED | J57: University of Maryland Medical (UMMS) | K57: No | L57: No | M57: No | N57: Yes | O57: No | P57: No | Q57: No | R57: No
A58: 212002 | D58: CHRONIC | E58: Specialty | F58: Allegany | G58: No | H58: WESTERN MARYLAND HOSPITAL CENTER | I58: WMD Specialty Hospital | J58: State | K58: No | L58: No | M58: Yes | N58: Yes | O58: No | P58: No | Q58: No | R58: Yes
A59: 212003 | D59: CHRONIC | E59: Other | F59: Wicomico | G59: No | H59: DEER'S HEAD HOSPITAL CENTER | I59: Deers Head Hospital Center | J59: State | K59: No | L59: No | M59: Yes | N59: Yes | O59: No | P59: No | Q59: No | R59: No
A60: 212203 | D60: CHRONIC | E60: Other | F60: Prince Georges | G60: No | H60: GLADYS SPELLMAN CARE UNIT AT LAUREL REGION | I60: Gladys Spellman | J60: State | K60: No | L60: No | M60: No | N60: Yes | O60: No | P60: No | Q60: No | R60: No
A61: 213028 | C61: 3028 | D61: SPECIALTY | E61: Other | F61: Wicomico | G61: No | H61: Encompass Health Rehabilitation Hospital of Salisbury | I61: Rehab Hospital of Salisbury | J61: Encompass Health | K61: Yes | L61: No | M61: No | N61: No | O61: No | P61: No | Q61: No | R61: No
A62: 213029 | B62: 213029 | C62: 3029 | D62: SPECIALTY | E62: Other | F62: Montgomery | G62: No | H62: Adventist HealthCare Rehabilitation - Rockville | J62: Adventist Health | K62: Yes | L62: No | M62: No | N62: No | O62: No | P62: No | Q62: No | R62: No
A63: 213030 | C63: 3030 | D63: SPECIALTY | E63: Other | F63: Prince Georges | G63: No | H63: Encompass Health Rehabilitation Hospital of Bowie | I63: Rehab Hospital of Bowie | J63: Encompass Health | K63: Yes | L63: No | M63: No | N63: No | O63: No | P63: No | Q63: No | R63: No
A64: 213300 | C64: 5034 | D64: SPECIALTY | E64: Other | F64: Baltimore City | G64: No | H64: UM Mt. Washington Pediatric Hospital | I64: Mt. Washington Peds | J64: University of Maryland Medical (UMMS) | K64: Yes | L64: No | M64: No | N64: No | O64: No | P64: No | Q64: No | R64: No
A65: 214000 | C65: 4000 | D65: PSYCHIATRIC | E65: Other | F65: Baltimore | G65: No | H65: Sheppard & Enoch Pratt Hospital | I65: Sheppard Pratt | J65: Independent-psych | K65: No | L65: Yes | M65: No | N65: Yes | O65: No | P65: No | Q65: No | R65: No
...

Sheet Rev Prop Prov List v3 
A1: Crosswalk of Valid Codes for Required Provider Types
C3: Source of Admission (Patient Origin) | F3: Patient Disposition
A4: Medicare ID | B4: Facility Name | C4: Valid Codes | D4: Provider ID Req? | E4: Comments | F4: Valid Codes | G4: Provider ID Req? | H4: Comments
A5: MD Acute Care Hospitals | C5: 04 or D | D5: Yes (only for 04) | E5: Usage Note: Use code 04 for transfer between different acute care hospitals (regardless of unit). Use code D for transfers within same hospital (regardless of unit) | F5: 02, 65 (psych unit), 62 (rehab unit); 51 (hospice), 70 (OP) | G5: Yes (codes 02,62 & 65 only) | H5: Usage Note: Use code 02 for PD if unclear. Use code 65 for discharge to psych unit of same hospital or different psyc hospital; use code 62 for discharge to rehab unit of same hospital or different rehab hospital; use code 51 for discharge to hospice facility; use code 70 for discharge to OP for services. Only valid codes for each facility are listed
A6: 210001 | B6: Meritus Health System | C6: 04 or D | D6: Yes (only for 04) | F6: 02, 65 (psych unit), 62 (rehab unit); 51 (hospice), 70 (OP) | G6: Yes (codes 02, 62 & 65 only)
A7: 210002 | B7: University of Maryland Medical Center | C7: 04 or D or G | D7: Yes (only for 04) | F7: 02, 65 (psych unit), 51 (hospice), 70 (OP), 69 | G7: Yes (codes 02 & 65 only) | H7: 62 is not valid
A8: 210003 | B8: UM-Capital Regional Medical Center | C8: 04 or D | D8: Yes (only for 04) | F8: 02, 65 (psych unit), 62 (rehab unit); 51 (hospice), 70 (OP) | G8: Yes (codes 02, 62 & 65 only)
A9: 210004 | B9: Holy Cross Hospital | C9: 04 or D | D9: Yes (only for 04) | F9: 02, 51 (hospice), 70 (OP) | G9: Yes (codes 02 only) | H9: 62 & 65 are not valid
A10: 210005 | B10: Frederick Health Hospital | C10: 04 or D | D10: Yes (only for 04) | F10: 02, 65 (psych unit), 51 (hospice), 70 (OP) | G10: Yes (codes 02 & 65 only) | H10: 62 is not valid
A11: 210008 | B11: Mercy Medical Center | C11: 04 or D | D11: Yes (only for 04) | F11: 02, 51 (hospice), 70 (OP) | G11: Yes (codes 02 only) | H11: 62 & 65 are not valid
A12: 210009 | B12: The Johns Hopkins Hospital | C12: 04 or D | D12: Yes (only for 04) | F12: 02, 65 (psych unit), 62 (rehab unit); 51 (hospice), 70 (OP) | G12: Yes (codes 02, 62 & 65 only)
A13: 210010 | B13: UM Shore Medical Center at Dorchester UM- | C13: 04 or D | D13: Yes (only for 04) | F13: 02, 65 (psych unit), 51 (hospice), 70 (OP) | G13: Yes (codes 02, 62 & 65 only) | H13: 62 is not valid
A14: 210011 | B14: St. Agnes Hospital ASCENSION SAINT AGNES HOSPITAL | C14: 04 or D | D14: Yes (only for 04) | F14: 02, 51 (hospice), 70 (OP) | G14: Yes (codes 02 only) | H14: 62 & 65 are not valid
A15: 210012 | B15: Lifebridge Sinai Hospital | C15: 04 or D | D15: Yes (only for 04) | F15: 02, 65 (psych unit), 62 (rehab unit); 51 (hospice), 70 (OP) | G15: Yes (codes 02, 62 & 65 only)
A16: 210015 | B16: MedStar Franklin Square Medical Center | C16: 04 or D | D16: Yes (only for 04) | F16: 02, 65 (psych unit); 51 (hospice), 70 (OP) | G16: Yes (codes 02 & 65 only) | H16: 62 is not valid
A17: 210016 | B17: Adventist HealthCare White Oak Hospital | C17: 04 or D or G | D17: Yes (only for 04) | F17: 02, 65 (psych unit); 51 (hospice), 70 (OP), 69 | G17: Yes (codes 02, 62 & 65 only) | H17: 62 is not valid
A18: 210017 | B18: Garrett County Memorial Hospital GRMC, Inc. DBA,GARRETT REGIONAL MEDICAL CENTER (effective 7/1/2022) | C18: 04 or D | D18: Yes (only for 04) | F18: 02, 51 (hospice), 70 (OP) | G18: Yes (codes 02 only) | H18: 62 & 65 are not valid
A19: 210018 | B19: MedStar Montgomery Medical Center | C19: 04 or D | D19: Yes (only for 04) | F19: 02, 65 (psych unit); 51 (hospice), 70 (OP) | G19: Yes (codes 02 & 65 only) | H19: 62 is not valid
A20: 210019 | B20: Tidalhealth Peninsula Regional | C20: 04 or D | D20: Yes (only for 04) | F20: 02, 65 (psych unit); 51 (hospice), 70 (OP) | G20: Yes (codes 02 & 65 only) | H20: 62 is not valid
A21: 210022 | B21: Suburban Hospital | C21: 04 or D | D21: Yes (only for 04) | F21: 02, 65 (psych unit); 51 (hospice), 70 (OP) | G21: Yes (codes 02 & 65 only) | H21: 62 is not valid
A22: 210023 | B22: Anne Arundel Medical Center | C22: 04 or D | D22: Yes (only for 04) | F22: 02, 51 (hospice), 70 (OP) | G22: Yes (codes 02 only) | H22: 62 & 65 are not valid
A23: 210024 | B23: MedStar Union Memorial Hospital | C23: 04 or D | D23: Yes (only for 04) | F23: 02, 51 (hospice), 70 (OP) | G23: Yes (codes 02 only) | H23: 62 & 65 are not valid
A24: 210027 | B24: UP - Western Maryland | C24: 04 or D | D24: Yes (only for 04) | F24: 02, 65 (psych unit), 62 (rehab unit); 51 (hospice), 70 (OP) | G24: Yes (codes 02,62 & 65 only)
A25: 210028 | B25: MedStar St. Mary’s Hospital | C25: 04 or D | D25: Yes (only for 04) | F25: 02, 65 (psych unit), 51 (hospice), 70 (OP) | G25: Yes (codes 02 & 65 only) | H25: 62 is not valid
A26: 210029 | B26: Johns Hopkins Bayview Medical Center | C26: 04 or D | D26: Yes (only for 04) | F26: 02, 65 (psych unit), 62, (rehab unit), 51 (hospice), 70 (OP) | G26: Yes (codes 02, 62, & 65 only) | H26: 62 is not valid
A27: 210030 | B27: UM Shore Regional Health at Chestertown (Formerly Chester River) | C27: 04 or D | D27: Yes (only for 04) | F27: 02, 51 (hospice), 70 (OP) | G27: Yes (codes 02 only) | H27: 62 & 65 are not valid
A28: 210032 | B28: ChristianaCare, Union Hospital | C28: 04 or D | D28: Yes (only for 04) | F28: 02, 65 (psych unit), 51 (hospice), 70 (OP) | G28: Yes (codes 02 & 65 only) | H28: 62 is not valid
A29: 210033 | B29: Lifebridge Carroll Hospital Center | C29: 04 or D | D29: Yes (only for 04) | F29: 02, 65 (psych unit), 51 (hospice), 70 (OP) | G29: Yes (codes 02 & 65 only) | H29: 62 is not valid
A30: 210034 | B30: MedStar Harbor Hospital | C30: 04 or D | D30: Yes (only for 04) | F30: 02, 65 (psych unit), 51 (hospice), 70 (OP) | G30: Yes (codes 02 & 65 only) | H30: 62 is not valid
A31: 210035 | B31: UM Charles Regional Medical Center (Formerly Civista) | C31: 04 or D | D31: Yes (only for 04) | F31: 02, 51 (hospice), 70 (OP) | G31: Yes (codes 02 only) | H31: 62 & 65 are not valid
A32: 210037 | B32: UM Shore Regional Health at Easton | C32: 04 or D | D32: Yes (only for 04) | F32: 02, 62 (rehab unit); 51 (hospice), 70 (OP) | G32: Yes (codes 02 & 62 only) | H32: 65 is not valid
A33: 210038 | B33: UMM Center Midtown Campus (acute) (Formerly Maryland General) | C33: 04 or D | D33: Yes (only for 04) | F33: 02, 65 (psych unit); 51 (hospice), 70 (OP) | G33: Yes (codes 02 & 65 only) | H33: 62 is not valid
A34: 210039 | B34: CalvertHealth Medical Center | C34: 04 or D | D34: Yes (only for 04) | F34: 02, 65 (psych unit), 51 (hospice), 70 (OP) | G34: Yes (codes 02 & 65 only) | H34: 62 is not valid
A35: 210040 | B35: Lifebridge Northwest Hospital | C35: 04 or D | D35: Yes (only for 04) | F35: 02, 65 (psych unit), 51 (hospice), 70 (OP) | G35: Yes (codes 02 & 65 only) | H35: 62 is not valid
A36: 210043 | B36: UM Baltimore Washington Medical Center | C36: 04 or D | D36: Yes (only for 04) | F36: 02, 65 (psych unit), 51 (hospice), 70 (OP) | G36: Yes (codes 02 & 65 only) | H36: 62 is not valid
... A50: 218992 | B50: University of Maryland Shock Trauma | C50: 04 or D | D50: Yes (only for 04) | F50: 02, 51 (hospice), 70 (OP) | G50: Yes (codes 02 only) | H50: 62 & 65 are not valid
A51: 210068 | B51: Baltimore Convention Center | C51: G | F51: 69
A52: MD Acute Care Hospitals with Chronic Licensed Beds | C52: 04 or D | D52: Yes (only for 04) | E52: Usage Note: Use code 04 for transfer between different acute care hospitals (regardless of unit). Use code D for transfers within same hospital (regardless of unit) | F52: 02, 62 (rehab), 51 (hospice), 70 (OP) | G52: Yes | H52: Usage Note: Use code 02 for PD if unclear. Use code 65 for discharge to psych unit of same hospital or different psyc hospital; use code 62 for discharge to rehab unit of same hospital or different rehab hospital; use code 51 for discharge to hospice facility; use code 70 for discharge to OP for services. Only valid codes applying to each facility is listed
A53: 210003 | B53: UM Capital Regional Medical Center | C53: 04 or D | D53: Yes (only for 04) | F53: 02, 62 (rehab), 51 (hospice), 70 (OP) | G53: Yes (codes 02 & 62 only) | H53: 65 is not valid
A54: 210058 | B54: UM Rehab & Orthopaedic Institute (Formerly Kernan) | C54: 04 or D | D54: Yes (only for 04) | F54: 02, 62 (rehab), 51 (hospice), 70 (OP) | G54: Yes (codes 02 & 62 only) | H54: 65 is not valid
...

Sheet Preferred Lang Codes
A1: Preferred Language Codes | C1: Text in RED indicate new items from prior fiscal year
A2: Code | B2: Description
A3: 01 | B3: ENGLISH
A4: 02 | B4: SPANISH
A5: 03 | B5: CHINESE/MANDARIN/CANTONESE
A6: 04 | B6: ARABIC
A7: 05 | B7: KOREAN
A8: 06 | B8: RUSSIAN
A9: 07 | B9: FRENCH
A10: 08 | B10: VIETNAMESE
A11: 09 | B11: AMHARIC (ETHIOPIAN)
A12: 10 | B12: URDU (PAKISTAN/INDIA)
A13: 11 | B13: HINDI
... A35: 99 | B35: NOT APPLICABLE (INCLUDES NEWBORNS)

Sheet Rate Center Codes
A1: Rate Center Codes | F1: ='[1]Record Type 1'!D1 -> Text in RED indicate new items from prior fiscal year
A2: Code | B2: Description | C2: Code Abbreviation | D2: HSCRC Variable Name (Units & Charges Associated with Each Rate Center)
D3: UNITS | E3: CHARGES
A4: 01 | B4: Rate Center for Medical Surgical Acute (MSG) | C4: MSG | D4: RCTUNT1 | E4: RCTCHG1
A5: 02 | B5: Rate Center for Pediatrics Acute (PED) | C5: PED | D5: RCTUNT2 | E5: RCTCHG2
A6: 03 | B6: Rate Center for Psychiatric Acute (PSY) | C6: PSY | D6: RCTUNT3 | E6: RCTCHG3
A7: 04 | B7: Rate Center for Obstetrics Acute (OBS) | C7: OBS | D7: RCTUNT4 | E7: RCTCHG4
A8: 05 | B8: Rate Center for Definitive Observation (DEF) | C8: DEF | D8: RCTUNT5 | E8: RCTCHG5
A9: 06 | B9: Rate Center for Medical Surgical ICU (MIS) | C9: MIS | D9: RCTUNT6 | E9: RCTCHG6
A10: 07 | B10: Rate Center for Coronary Care (CCU) | C10: CCU | D10: RCTUNT7 | E10: RCTCHG7
A11: 08 | B11: Rate Center for Pediatric ICU (PIC) | C11: PIC | D11: RCTUNT8 | E11: RCTCHG8
A12: 09 | B12: Rate Center for Neonatal ICU (NEO) | C12: NEO | D12: RCTUNT9 | E12: RCTCHG9
A13: 10 | B13: Rate Center for Burn Care (BUR) | C13: BUR | D13: RCTUNT10 | E13: RCTCHG10
A14: 11 | B14: Rate Center for Psychiatric ICU (PSI) Discontinued since 06/30/2020 | C14: PSI | D14: RCTUNT11 | E14: RCTCHG11
A15: 12 | B15: Rate Center for Shock Trauma (TRM) | C15: TRM | D15: RCTUNT12 | E15: RCTCHG12
