Workbook

Sheet Modeling - Base Estimates
O1: 0.077 | P1: 0.1122 | Q1: 0.077 | R1: 0.077 | S1: 0.0225 | T1: 0.02 | U1: 0.02 | V1: 0 | W1: 0.02
N2: Discount: | O2: 0.077 | P2: 0.077 | Q2: 0.077 | R2: 0.077 | S2: 0.0225 | T2: 0.02 | U2: 0.02 | V2: 0 | W2: 0.02 | AS2: Should be 10.66% | AU2: Should be 0%
D3: FY25 PDA | O3: Percent Share | AR3: MA QP | AT3: MA non QP | AY3: Discount Break Out - As Is | BF3: Discount Break Out - Final | CK3: Effective Discount
A4: Short ID | B4: HospID | C4: Hospital Name | D4: Gross Patient Revenue | E4: Medicare FFS Revenue | F4: Medicare Advantage Revenue - Qualifying Plans | G4: Medicare Advantage Revenue - Non-Qualifying Plans | H4: Medicaid Revenue | I4: Medicaid MCO Revenue | J4: Commercial Inpatient Revenue | K4: Commercial Outpatient Revenue | L4: Medicare Deductibles (Paid by Medicaid) | M4: UCC | N4: Other Payers | O4: Medicare FFS | P4: Medicare Advantage - Qualifying Plans | Q4: Medicare Advantage - Non-Qualifying Plans | R4: Medicaid | S4: Commercial IP | T4: Commercial OP | U4: Medicare Deductible | V4: UCC | W4: Other Payers | X4: FY27 GBR (Preliminary), Gross - Jan to Jun | Y4: FY27 GBR (Preliminary) | Z4: FY27 GBR, Net | AA4: Incremental New MA QP Discount | AB4: FY27 Orig GBR, Net w MA QP Differential Change | AC4: FY27 GBR, Gross w MA QP Differential Change | AD4: FY27 GBR, New Net | AE4: New MA NonQP Discount | AF4: FY27 GBR w MA QP Change, Net w MA Non-QP Differential Change | AG4: FY27 GBR, Gross w MA Non QP Differential Change | AH4: FY27 GBR, New Net | AI4: MPA Offset | AJ4: MPA Offset w Mark Up | AK4: FY27 GBR, Gross with MPA | AL4: FY27 GBR, Net with MPA | AM4: MPA Adjustment | AN4: MPA % | AO4: FY27 GBR, Net after MPA Adjustment | AP4: Net Medicare FFS | AR4: Discount v Old Gross | AS4: Incremental v Old Gross | AT4: Discount v Old Gross | AU4: Incremental v Old Gross | AV4: Total Net Share, after MA Changes | AW4: CO+Medicaid Net Share | AY4: MC FFS | AZ4: MA QP | BA4: MA Non-QP | BB4: Medicaid | BC4: All Other | BD4: Check | BF4: MC FFS | BG4: MA QP | BH4: MA Non-QP | BI4: Medicaid | BJ4: All Other | BK4: Check | BM4: Gross GBR (Pre) | BN4: Medicare FFS Discount (Pre) | BO4: Medicare Advantage QP Discount (Pre) | BP4: Medicare Advantage non-QP Discount (Pre) | BQ4: Medicaid Discount (Pre) | BR4: All Other Discount (Pre) | BS4: Net GBR (Pre) | BU4: Gross GBR (Post) | BV4: Medicare FFS Discount (Post) | BW4: MPA | BX4: Medicare Advantage QP Discount (Post) | BY4: Medicare Advantage non-QP Discount (Post) | BZ4: Medicaid Discount (Post) | CA4: All Other Discount (Post) | CB4: Net GBR (Post) | CD4: Net Increase (Decrease) | CF4: Gross FFS (Pre) | CG4: Net FFS (Pre) | CH4: Net FFS (Post) | CI4: Difference | CK4: New | CL4: Orig
A5: 1 | B5: 210001 | D5: 540426100 | E5: 195056900 | F5: 17084685 | G5: 65643915 | H5: 15216900 | I5: 83029700 | J5: 28769300 | K5: 39563100 | L5: 0 | M5: 24180500 | N5: =D5-SUM(E5:M5) -> 71881100 | O5: =E5/$D5 -> 0.36093168 | P5: =F5/$D5 -> 0.03161336 | Q5: =G5/$D5 -> 0.12146696 | R5: =(H5+I5)/$D5 -> 0.1817947 | S5: =J5/$D5 -> 0.053234476 | T5: =K5/$D5 -> 0.073207234 | U5: =L5/$D5 -> 0 | V5: =M5/$D5 -> 0.044743398 | W5: =(N5)/$D5 -> 0.13300819 | X5: =Y5*(1-0.4973) -> 3.1175787e+08 | Y5: 6.2016684e+08 | Z5: =(X5*O5*(1-O$2))+(X5*P5*(1-O$2))+(X5*Q5*(1-Q$2))+(X5*R5*(1-R$2))+(X5*S5*(1-S$2))+(X5*T5*(1-T$2))+(X5*U5*(1-U$2))+(X5*V5*(1-V$2))+(X5*W5*(1-W$2)) -> 2.9339558e+08 | AA5: =$AA$51 -> 0.114873 | AB5: =(X5*O5*(1-O$2))+(X5*P5*(1-AA5-O$2))+(X5*Q5*(1-Q$2))+(X5*R5*(1-R$2))+(X5*S5*(1-S$2))+(X5*T5*(1-T$2))+(X5*U5*(1-U$2))+(X5*V5*(1-V$2))+(X5*W5*(1-W$2)) -> 2.9226342e+08 | AC5: =((Z5-AB5)*O5/(1-O$2))+((Z5-AB5)*P5/(1-(AA$5+O$2)))+((Z5-AB5)*Q5/(1-Q$2))+((Z5-AB5)*R5/(1-R$2))+((Z5-AB5)*S5/(1-S$2))+((Z5-AB5)*T5/(1-T$2))+((Z5-AB5)*U5/(1-U$2))+((Z5-AB5)*V5/(1-V$2))+((Z5-AB5)*W5/(1-W$2))+X5 -> 3.1296741e+08 | AD5: =(AC5*O5*(1-O$2))+(AC5*P5*(1-AA5-O$2))+(AC5*Q5*(1-Q$2))+(AC5*R5*(1-R$2))+(AC5*S5*(1-S$2))+(AC5*T5*(1-T$2))+(AC5*U5*(1-U$2))+(AC5*V5*(1-V$2))+(AC5*W5*(1-W$2)) -> 2.9339733e+08 | AE5: =$AE$51 -> 0.086354 | AF5: =(AC5*O5*(1-O$2))+(AC5*P5*(1-AA5-O$2))+(AC5*Q5*(1-AE$5))+(AC5*R5*(1-R$2))+(AC5*S5*(1-S$2))+(AC5*T5*(1-T$2))+(AC5*U5*(1-U$2))+(AC5*V5*(1-V$2))+(AC5*W5*(1-W$2)) -> 2.9304173e+08 | AG5: =((AD5-AF5)*O5/(1-O$2))+((AD5-AF5)*P5/(1-(AA$5+O$2)))+((AD5-AF5)*Q5/(1-AE$5))+((AD5-AF5)*R5/(1-R$2))+((AD5-AF5)*S5/(1-S$2))+((AD5-AF5)*T5/(1-T$2))+((AD5-AF5)*U5/(1-U$2))+((AD5-AF5)*V5/(1-V$2))+((AD5-AF5)*W5/(1-W$2))+AC5 -> 3.1334778e+08 | AH5: =(AG5*O5*(1-O$2))+(AG5*P5*(1-AA5-O$2))+(AG5*Q5*(1-AE$5))+(AG5*R5*(1-R$2))+(AG5*S5*(1-S$2))+(AG5*T5*(1-T$2))+(AG5*U5*(1-U$2))+(AG5*V5*(1-V$2))+(AG5*W5*(1-W$2)) -> 2.9339789e+08 | AI5: =(AG5*O5*(1-O$2))-(X5*O5*(1-O$2)) -> 529664.23 | AJ5: =AI5/(AW5/AV5) -> 822194.59 | AK5: =AG5+(AJ5*O5)/(1-O$2)+(AJ5*P5)/(1-O$2-AA5)+(AJ5*Q5)/(1-AE5)+(AJ5*R5)/(1-R$2)+(AJ5*S5)/(1-S$2)+(AJ5*T5)/(1-T$2)+(AJ5*U5)/(1-U$2)+(AJ5*V5)/(1-V$2)+(AJ5*W5)/(1-W$2) -> 3.1422728e+08 | AL5: =(AK5*O5*(1-O$2))+(AK5*P5*(1-AA5-O$2))+(AK5*Q5*(1-AE$5))+(AK5*R5*(1-R$2))+(AK5*S5*(1-S$2))+(AK5*T5*(1-T$2))+(AK5*U5*(1-U$2))+(AK5*V5*(1-V$2))+(AK5*W5*(1-W$2)) -> 2.942214e+08 | AM5: =(AK5*O5*(1-O$2))-(X5*O5*(1-O$2)) -> 822660.37 | AN5: =AM5/((O5*AL5)) -> 0.0077467817 | AO5: =AL5-AM5 -> 2.9339874e+08 | AP5: =(((AK5*O5*(1-O$2))/AL5)*AL5)-AM5-(((X5*O5*(1-O$2))/Z5)*Z5) -> 0 | AR5: =1-((((AK5*P5*(1-O$2-AA5))/AL5)*AL5)/(X5*P5)) -> 0.18547188 | AS5: =AR5-$O$2 -> 0.10847188 | AT5: =1-((((AK5*Q5*(1-AE5))/AL5)*AL5)/(X5*Q5)) -> 0.079117069 | AU5: =AT5-$O$2 -> 0.0021170694 | AV5: =$O5*(1-$O$2)+$P5*(1-$O$2-$AA5)+$Q5*(1-$AE5)+$R5*(1-$R$2)+$S5*(1-$S$2)+$T5*(1-$T$2)+$U5*(1-$U$2)+$V5*(1-$V$2)+$W5*(1-$W$2) -> 0.93633308 | AW5: =$P5*(1-$O$2-$AA5)+$Q5*(1-$AE5)+$R5*(1-$R$2)+$S5*(1-$S$2)+$T5*(1-$T$2)+$U5*(1-$U$2)+$V5*(1-$V$2)+$W5*(1-$W$2) -> 0.60319314 | AY5: =(X5*$O5*($O$2)) -> 8664293.4 | AZ5: =(X5*$P5*($O$2)) -> 758889.95 | BA5: =(X5*Q5*($Q$2)) -> 2915857.6 | BB5: =(X5*$R5*($R$2)) -> 4364046.4 | BC5: =(X5*$S5*($S$2))+(X5*$T5*($T$2))+(X5*$U5*($U$2))+(X5*$V5*($V$2))+(X5*$W5*($W$2)) -> 1659201.6 | BD5: =SUM(AY5:BC5)-(X5-Z5) -> 0 | BF5: =(AK5*$O5*($O$2)) -> 8732922.7 | BG5: =(AK5*$P5*($O$2+$AA5)) -> 1906024.2 | BH5: =(AK5*Q5*($AE5)) -> 3295979.6 | BI5: =(AK5*$R5*($R$2)) -> 4398613.8 | BJ5: =(AK5*$S5*($S$2))+(AK5*$T5*($T$2))+(AK5*$U5*($U$2))+(AK5*$V5*($V$2))+(AK5*$W5*($W$2)) -> 1672344.1 | BK5: =SUM(BF5:BJ5)-(AK5-AL5) -> 0 | BM5: =X5 -> 3.1175787e+08 | BN5: =AY5 -> 8664293.4 | BO5: =AZ5 -> 758889.95 | BP5: =BA5 -> 2915857.6 | BQ5: =BB5 -> 4364046.4 | BR5: =BC5 -> 1659201.6 | BS5: =BM5-SUM(BN5:BR5) -> 2.9339558e+08 | BU5: =AK5 -> 3.1422728e+08 | BV5: =BF5 -> 8732922.7 | BW5: =AM5 -> 822660.37 | BX5: =BG5 -> 1906024.2 | BY5: =BH5 -> 3295979.6 | BZ5: =BI5 -> 4398613.8 | CA5: =BJ5 -> 1672344.1 | CB5: =BU5-SUM(BV5:CA5) -> 2.9339874e+08 | CD5: =CB5-BS5 -> 3158.1744 | CE5: =CD5/BS5 -> 1.0764219e-05 | CF5: =($X5*O5) -> 1.1252329e+08 | CG5: =CF5-AY5 -> 1.03859e+08 | CH5: =($AK5*O5)-BF5-AM5 -> 1.03859e+08 | CI5: =CH5-CG5 -> 0 | CK5: =1-CH5/CF5 -> 0.077 | CL5: =1-CG5/CF5 -> 0.077
A6: 2 | B6: 210002 | D6: 1.9989426e+09 | E6: 5.6048478e+08 | F6: 95280202 | G6: 1.3402963e+08 | H6: 89178014 | I6: 4.113143e+08 | J6: 196198153 | K6: 1.092107e+08 | L6: 6086659.5 | M6: 43032337 | N6: =D6-SUM(E6:M6) -> 3.5412787e+08 | O6: =E6/$D6 -> 0.28039063 | P6: =F6/$D6 -> 0.0476653 | Q6: =G6/$D6 -> 0.067050263 | R6: =(H6+I6)/$D6 -> 0.25037852 | S6: =J6/$D6 -> 0.098150967 | T6: =K6/$D6 -> 0.054634234 | U6: =L6/$D6 -> 0.0030449395 | V6: =M6/$D6 -> 0.02152755 | W6: =(N6)/$D6 -> 0.1771576 | X6: =Y6*(1-0.4973) -> 1.1094544e+09 | Y6: 2.2069911e+09 | Z6: =(X6*O6*(1-O$2))+(X6*P6*(1-O$2))+(X6*Q6*(1-Q$2))+(X6*R6*(1-R$2))+(X6*S6*(1-S$2))+(X6*T6*(1-T$2))+(X6*U6*(1-U$2))+(X6*V6*(1-V$2))+(X6*W6*(1-W$2)) -> 1.046651e+09 | AA6: =$AA$51 -> 0.114873 | AB6: =(X6*O6*(1-O$2))+(X6*P6*(1-AA6-O$2))+(X6*Q6*(1-Q$2))+(X6*R6*(1-R$2))+(X6*S6*(1-S$2))+(X6*T6*(1-T$2))+(X6*U6*(1-U$2))+(X6*V6*(1-V$2))+(X6*W6*(1-W$2)) -> 1.0405763e+09 | AC6: =((Z6-AB6)*O6/(1-O$2))+((Z6-AB6)*P6/(1-(AA$5+O$2)))+((Z6-AB6)*Q6/(1-Q$2))+((Z6-AB6)*R6/(1-R$2))+((Z6-AB6)*S6/(1-S$2))+((Z6-AB6)*T6/(1-T$2))+((Z6-AB6)*U6/(1-U$2))+((Z6-AB6)*V6/(1-V$2))+((Z6-AB6)*W6/(1-W$2))+X6 -> 1.1159437e+09 | AD6: =(AC6*O6*(1-O$2))+(AC6*P6*(1-AA6-O$2))+(AC6*Q6*(1-Q$2))+(AC6*R6*(1-R$2))+(AC6*S6*(1-S$2))+(AC6*T6*(1-T$2))+(AC6*U6*(1-U$2))+(AC6*V6*(1-V$2))+(AC6*W6*(1-W$2)) -> 1.0466627e+09 | AE6: =$AE$51 -> 0.086354 | AF6: =(AC6*O6*(1-O$2))+(AC6*P6*(1-AA6-O$2))+(AC6*Q6*(1-AE$5))+(AC6*R6*(1-R$2))+(AC6*S6*(1-S$2))+(AC6*T6*(1-T$2))+(AC6*U6*(1-U$2))+(AC6*V6*(1-V$2))+(AC6*W6*(1-W$2)) -> 1.0459628e+09 | AG6: =((AD6-AF6)*O6/(1-O$2))+((AD6-AF6)*P6/(1-(AA$5+O$2)))+((AD6-AF6)*Q6/(1-AE$5))+((AD6-AF6)*R6/(1-R$2))+((AD6-AF6)*S6/(1-S$2))+((AD6-AF6)*T6/(1-T$2))+((AD6-AF6)*U6/(1-U$2))+((AD6-AF6)*V6/(1-V$2))+((AD6-AF6)*W6/(1-W$2))+AC6 -> 1.1166919e+09 | AH6: =(AG6*O6*(1-O$2))+(AG6*P6*(1-AA6-O$2))+(AG6*Q6*(1-AE$5))+(AG6*R6*(1-R$2))+(AG6*S6*(1-S$2))+(AG6*T6*(1-T$2))+(AG6*U6*(1-U$2))+(AG6*V6*(1-V$2))+(AG6*W6*(1-W$2)) -> 1.0466641e+09 | AI6: =(AG6*O6*(1-O$2))-(X6*O6*(1-O$2)) -> 1873071.1 | AJ6: =AI6/(AW6/AV6) -> 2587528.6 | AK6: =AG6+(AJ6*O6)/(1-O$2)+(AJ6*P6)/(1-O$2-AA6)+(AJ6*Q6)/(1-AE6)+(AJ6*R6)/(1-R$2)+(AJ6*S6)/(1-S$2)+(AJ6*T6)/(1-T$2)+(AJ6*U6)/(1-U$2)+(AJ6*V6)/(1-V$2)+(AJ6*W6)/(1-W$2) -> 1.119458e+09 | AL6: =(AK6*O6*(1-O$2))+(AK6*P6*(1-AA6-O$2))+(AK6*Q6*(1-AE$5))+(AK6*R6*(1-R$2))+(AK6*S6*(1-S$2))+(AK6*T6*(1-T$2))+(AK6*U6*(1-U$2))+(AK6*V6*(1-V$2))+(AK6*W6*(1-W$2)) -> 1.0492566e+09 | AM6: =(AK6*O6*(1-O$2))-(X6*O6*(1-O$2)) -> 2588921 | AN6: =AM6/((O6*AL6)) -> 0.0087998157 | AO6: =AL6-AM6 -> 1.0466677e+09 | AP6: =(((AK6*O6*(1-O$2))/AL6)*AL6)-AM6-(((X6*O6*(1-O$2))/Z6)*Z6) -> 0 | AR6: =1-((((AK6*P6*(1-O$2-AA6))/AL6)*AL6)/(X6*P6)) -> 0.18458642 | AS6: =AR6-$O$2 -> 0.10758642 | AT6: =1-((((AK6*Q6*(1-AE6))/AL6)*AL6)/(X6*Q6)) -> 0.078115994 | AU6: =AT6-$O$2 -> 0.0011159942 | AV6: =$O6*(1-$O$2)+$P6*(1-$O$2-$AA6)+$Q6*(1-$AE6)+$R6*(1-$R$2)+$S6*(1-$S$2)+$T6*(1-$T$2)+$U6*(1-$U$2)+$V6*(1-$V$2)+$W6*(1-$W$2) -> 0.9372899 | AW6: =$P6*(1-$O$2-$AA6)+$Q6*(1-$AE6)+$R6*(1-$R$2)+$S6*(1-$S$2)+$T6*(1-$T$2)+$U6*(1-$U$2)+$V6*(1-$V$2)+$W6*(1-$W$2) -> 0.67848935 | AY6: =(X6*$O6*($O$2)) -> 23953208 | AZ6: =(X6*$P6*($O$2)) -> 4071950.8 | BA6: =(X6*Q6*($Q$2)) -> 5727969.2 | BB6: =(X6*$R6*($R$2)) -> 21389334 | BC6: =(X6*$S6*($S$2))+(X6*$T6*($T$2))+(X6*$U6*($U$2))+(X6*$V6*($V$2))+(X6*$W6*($W$2)) -> 7660929.4 | BD6: =SUM(AY6:BC6)-(X6-Z6) -> 1.1920929e-07 | BF6: =(AK6*$O6*($O$2)) -> 24169185 | BG6: =(AK6*$P6*($O$2+$AA6)) -> 10238209 | BH6: =(AK6*Q6*($AE6)) -> 6481727 | BI6: =(AK6*$R6*($R$2)) -> 21582194 | BJ6: =(AK6*$S6*($S$2))+(AK6*$T6*($T$2))+(AK6*$U6*($U$2))+(AK6*$V6*($V$2))+(AK6*$W6*($W$2)) -> 7730005.2 | BK6: =SUM(BF6:BJ6)-(AK6-AL6) -> 1.7881393e-07 | BM6: =X6 -> 1.1094544e+09 | BN6: =AY6 -> 23953208 | BO6: =AZ6 -> 4071950.8 | BP6: =BA6 -> 5727969.2 | BQ6: =BB6 -> 21389334 | BR6: =BC6 -> 7660929.4 | BS6: =BM6-SUM(BN6:BR6) -> 1.046651e+09 | BU6: =AK6 -> 1.119458e+09 | BV6: =BF6 -> 24169185 | BW6: =AM6 -> 2588921 | BX6: =BG6 -> 10238209 | BY6: =BH6 -> 6481727 | BZ6: =BI6 -> 21582194 | CA6: =BJ6 -> 7730005.2 | CB6: =BU6-SUM(BV6:CA6) -> 1.0466677e+09 | CD6: =CB6-BS6 -> 16688.019 | CE6: =CD6/BS6 -> 1.5944206e-05 | CF6: =($X6*O6) -> 3.1108062e+08 | CG6: =CF6-AY6 -> 2.8712741e+08 | CH6: =($AK6*O6)-BF6-AM6 -> 2.8712741e+08 | CI6: =CH6-CG6 -> 0 | CK6: =1-CH6/CF6 -> 0.077 | CL6: =1-CG6/CF6 -> 0.077
A7: 3 | B7: 210003 | D7: 4.8432511e+08 | E7: 1.1335404e+08 | F7: 40465630 | G7: 29007312 | H7: 27626915 | I7: 1.1732571e+08 | J7: 30292846 | K7: 21023955 | L7: 1018742.4 | M7: 30929000 | N7: =D7-SUM(E7:M7) -> 73280950 | O7: =E7/$D7 -> 0.23404536 | P7: =F7/$D7 -> 0.083550553 | Q7: =G7/$D7 -> 0.059892233 | R7: =(H7+I7)/$D7 -> 0.29928786 | S7: =J7/$D7 -> 0.062546513 | T7: =K7/$D7 -> 0.043408766 | U7: =L7/$D7 -> 0.0021034268 | V7: =M7/$D7 -> 0.063859997 | W7: =(N7)/$D7 -> 0.15130529 | X7: =Y7*(1-0.4973) -> 2.6134271e+08 | Y7: 5.1987807e+08 | Z7: =(X7*O7*(1-O$2))+(X7*P7*(1-O$2))+(X7*Q7*(1-Q$2))+(X7*R7*(1-R$2))+(X7*S7*(1-S$2))+(X7*T7*(1-T$2))+(X7*U7*(1-U$2))+(X7*V7*(1-V$2))+(X7*W7*(1-W$2)) -> 2.4632716e+08 | AA7: =$AA$51 -> 0.114873 | AB7: =(X7*O7*(1-O$2))+(X7*P7*(1-AA7-O$2))+(X7*Q7*(1-Q$2))+(X7*R7*(1-R$2))+(X7*S7*(1-S$2))+(X7*T7*(1-T$2))+(X7*U7*(1-U$2))+(X7*V7*(1-V$2))+(X7*W7*(1-W$2)) -> 2.4381887e+08 | AC7: =((Z7-AB7)*O7/(1-O$2))+((Z7-AB7)*P7/(1-(AA$5+O$2)))+((Z7-AB7)*Q7/(1-Q$2))+((Z7-AB7)*R7/(1-R$2))+((Z7-AB7)*S7/(1-S$2))+((Z7-AB7)*T7/(1-T$2))+((Z7-AB7)*U7/(1-U$2))+((Z7-AB7)*V7/(1-V$2))+((Z7-AB7)*W7/(1-W$2))+X7 -> 2.6403857e+08 | AD7: =(AC7*O7*(1-O$2))+(AC7*P7*(1-AA7-O$2))+(AC7*Q7*(1-Q$2))+(AC7*R7*(1-R$2))+(AC7*S7*(1-S$2))+(AC7*T7*(1-T$2))+(AC7*U7*(1-U$2))+(AC7*V7*(1-V$2))+(AC7*W7*(1-W$2)) -> 2.4633397e+08 | AE7: =$AE$51 -> 0.086354 | AF7: =(AC7*O7*(1-O$2))+(AC7*P7*(1-AA7-O$2))+(AC7*Q7*(1-AE$5))+(AC7*R7*(1-R$2))+(AC7*S7*(1-S$2))+(AC7*T7*(1-T$2))+(AC7*U7*(1-U$2))+(AC7*V7*(1-V$2))+(AC7*W7*(1-W$2)) -> 2.4618605e+08 | AG7: =((AD7-AF7)*O7/(1-O$2))+((AD7-AF7)*P7/(1-(AA$5+O$2)))+((AD7-AF7)*Q7/(1-AE$5))+((AD7-AF7)*R7/(1-R$2))+((AD7-AF7)*S7/(1-S$2))+((AD7-AF7)*T7/(1-T$2))+((AD7-AF7)*U7/(1-U$2))+((AD7-AF7)*V7/(1-V$2))+((AD7-AF7)*W7/(1-W$2))+AC7 -> 2.6419766e+08 | AH7: =(AG7*O7*(1-O$2))+(AG7*P7*(1-AA7-O$2))+(AG7*Q7*(1-AE$5))+(AG7*R7*(1-R$2))+(AG7*S7*(1-S$2))+(AG7*T7*(1-T$2))+(AG7*U7*(1-U$2))+(AG7*V7*(1-V$2))+(AG7*W7*(1-W$2)) -> 2.4633437e+08 | AI7: =(AG7*O7*(1-O$2))-(X7*O7*(1-O$2)) -> 616737.25 | AJ7: =AI7/(AW7/AV7) -> 802718.38 | AK7: =AG7+(AJ7*O7)/(1-O$2)+(AJ7*P7)/(1-O$2-AA7)+(AJ7*Q7)/(1-AE7)+(AJ7*R7)/(1-R$2)+(AJ7*S7)/(1-S$2)+(AJ7*T7)/(1-T$2)+(AJ7*U7)/(1-U$2)+(AJ7*V7)/(1-V$2)+(AJ7*W7)/(1-W$2) -> 2.6506094e+08 | AL7: =(AK7*O7*(1-O$2))+(AK7*P7*(1-AA7-O$2))+(AK7*Q7*(1-AE$5))+(AK7*R7*(1-R$2))+(AK7*S7*(1-S$2))+(AK7*T7*(1-T$2))+(AK7*U7*(1-U$2))+(AK7*V7*(1-V$2))+(AK7*W7*(1-W$2)) -> 2.4713929e+08 | AM7: =(AK7*O7*(1-O$2))-(X7*O7*(1-O$2)) -> 803226.58 | AN7: =AM7/((O7*AL7)) -> 0.01388661 | AO7: =AL7-AM7 -> 2.4633606e+08 | AP7: =(((AK7*O7*(1-O$2))/AL7)*AL7)-AM7-(((X7*O7*(1-O$2))/Z7)*Z7) -> 0 | AR7: =1-((((AK7*P7*(1-O$2-AA7))/AL7)*AL7)/(X7*P7)) -> 0.18037544 | AS7: =AR7-$O$2 -> 0.10337544 | AT7: =1-((((AK7*Q7*(1-AE7))/AL7)*AL7)/(X7*Q7)) -> 0.073355181 | AU7: =AT7-$O$2 -> -0.0036448191 | AV7: =$O7*(1-$O$2)+$P7*(1-$O$2-$AA7)+$Q7*(1-$AE7)+$R7*(1-$R$2)+$S7*(1-$S$2)+$T7*(1-$T$2)+$U7*(1-$U$2)+$V7*(1-$V$2)+$W7*(1-$W$2) -> 0.93238667 | AW7: =$P7*(1-$O$2-$AA7)+$Q7*(1-$AE7)+$R7*(1-$R$2)+$S7*(1-$S$2)+$T7*(1-$T$2)+$U7*(1-$U$2)+$V7*(1-$V$2)+$W7*(1-$W$2) -> 0.7163628 | AY7: =(X7*$O7*($O$2)) -> 4709785.7 | AZ7: =(X7*$P7*($O$2)) -> 1681320.2 | BA7: =(X7*Q7*($Q$2)) -> 1205234.7 | BB7: =(X7*$R7*($R$2)) -> 6022685.9 | BC7: =(X7*$S7*($S$2))+(X7*$T7*($T$2))+(X7*$U7*($U$2))+(X7*$V7*($V$2))+(X7*$W7*($W$2)) -> 1396523 | BD7: =SUM(AY7:BC7)-(X7-Z7) -> 0 | BF7: =(AK7*$O7*($O$2)) -> 4776793.8 | BG7: =(AK7*$P7*($O$2+$AA7)) -> 4249217.2 | BH7: =(AK7*Q7*($AE7)) -> 1370877.7 | BI7: =(AK7*$R7*($R$2)) -> 6108373.2 | BJ7: =(AK7*$S7*($S$2))+(AK7*$T7*($T$2))+(AK7*$U7*($U$2))+(AK7*$V7*($V$2))+(AK7*$W7*($W$2)) -> 1416391.9 | BK7: =SUM(BF7:BJ7)-(AK7-AL7) -> 0 | BM7: =X7 -> 2.6134271e+08 | BN7: =AY7 -> 4709785.7 | BO7: =AZ7 -> 1681320.2 | BP7: =BA7 -> 1205234.7 | BQ7: =BB7 -> 6022685.9 | BR7: =BC7 -> 1396523 | BS7: =BM7-SUM(BN7:BR7) -> 2.4632716e+08 | BU7: =AK7 -> 2.6506094e+08 | BV7: =BF7 -> 4776793.8 | BW7: =AM7 -> 803226.58 | BX7: =BG7 -> 4249217.2 | BY7: =BH7 -> 1370877.7 | BZ7: =BI7 -> 6108373.2 | CA7: =BJ7 -> 1416391.9 | CB7: =BU7-SUM(BV7:CA7) -> 2.4633606e+08 | CD7: =CB7-BS7 -> 8899.9928 | CE7: =CD7/BS7 -> 3.6130782e-05 | CF7: =($X7*O7) -> 61166049 | CG7: =CF7-AY7 -> 56456263 | CH7: =($AK7*O7)-BF7-AM7 -> 56456263 | CI7: =CH7-CG7 -> 0 | CK7: =1-CH7/CF7 -> 0.077 | CL7: =1-CG7/CF7 -> 0.077
A8: 4 | B8: 210004 | D8: 638008057 | E8: 1.1529329e+08 | F8: 89031176 | G8: 21808091 | H8: 38011102 | I8: 1.3146383e+08 | J8: 38795590 | K8: 21621496 | L8: 4480781.6 | M8: 38345458 | N8: =D8-SUM(E8:M8) -> 1.3915725e+08 | O8: =E8/$D8 -> 0.1807082 | P8: =F8/$D8 -> 0.13954553 | Q8: =G8/$D8 -> 0.03418153 | R8: =(H8+I8)/$D8 -> 0.26563134 | S8: =J8/$D8 -> 0.060807367 | T8: =K8/$D8 -> 0.033889064 | U8: =L8/$D8 -> 0.00702308 | V8: =M8/$D8 -> 0.060101839 | W8: =(N8)/$D8 -> 0.21811205 | X8: =Y8*(1-0.4973) -> 3.5255072e+08 | Y8: 7.0131434e+08 | Z8: =(X8*O8*(1-O$2))+(X8*P8*(1-O$2))+(X8*Q8*(1-Q$2))+(X8*R8*(1-R$2))+(X8*S8*(1-S$2))+(X8*T8*(1-T$2))+(X8*U8*(1-U$2))+(X8*V8*(1-V$2))+(X8*W8*(1-W$2)) -> 3.3340941e+08 | AA8: =$AA$51 -> 0.114873 | AB8: =(X8*O8*(1-O$2))+(X8*P8*(1-AA8-O$2))+(X8*Q8*(1-Q$2))+(X8*R8*(1-R$2))+(X8*S8*(1-S$2))+(X8*T8*(1-T$2))+(X8*U8*(1-U$2))+(X8*V8*(1-V$2))+(X8*W8*(1-W$2)) -> 3.2775802e+08 | AC8: =((Z8-AB8)*O8/(1-O$2))+((Z8-AB8)*P8/(1-(AA$5+O$2)))+((Z8-AB8)*Q8/(1-Q$2))+((Z8-AB8)*R8/(1-R$2))+((Z8-AB8)*S8/(1-S$2))+((Z8-AB8)*T8/(1-T$2))+((Z8-AB8)*U8/(1-U$2))+((Z8-AB8)*V8/(1-V$2))+((Z8-AB8)*W8/(1-W$2))+X8 -> 3.5865369e+08 | AD8: =(AC8*O8*(1-O$2))+(AC8*P8*(1-AA8-O$2))+(AC8*Q8*(1-Q$2))+(AC8*R8*(1-R$2))+(AC8*S8*(1-S$2))+(AC8*T8*(1-T$2))+(AC8*U8*(1-U$2))+(AC8*V8*(1-V$2))+(AC8*W8*(1-W$2)) -> 3.334318e+08 | AE8: =$AE$51 -> 0.086354 | AF8: =(AC8*O8*(1-O$2))+(AC8*P8*(1-AA8-O$2))+(AC8*Q8*(1-AE$5))+(AC8*R8*(1-R$2))+(AC8*S8*(1-S$2))+(AC8*T8*(1-T$2))+(AC8*U8*(1-U$2))+(AC8*V8*(1-V$2))+(AC8*W8*(1-W$2)) -> 3.3331713e+08 | AG8: =((AD8-AF8)*O8/(1-O$2))+((AD8-AF8)*P8/(1-(AA$5+O$2)))+((AD8-AF8)*Q8/(1-AE$5))+((AD8-AF8)*R8/(1-R$2))+((AD8-AF8)*S8/(1-S$2))+((AD8-AF8)*T8/(1-T$2))+((AD8-AF8)*U8/(1-U$2))+((AD8-AF8)*V8/(1-V$2))+((AD8-AF8)*W8/(1-W$2))+AC8 -> 3.5877757e+08 | AH8: =(AG8*O8*(1-O$2))+(AG8*P8*(1-AA8-O$2))+(AG8*Q8*(1-AE$5))+(AG8*R8*(1-R$2))+(AG8*S8*(1-S$2))+(AG8*T8*(1-T$2))+(AG8*U8*(1-U$2))+(AG8*V8*(1-V$2))+(AG8*W8*(1-W$2)) -> 3.3343226e+08 | AI8: =(AG8*O8*(1-O$2))-(X8*O8*(1-O$2)) -> 1038598.7 | AJ8: =AI8/(AW8/AV8) -> 1265769 | AK8: =AG8+(AJ8*O8)/(1-O$2)+(AJ8*P8)/(1-O$2-AA8)+(AJ8*Q8)/(1-AE8)+(AJ8*R8)/(1-R$2)+(AJ8*S8)/(1-S$2)+(AJ8*T8)/(1-T$2)+(AJ8*U8)/(1-U$2)+(AJ8*V8)/(1-V$2)+(AJ8*W8)/(1-W$2) -> 3.6014496e+08 | AL8: =(AK8*O8*(1-O$2))+(AK8*P8*(1-AA8-O$2))+(AK8*Q8*(1-AE$5))+(AK8*R8*(1-R$2))+(AK8*S8*(1-S$2))+(AK8*T8*(1-T$2))+(AK8*U8*(1-U$2))+(AK8*V8*(1-V$2))+(AK8*W8*(1-W$2)) -> 3.3470305e+08 | AM8: =(AK8*O8*(1-O$2))-(X8*O8*(1-O$2)) -> 1266670.7 | AN8: =AM8/((O8*AL8)) -> 0.020942387 | AO8: =AL8-AM8 -> 3.3343638e+08 | AP8: =(((AK8*O8*(1-O$2))/AL8)*AL8)-AM8-(((X8*O8*(1-O$2))/Z8)*Z8) -> 0 | AR8: =1-((((AK8*P8*(1-O$2-AA8))/AL8)*AL8)/(X8*P8)) -> 0.17446527 | AS8: =AR8-$O$2 -> 0.097465269 | AT8: =1-((((AK8*Q8*(1-AE8))/AL8)*AL8)/(X8*Q8)) -> 0.066673302 | AU8: =AT8-$O$2 -> -0.010326698 | AV8: =$O8*(1-$O$2)+$P8*(1-$O$2-$AA8)+$Q8*(1-$AE8)+$R8*(1-$R$2)+$S8*(1-$S$2)+$T8*(1-$T$2)+$U8*(1-$U$2)+$V8*(1-$V$2)+$W8*(1-$W$2) -> 0.92935647 | AW8: =$P8*(1-$O$2-$AA8)+$Q8*(1-$AE8)+$R8*(1-$R$2)+$S8*(1-$S$2)+$T8*(1-$T$2)+$U8*(1-$U$2)+$V8*(1-$V$2)+$W8*(1-$W$2) -> 0.76256281 | AY8: =(X8*$O8*($O$2)) -> 4905578 | AZ8: =(X8*$P8*($O$2)) -> 3788159.7 | BA8: =(X8*Q8*($Q$2)) -> 927905.66 | BB8: =(X8*$R8*($R$2)) -> 7210936 | BC8: =(X8*$S8*($S$2))+(X8*$T8*($T$2))+(X8*$U8*($U$2))+(X8*$V8*($V$2))+(X8*$W8*($W$2)) -> 2308731.2 | BD8: =SUM(AY8:BC8)-(X8-Z8) -> 0 | BF8: =(AK8*$O8*($O$2)) -> 5011248.2 | BG8: =(AK8*$P8*($O$2+$AA8)) -> 9642888.6 | BH8: =(AK8*Q8*($AE8)) -> 1063044.1 | BI8: =(AK8*$R8*($R$2)) -> 7366265.6 | BJ8: =(AK8*$S8*($S$2))+(AK8*$T8*($T$2))+(AK8*$U8*($U$2))+(AK8*$V8*($V$2))+(AK8*$W8*($W$2)) -> 2358463.2 | BK8: =SUM(BF8:BJ8)-(AK8-AL8) -> 0 | BM8: =X8 -> 3.5255072e+08 | BN8: =AY8 -> 4905578 | BO8: =AZ8 -> 3788159.7 | BP8: =BA8 -> 927905.66 | BQ8: =BB8 -> 7210936 | BR8: =BC8 -> 2308731.2 | BS8: =BM8-SUM(BN8:BR8) -> 3.3340941e+08 | BU8: =AK8 -> 3.6014496e+08 | BV8: =BF8 -> 5011248.2 | BW8: =AM8 -> 1266670.7 | BX8: =BG8 -> 9642888.6 | BY8: =BH8 -> 1063044.1 | BZ8: =BI8 -> 7366265.6 | CA8: =BJ8 -> 2358463.2 | CB8: =BU8-SUM(BV8:CA8) -> 3.3343638e+08 | CD8: =CB8-BS8 -> 26967.305 | CE8: =CD8/BS8 -> 8.0883454e-05 | CF8: =($X8*O8) -> 63708805 | CG8: =CF8-AY8 -> 58803227 | CH8: =($AK8*O8)-BF8-AM8 -> 58803227 | CI8: =CH8-CG8 -> 0 | CK8: =1-CH8/CF8 -> 0.077 | CL8: =1-CG8/CF8 -> 0.077
A9: 5 | B9: 210005 | D9: 464628200 | E9: 162379200 | F9: 17374729 | G9: 31581871 | H9: 7748400 | I9: 62118500 | J9: 37567300 | K9: 37785400 | L9: 3671900 | M9: 30488500 | N9: =D9-SUM(E9:M9) -> 73912400 | O9: =E9/$D9 -> 0.34948202 | P9: =F9/$D9 -> 0.037394909 | Q9: =G9/$D9 -> 0.06797235 | R9: =(H9+I9)/$D9 -> 0.15037163 | S9: =J9/$D9 -> 0.080854541 | T9: =K9/$D9 -> 0.081323949 | U9: =L9/$D9 -> 0.007902878 | V9: =M9/$D9 -> 0.065619134 | W9: =(N9)/$D9 -> 0.15907859 | X9: =Y9*(1-0.4973) -> 2.5517115e+08 | Y9: 5.0760126e+08 | Z9: =(X9*O9*(1-O$2))+(X9*P9*(1-O$2))+(X9*Q9*(1-Q$2))+(X9*R9*(1-R$2))+(X9*S9*(1-S$2))+(X9*T9*(1-T$2))+(X9*U9*(1-U$2))+(X9*V9*(1-V$2))+(X9*W9*(1-W$2)) -> 2.4154824e+08 | AA9: =$AA$51 -> 0.114873 | AB9: =(X9*O9*(1-O$2))+(X9*P9*(1-AA9-O$2))+(X9*Q9*(1-Q$2))+(X9*R9*(1-R$2))+(X9*S9*(1-S$2))+(X9*T9*(1-T$2))+(X9*U9*(1-U$2))+(X9*V9*(1-V$2))+(X9*W9*(1-W$2)) -> 2.4045211e+08 | AC9: =((Z9-AB9)*O9/(1-O$2))+((Z9-AB9)*P9/(1-(AA$5+O$2)))+((Z9-AB9)*Q9/(1-Q$2))+((Z9-AB9)*R9/(1-R$2))+((Z9-AB9)*S9/(1-S$2))+((Z9-AB9)*T9/(1-T$2))+((Z9-AB9)*U9/(1-U$2))+((Z9-AB9)*V9/(1-V$2))+((Z9-AB9)*W9/(1-W$2))+X9 -> 2.5633653e+08 | AD9: =(AC9*O9*(1-O$2))+(AC9*P9*(1-AA9-O$2))+(AC9*Q9*(1-Q$2))+(AC9*R9*(1-R$2))+(AC9*S9*(1-S$2))+(AC9*T9*(1-T$2))+(AC9*U9*(1-U$2))+(AC9*V9*(1-V$2))+(AC9*W9*(1-W$2)) -> 2.4155027e+08 | AE9: =$AE$51 -> 0.086354 | AF9: =(AC9*O9*(1-O$2))+(AC9*P9*(1-AA9-O$2))+(AC9*Q9*(1-AE$5))+(AC9*R9*(1-R$2))+(AC9*S9*(1-S$2))+(AC9*T9*(1-T$2))+(AC9*U9*(1-U$2))+(AC9*V9*(1-V$2))+(AC9*W9*(1-W$2)) -> 2.4138729e+08 | AG9: =((AD9-AF9)*O9/(1-O$2))+((AD9-AF9)*P9/(1-(AA$5+O$2)))+((AD9-AF9)*Q9/(1-AE$5))+((AD9-AF9)*R9/(1-R$2))+((AD9-AF9)*S9/(1-S$2))+((AD9-AF9)*T9/(1-T$2))+((AD9-AF9)*U9/(1-U$2))+((AD9-AF9)*V9/(1-V$2))+((AD9-AF9)*W9/(1-W$2))+AC9 -> 2.5650994e+08 | AH9: =(AG9*O9*(1-O$2))+(AG9*P9*(1-AA9-O$2))+(AG9*Q9*(1-AE$5))+(AG9*R9*(1-R$2))+(AG9*S9*(1-S$2))+(AG9*T9*(1-T$2))+(AG9*U9*(1-U$2))+(AG9*V9*(1-V$2))+(AG9*W9*(1-W$2)) -> 2.4155058e+08 | AI9: =(AG9*O9*(1-O$2))-(X9*O9*(1-O$2)) -> 431853.54 | AJ9: =AI9/(AW9/AV9) -> 656860.38 | AK9: =AG9+(AJ9*O9)/(1-O$2)+(AJ9*P9)/(1-O$2-AA9)+(AJ9*Q9)/(1-AE9)+(AJ9*R9)/(1-R$2)+(AJ9*S9)/(1-S$2)+(AJ9*T9)/(1-T$2)+(AJ9*U9)/(1-U$2)+(AJ9*V9)/(1-V$2)+(AJ9*W9)/(1-W$2) -> 2.5720879e+08 | AL9: =(AK9*O9*(1-O$2))+(AK9*P9*(1-AA9-O$2))+(AK9*Q9*(1-AE$5))+(AK9*R9*(1-R$2))+(AK9*S9*(1-S$2))+(AK9*T9*(1-T$2))+(AK9*U9*(1-U$2))+(AK9*V9*(1-V$2))+(AK9*W9*(1-W$2)) -> 2.4220868e+08 | AM9: =(AK9*O9*(1-O$2))-(X9*O9*(1-O$2)) -> 657284.3 | AN9: =AM9/((O9*AL9)) -> 0.0077649512 | AO9: =AL9-AM9 -> 2.4155139e+08 | AP9: =(((AK9*O9*(1-O$2))/AL9)*AL9)-AM9-(((X9*O9*(1-O$2))/Z9)*Z9) -> 0 | AR9: =1-((((AK9*P9*(1-O$2-AA9))/AL9)*AL9)/(X9*P9)) -> 0.18541981 | AS9: =AR9-$O$2 -> 0.10841981 | AT9: =1-((((AK9*Q9*(1-AE9))/AL9)*AL9)/(X9*Q9)) -> 0.079058197 | AU9: =AT9-$O$2 -> 0.0020581969 | AV9: =$O9*(1-$O$2)+$P9*(1-$O$2-$AA9)+$Q9*(1-$AE9)+$R9*(1-$R$2)+$S9*(1-$S$2)+$T9*(1-$T$2)+$U9*(1-$U$2)+$V9*(1-$V$2)+$W9*(1-$W$2) -> 0.94168118 | AW9: =$P9*(1-$O$2-$AA9)+$Q9*(1-$AE9)+$R9*(1-$R$2)+$S9*(1-$S$2)+$T9*(1-$T$2)+$U9*(1-$U$2)+$V9*(1-$V$2)+$W9*(1-$W$2) -> 0.61910928 | AY9: =(X9*$O9*($O$2)) -> 6866685.1 | AZ9: =(X9*$P9*($O$2)) -> 734741.86 | BA9: =(X9*Q9*($Q$2)) -> 1335532.9 | BB9: =(X9*$R9*($R$2)) -> 2954528.7 | BC9: =(X9*$S9*($S$2))+(X9*$T9*($T$2))+(X9*$U9*($U$2))+(X9*$V9*($V$2))+(X9*$W9*($W$2)) -> 1731421.9 | BD9: =SUM(AY9:BC9)-(X9-Z9) -> 2.6077032e-08 | BF9: =(AK9*$O9*($O$2)) -> 6921518.2 | BG9: =(AK9*$P9*($O$2+$AA9)) -> 1845491.9 | BH9: =(AK9*Q9*($AE9)) -> 1509734.4 | BI9: =(AK9*$R9*($R$2)) -> 2978121.7 | BJ9: =(AK9*$S9*($S$2))+(AK9*$T9*($T$2))+(AK9*$U9*($U$2))+(AK9*$V9*($V$2))+(AK9*$W9*($W$2)) -> 1745247.9 | BK9: =SUM(BF9:BJ9)-(AK9-AL9) -> 3.1664968e-08 | BM9: =X9 -> 2.5517115e+08 | BN9: =AY9 -> 6866685.1 | BO9: =AZ9 -> 734741.86 | BP9: =BA9 -> 1335532.9 | BQ9: =BB9 -> 2954528.7 | BR9: =BC9 -> 1731421.9 | BS9: =BM9-SUM(BN9:BR9) -> 2.4154824e+08 | BU9: =AK9 -> 2.5720879e+08 | BV9: =BF9 -> 6921518.2 | BW9: =AM9 -> 657284.3 | BX9: =BG9 -> 1845491.9 | BY9: =BH9 -> 1509734.4 | BZ9: =BI9 -> 2978121.7 | CA9: =BJ9 -> 1745247.9 | CB9: =BU9-SUM(BV9:CA9) -> 2.4155139e+08 | CD9: =CB9-BS9 -> 3148.5793 | CE9: =CD9/BS9 -> 1.3034992e-05 | CF9: =($X9*O9) -> 89177729 | CG9: =CF9-AY9 -> 82311044 | CH9: =($AK9*O9)-BF9-AM9 -> 82311044 | CI9: =CH9-CG9 -> 0 | CK9: =1-CH9/CF9 -> 0.077 | CL9: =1-CG9/CF9 -> 0.077
A10: 6 | B10: 210006 | D10: 38346876 | E10: 8802748.4 | F10: 1737426.3 | G10: 2555426.9 | H10: 517795.9 | I10: 9066069.6 | J10: 0 | K10: 5731495.5 | L10: 151462.6 | M10: 2527000 | N10: =D10-SUM(E10:M10) -> 7257450.9 | O10: =E10/$D10 -> 0.22955582 | P10: =F10/$D10 -> 0.045308158 | Q10: =G10/$D10 -> 0.066639767 | R10: =(H10+I10)/$D10 -> 0.24992559 | S10: =J10/$D10 -> 0 | T10: =K10/$D10 -> 0.14946447 | U10: =L10/$D10 -> 0.0039498028 | V10: =M10/$D10 -> 0.065898458 | W10: =(N10)/$D10 -> 0.18925794 | X10: =Y10*(1-0.4973) -> 16461404 | Y10: 32745980 | Z10: =(X10*O10*(1-O$2))+(X10*P10*(1-O$2))+(X10*Q10*(1-Q$2))+(X10*R10*(1-R$2))+(X10*S10*(1-S$2))+(X10*T10*(1-T$2))+(X10*U10*(1-U$2))+(X10*V10*(1-V$2))+(X10*W10*(1-W$2)) -> 15598933 | AA10: =$AA$51 -> 0.114873 | AB10: =(X10*O10*(1-O$2))+(X10*P10*(1-AA10-O$2))+(X10*Q10*(1-Q$2))+(X10*R10*(1-R$2))+(X10*S10*(1-S$2))+(X10*T10*(1-T$2))+(X10*U10*(1-U$2))+(X10*V10*(1-V$2))+(X10*W10*(1-W$2)) -> 15513257 | AC10: =((Z10-AB10)*O10/(1-O$2))+((Z10-AB10)*P10/(1-(AA$5+O$2)))+((Z10-AB10)*Q10/(1-Q$2))+((Z10-AB10)*R10/(1-R$2))+((Z10-AB10)*S10/(1-S$2))+((Z10-AB10)*T10/(1-T$2))+((Z10-AB10)*U10/(1-U$2))+((Z10-AB10)*V10/(1-V$2))+((Z10-AB10)*W10/(1-W$2))+X10 -> 16552505 | AD10: =(AC10*O10*(1-O$2))+(AC10*P10*(1-AA10-O$2))+(AC10*Q10*(1-Q$2))+(AC10*R10*(1-R$2))+(AC10*S10*(1-S$2))+(AC10*T10*(1-T$2))+(AC10*U10*(1-U$2))+(AC10*V10*(1-V$2))+(AC10*W10*(1-W$2)) -> 15599110 | AE10: =$AE$51 -> 0.086354 | AF10: =(AC10*O10*(1-O$2))+(AC10*P10*(1-AA10-O$2))+(AC10*Q10*(1-AE$5))+(AC10*R10*(1-R$2))+(AC10*S10*(1-S$2))+(AC10*T10*(1-T$2))+(AC10*U10*(1-U$2))+(AC10*V10*(1-V$2))+(AC10*W10*(1-W$2)) -> 15588792 | AG10: =((AD10-AF10)*O10/(1-O$2))+((AD10-AF10)*P10/(1-(AA$5+O$2)))+((AD10-AF10)*Q10/(1-AE$5))+((AD10-AF10)*R10/(1-R$2))+((AD10-AF10)*S10/(1-S$2))+((AD10-AF10)*T10/(1-T$2))+((AD10-AF10)*U10/(1-U$2))+((AD10-AF10)*V10/(1-V$2))+((AD10-AF10)*W10/(1-W$2))+AC10 -> 16563483 | AH10: =(AG10*O10*(1-O$2))+(AG10*P10*(1-AA10-O$2))+(AG10*Q10*(1-AE$5))+(AG10*R10*(1-R$2))+(AG10*S10*(1-S$2))+(AG10*T10*(1-T$2))+(AG10*U10*(1-U$2))+(AG10*V10*(1-V$2))+(AG10*W10*(1-W$2)) -> 15599132 | AI10: =(AG10*O10*(1-O$2))-(X10*O10*(1-O$2)) -> 21628.592 | AJ10: =AI10/(AW10/AV10) -> 27907.091 | AK10: =AG10+(AJ10*O10)/(1-O$2)+(AJ10*P10)/(1-O$2-AA10)+(AJ10*Q10)/(1-AE10)+(AJ10*R10)/(1-R$2)+(AJ10*S10)/(1-S$2)+(AJ10*T10)/(1-T$2)+(AJ10*U10)/(1-U$2)+(AJ10*V10)/(1-V$2)+(AJ10*W10)/(1-W$2) -> 16593178 | AL10: =(AK10*O10*(1-O$2))+(AK10*P10*(1-AA10-O$2))+(AK10*Q10*(1-AE$5))+(AK10*R10*(1-R$2))+(AK10*S10*(1-S$2))+(AK10*T10*(1-T$2))+(AK10*U10*(1-U$2))+(AK10*V10*(1-V$2))+(AK10*W10*(1-W$2)) -> 15627098 | AM10: =(AK10*O10*(1-O$2))-(X10*O10*(1-O$2)) -> 27920.268 | AN10: =AM10/((O10*AL10)) -> 0.0077831062 | AO10: =AL10-AM10 -> 15599177 | AP10: =(((AK10*O10*(1-O$2))/AL10)*AL10)-AM10-(((X10*O10*(1-O$2))/Z10)*Z10) -> 0 | AR10: =1-((((AK10*P10*(1-O$2-AA10))/AL10)*AL10)/(X10*P10)) -> 0.18540392 | AS10: =AR10-$O$2 -> 0.10840392 | AT10: =1-((((AK10*Q10*(1-AE10))/AL10)*AL10)/(X10*Q10)) -> 0.079040241 | AU10: =AT10-$O$2 -> 0.0020402406 | AV10: =$O10*(1-$O$2)+$P10*(1-$O$2-$AA10)+$Q10*(1-$AE10)+$R10*(1-$R$2)+$S10*(1-$S$2)+$T10*(1-$T$2)+$U10*(1-$U$2)+$V10*(1-$V$2)+$W10*(1-$W$2) -> 0.94177847 | AW10: =$P10*(1-$O$2-$AA10)+$Q10*(1-$AE10)+$R10*(1-$R$2)+$S10*(1-$S$2)+$T10*(1-$T$2)+$U10*(1-$U$2)+$V10*(1-$V$2)+$W10*(1-$W$2) -> 0.72989845 | AY10: =(X10*$O10*($O$2)) -> 290968.45 | AZ10: =(X10*$P10*($O$2)) -> 57429.363 | BA10: =(X10*Q10*($Q$2)) -> 84467.777 | BB10: =(X10*$R10*($R$2)) -> 316787.7 | BC10: =(X10*$S10*($S$2))+(X10*$T10*($T$2))+(X10*$U10*($U$2))+(X10*$V10*($V$2))+(X10*$W10*($W$2)) -> 112817.32 | BD10: =SUM(AY10:BC10)-(X10-Z10) -> -1.6298145e-09 | BF10: =(AK10*$O10*($O$2)) -> 293297.66 | BG10: =(AK10*$P10*($O$2+$AA10)) -> 144251.33 | BH10: =(AK10*Q10*($AE10)) -> 95487.275 | BI10: =(AK10*$R10*($R$2)) -> 319323.6 | BJ10: =(AK10*$S10*($S$2))+(AK10*$T10*($T$2))+(AK10*$U10*($U$2))+(AK10*$V10*($V$2))+(AK10*$W10*($W$2)) -> 113720.42 | BK10: =SUM(BF10:BJ10)-(AK10-AL10) -> 0 | BM10: =X10 -> 16461404 | BN10: =AY10 -> 290968.45 | BO10: =AZ10 -> 57429.363 | BP10: =BA10 -> 84467.777 | BQ10: =BB10 -> 316787.7 | BR10: =BC10 -> 112817.32 | BS10: =BM10-SUM(BN10:BR10) -> 15598933 | BU10: =AK10 -> 16593178 | BV10: =BF10 -> 293297.66 | BW10: =AM10 -> 27920.268 | BX10: =BG10 -> 144251.33 | BY10: =BH10 -> 95487.275 | BZ10: =BI10 -> 319323.6 | CA10: =BJ10 -> 113720.42 | CB10: =BU10-SUM(BV10:CA10) -> 15599177 | CD10: =CB10-BS10 -> 244.01021 | CE10: =CD10/BS10 -> 1.564275e-05 | CF10: =($X10*O10) -> 3778811 | CG10: =CF10-AY10 -> 3487842.5 | CH10: =($AK10*O10)-BF10-AM10 -> 3487842.5 | CI10: =CH10-CG10 -> 0 | CK10: =1-CH10/CF10 -> 0.077 | CL10: =1-CG10/CF10 -> 0.077
A11: 8 | B11: 210008 | D11: 7.174881e+08 | E11: =180105.3*1000 -> 180105300 | F11: 37985859 | G11: 50781441 | H11: 13192500 | I11: 1.3062634e+08 | J11: 43889364 | K11: 1.3768936e+08 | L11: -3066440 | M11: 33119277 | N11: =D11-SUM(E11:M11) -> 93165092 | O11: =E11/$D11 -> 0.251022 | P11: =F11/$D11 -> 0.052942841 | Q11: =G11/$D11 -> 0.070776702 | R11: =(H11+I11)/$D11 -> 0.20044771 | S11: =J11/$D11 -> 0.06117086 | T11: =K11/$D11 -> 0.19190474 | U11: =L11/$D11 -> -0.0042738549 | V11: =M11/$D11 -> 0.046160037 | W11: =(N11)/$D11 -> 0.12984897 | X11: =Y11*(1-0.4973) -> 3.9425499e+08 | Y11: 7.842749e+08 | Z11: =(X11*O11*(1-O$2))+(X11*P11*(1-O$2))+(X11*Q11*(1-Q$2))+(X11*R11*(1-R$2))+(X11*S11*(1-S$2))+(X11*T11*(1-T$2))+(X11*U11*(1-U$2))+(X11*V11*(1-V$2))+(X11*W11*(1-W$2)) -> 3.7374761e+08 | AA11: =$AA$51 -> 0.114873 | AB11: =(X11*O11*(1-O$2))+(X11*P11*(1-AA11-O$2))+(X11*Q11*(1-Q$2))+(X11*R11*(1-R$2))+(X11*S11*(1-S$2))+(X11*T11*(1-T$2))+(X11*U11*(1-U$2))+(X11*V11*(1-V$2))+(X11*W11*(1-W$2)) -> 3.7134987e+08 | AC11: =((Z11-AB11)*O11/(1-O$2))+((Z11-AB11)*P11/(1-(AA$5+O$2)))+((Z11-AB11)*Q11/(1-Q$2))+((Z11-AB11)*R11/(1-R$2))+((Z11-AB11)*S11/(1-S$2))+((Z11-AB11)*T11/(1-T$2))+((Z11-AB11)*U11/(1-U$2))+((Z11-AB11)*V11/(1-V$2))+((Z11-AB11)*W11/(1-W$2))+X11 -> 3.9680625e+08 | AD11: =(AC11*O11*(1-O$2))+(AC11*P11*(1-AA11-O$2))+(AC11*Q11*(1-Q$2))+(AC11*R11*(1-R$2))+(AC11*S11*(1-S$2))+(AC11*T11*(1-T$2))+(AC11*U11*(1-U$2))+(AC11*V11*(1-V$2))+(AC11*W11*(1-W$2)) -> 3.7375291e+08 | AE11: =$AE$51 -> 0.086354 | AF11: =(AC11*O11*(1-O$2))+(AC11*P11*(1-AA11-O$2))+(AC11*Q11*(1-AE$5))+(AC11*R11*(1-R$2))+(AC11*S11*(1-S$2))+(AC11*T11*(1-T$2))+(AC11*U11*(1-U$2))+(AC11*V11*(1-V$2))+(AC11*W11*(1-W$2)) -> 3.7349021e+08 | AG11: =((AD11-AF11)*O11/(1-O$2))+((AD11-AF11)*P11/(1-(AA$5+O$2)))+((AD11-AF11)*Q11/(1-AE$5))+((AD11-AF11)*R11/(1-R$2))+((AD11-AF11)*S11/(1-S$2))+((AD11-AF11)*T11/(1-T$2))+((AD11-AF11)*U11/(1-U$2))+((AD11-AF11)*V11/(1-V$2))+((AD11-AF11)*W11/(1-W$2))+AC11 -> 3.9708598e+08 | AH11: =(AG11*O11*(1-O$2))+(AG11*P11*(1-AA11-O$2))+(AG11*Q11*(1-AE$5))+(AG11*R11*(1-R$2))+(AG11*S11*(1-S$2))+(AG11*T11*(1-T$2))+(AG11*U11*(1-U$2))+(AG11*V11*(1-V$2))+(AG11*W11*(1-W$2)) -> 3.737535e+08 | AI11: =(AG11*O11*(1-O$2))-(X11*O11*(1-O$2)) -> 655920.73 | AJ11: =AI11/(AW11/AV11) -> 870102.95 | AK11: =AG11+(AJ11*O11)/(1-O$2)+(AJ11*P11)/(1-O$2-AA11)+(AJ11*Q11)/(1-AE11)+(AJ11*R11)/(1-R$2)+(AJ11*S11)/(1-S$2)+(AJ11*T11)/(1-T$2)+(AJ11*U11)/(1-U$2)+(AJ11*V11)/(1-V$2)+(AJ11*W11)/(1-W$2) -> 3.9801247e+08 | AL11: =(AK11*O11*(1-O$2))+(AK11*P11*(1-AA11-O$2))+(AK11*Q11*(1-AE$5))+(AK11*R11*(1-R$2))+(AK11*S11*(1-S$2))+(AK11*T11*(1-T$2))+(AK11*U11*(1-U$2))+(AK11*V11*(1-V$2))+(AK11*W11*(1-W$2)) -> 3.7462555e+08 | AM11: =(AK11*O11*(1-O$2))-(X11*O11*(1-O$2)) -> 870583.29 | AN11: =AM11/((O11*AL11)) -> 0.0092576581 | AO11: =AL11-AM11 -> 3.7375497e+08 | AP11: =(((AK11*O11*(1-O$2))/AL11)*AL11)-AM11-(((X11*O11*(1-O$2))/Z11)*Z11) -> 0 | AR11: =1-((((AK11*P11*(1-O$2-AA11))/AL11)*AL11)/(X11*P11)) -> 0.18417108 | AS11: =AR11-$O$2 -> 0.10717108 | AT11: =1-((((AK11*Q11*(1-AE11))/AL11)*AL11)/(X11*Q11)) -> 0.077646418 | AU11: =AT11-$O$2 -> 0.00064641761 | AV11: =$O11*(1-$O$2)+$P11*(1-$O$2-$AA11)+$Q11*(1-$AE11)+$R11*(1-$R$2)+$S11*(1-$S$2)+$T11*(1-$T$2)+$U11*(1-$U$2)+$V11*(1-$V$2)+$W11*(1-$W$2) -> 0.94124074 | AW11: =$P11*(1-$O$2-$AA11)+$Q11*(1-$AE11)+$R11*(1-$R$2)+$S11*(1-$S$2)+$T11*(1-$T$2)+$U11*(1-$U$2)+$V11*(1-$V$2)+$W11*(1-$W$2) -> 0.70954743 | AY11: =(X11*$O11*($O$2)) -> 7620434.2 | AZ11: =(X11*$P11*($O$2)) -> 1607219.4 | BA11: =(X11*Q11*($Q$2)) -> 2148613.2 | BB11: =(X11*$R11*($R$2)) -> 6085118.1 | BC11: =(X11*$S11*($S$2))+(X11*$T11*($T$2))+(X11*$U11*($U$2))+(X11*$V11*($V$2))+(X11*$W11*($W$2)) -> 3045990.9 | BD11: =SUM(AY11:BC11)-(X11-Z11) -> 0 | BF11: =(AK11*$O11*($O$2)) -> 7693061.4 | BG11: =(AK11*$P11*($O$2+$AA11)) -> 4043130.8 | BH11: =(AK11*Q11*($AE11)) -> 2432593 | BI11: =(AK11*$R11*($R$2)) -> 6143112.9 | BJ11: =(AK11*$S11*($S$2))+(AK11*$T11*($T$2))+(AK11*$U11*($U$2))+(AK11*$V11*($V$2))+(AK11*$W11*($W$2)) -> 3075021 | BK11: =SUM(BF11:BJ11)-(AK11-AL11) -> 0 | BM11: =X11 -> 3.9425499e+08 | BN11: =AY11 -> 7620434.2 | BO11: =AZ11 -> 1607219.4 | BP11: =BA11 -> 2148613.2 | BQ11: =BB11 -> 6085118.1 | BR11: =BC11 -> 3045990.9 | BS11: =BM11-SUM(BN11:BR11) -> 3.7374761e+08 | BU11: =AK11 -> 3.9801247e+08 | BV11: =BF11 -> 7693061.4 | BW11: =AM11 -> 870583.29 | BX11: =BG11 -> 4043130.8 | BY11: =BH11 -> 2432593 | BZ11: =BI11 -> 6143112.9 | CA11: =BJ11 -> 3075021 | CB11: =BU11-SUM(BV11:CA11) -> 3.7375497e+08 | CD11: =CB11-BS11 -> 7354.8176 | CE11: =CD11/BS11 -> 1.9678567e-05 | CF11: =($X11*O11) -> 98966677 | CG11: =CF11-AY11 -> 91346243 | CH11: =($AK11*O11)-BF11-AM11 -> 91346243 | CI11: =CH11-CG11 -> 0 | CK11: =1-CH11/CF11 -> 0.077 | CL11: =1-CG11/CF11 -> 0.077
A12: 9 | B12: 210009 | D12: 3.3116156e+09 | E12: 9.0930247e+08 | F12: 39986665 | G12: 35591810 | H12: 1.8342521e+08 | I12: 483234508 | J12: 3.7126676e+08 | K12: 3.1460109e+08 | L12: 13732402 | M12: 90366000 | N12: =D12-SUM(E12:M12) -> 8.7010867e+08 | O12: =E12/$D12 -> 0.27457972 | P12: =F12/$D12 -> 0.01207467 | Q12: =G12/$D12 -> 0.010747567 | R12: =(H12+I12)/$D12 -> 0.20130951 | S12: =J12/$D12 -> 0.11211047 | T12: =K12/$D12 -> 0.094999277 | U12: =L12/$D12 -> 0.0041467379 | V12: =M12/$D12 -> 0.027287587 | W12: =(N12)/$D12 -> 0.26274447 | X12: =Y12*(1-0.4973) -> 1.8525744e+09 | Y12: 3.6852484e+09 | Z12: =(X12*O12*(1-O$2))+(X12*P12*(1-O$2))+(X12*Q12*(1-Q$2))+(X12*R12*(1-R$2))+(X12*S12*(1-S$2))+(X12*T12*(1-T$2))+(X12*U12*(1-U$2))+(X12*V12*(1-V$2))+(X12*W12*(1-W$2)) -> 1.7633524e+09 | AA12: =$AA$51 -> 0.114873 | AB12: =(X12*O12*(1-O$2))+(X12*P12*(1-AA12-O$2))+(X12*Q12*(1-Q$2))+(X12*R12*(1-R$2))+(X12*S12*(1-S$2))+(X12*T12*(1-T$2))+(X12*U12*(1-U$2))+(X12*V12*(1-V$2))+(X12*W12*(1-W$2)) -> 1.7607828e+09 | AC12: =((Z12-AB12)*O12/(1-O$2))+((Z12-AB12)*P12/(1-(AA$5+O$2)))+((Z12-AB12)*Q12/(1-Q$2))+((Z12-AB12)*R12/(1-R$2))+((Z12-AB12)*S12/(1-S$2))+((Z12-AB12)*T12/(1-T$2))+((Z12-AB12)*U12/(1-U$2))+((Z12-AB12)*V12/(1-V$2))+((Z12-AB12)*W12/(1-W$2))+X12 -> 1.8552813e+09 | AD12: =(AC12*O12*(1-O$2))+(AC12*P12*(1-AA12-O$2))+(AC12*Q12*(1-Q$2))+(AC12*R12*(1-R$2))+(AC12*S12*(1-S$2))+(AC12*T12*(1-T$2))+(AC12*U12*(1-U$2))+(AC12*V12*(1-V$2))+(AC12*W12*(1-W$2)) -> 1.7633556e+09 | AE12: =$AE$51 -> 0.086354 | AF12: =(AC12*O12*(1-O$2))+(AC12*P12*(1-AA12-O$2))+(AC12*Q12*(1-AE$5))+(AC12*R12*(1-R$2))+(AC12*S12*(1-S$2))+(AC12*T12*(1-T$2))+(AC12*U12*(1-U$2))+(AC12*V12*(1-V$2))+(AC12*W12*(1-W$2)) -> 1.763169e+09 | AG12: =((AD12-AF12)*O12/(1-O$2))+((AD12-AF12)*P12/(1-(AA$5+O$2)))+((AD12-AF12)*Q12/(1-AE$5))+((AD12-AF12)*R12/(1-R$2))+((AD12-AF12)*S12/(1-S$2))+((AD12-AF12)*T12/(1-T$2))+((AD12-AF12)*U12/(1-U$2))+((AD12-AF12)*V12/(1-V$2))+((AD12-AF12)*W12/(1-W$2))+AC12 -> 1.8554778e+09 | AH12: =(AG12*O12*(1-O$2))+(AG12*P12*(1-AA12-O$2))+(AG12*Q12*(1-AE$5))+(AG12*R12*(1-R$2))+(AG12*S12*(1-S$2))+(AG12*T12*(1-T$2))+(AG12*U12*(1-U$2))+(AG12*V12*(1-V$2))+(AG12*W12*(1-W$2)) -> 1.7633558e+09 | AI12: =(AG12*O12*(1-O$2))-(X12*O12*(1-O$2)) -> 735833.98 | AJ12: =AI12/(AW12/AV12) -> 1003424.4 | AK12: =AG12+(AJ12*O12)/(1-O$2)+(AJ12*P12)/(1-O$2-AA12)+(AJ12*Q12)/(1-AE12)+(AJ12*R12)/(1-R$2)+(AJ12*S12)/(1-S$2)+(AJ12*T12)/(1-T$2)+(AJ12*U12)/(1-U$2)+(AJ12*V12)/(1-V$2)+(AJ12*W12)/(1-W$2) -> 1.8565349e+09 | AL12: =(AK12*O12*(1-O$2))+(AK12*P12*(1-AA12-O$2))+(AK12*Q12*(1-AE$5))+(AK12*R12*(1-R$2))+(AK12*S12*(1-S$2))+(AK12*T12*(1-T$2))+(AK12*U12*(1-U$2))+(AK12*V12*(1-V$2))+(AK12*W12*(1-W$2)) -> 1.7643605e+09 | AM12: =(AK12*O12*(1-O$2))-(X12*O12*(1-O$2)) -> 1003756.8 | AN12: =AM12/((O12*AL12)) -> 0.0020719187 | AO12: =AL12-AM12 -> 1.7633567e+09 | AP12: =(((AK12*O12*(1-O$2))/AL12)*AL12)-AM12-(((X12*O12*(1-O$2))/Z12)*Z12) -> 0 | AR12: =1-((((AK12*P12*(1-O$2-AA12))/AL12)*AL12)/(X12*P12)) -> 0.19014532 | AS12: =AR12-$O$2 -> 0.11314532 | AT12: =1-((((AK12*Q12*(1-AE12))/AL12)*AL12)/(X12*Q12)) -> 0.084400737 | AU12: =AT12-$O$2 -> 0.0074007374 | AV12: =$O12*(1-$O$2)+$P12*(1-$O$2-$AA12)+$Q12*(1-$AE12)+$R12*(1-$R$2)+$S12*(1-$S$2)+$T12*(1-$T$2)+$U12*(1-$U$2)+$V12*(1-$V$2)+$W12*(1-$W$2) -> 0.95035134 | AW12: =$P12*(1-$O$2-$AA12)+$Q12*(1-$AE12)+$R12*(1-$R$2)+$S12*(1-$S$2)+$T12*(1-$T$2)+$U12*(1-$U$2)+$V12*(1-$V$2)+$W12*(1-$W$2) -> 0.69691426 | AY12: =(X12*$O12*($O$2)) -> 39168309 | AZ12: =(X12*$P12*($O$2)) -> 1722430.2 | BA12: =(X12*Q12*($Q$2)) -> 1533121.3 | BB12: =(X12*$R12*($R$2)) -> 28716445 | BC12: =(X12*$S12*($S$2))+(X12*$T12*($T$2))+(X12*$U12*($U$2))+(X12*$V12*($V$2))+(X12*$W12*($W$2)) -> 18081672 | BD12: =SUM(AY12:BC12)-(X12-Z12) -> 0 | BF12: =(AK12*$O12*($O$2)) -> 39252046 | BG12: =(AK12*$P12*($O$2+$AA12)) -> 4301225.9 | BH12: =(AK12*Q12*($AE12)) -> 1723041.5 | BI12: =(AK12*$R12*($R$2)) -> 28777837 | BJ12: =(AK12*$S12*($S$2))+(AK12*$T12*($T$2))+(AK12*$U12*($U$2))+(AK12*$V12*($V$2))+(AK12*$W12*($W$2)) -> 18120329 | BK12: =SUM(BF12:BJ12)-(AK12-AL12) -> 2.3841858e-07 | BM12: =X12 -> 1.8525744e+09 | BN12: =AY12 -> 39168309 | BO12: =AZ12 -> 1722430.2 | BP12: =BA12 -> 1533121.3 | BQ12: =BB12 -> 28716445 | BR12: =BC12 -> 18081672 | BS12: =BM12-SUM(BN12:BR12) -> 1.7633524e+09 | BU12: =AK12 -> 1.8565349e+09 | BV12: =BF12 -> 39252046 | BW12: =AM12 -> 1003756.8 | BX12: =BG12 -> 4301225.9 | BY12: =BH12 -> 1723041.5 | BZ12: =BI12 -> 28777837 | CA12: =BJ12 -> 18120329 | CB12: =BU12-SUM(BV12:CA12) -> 1.7633567e+09 | CD12: =CB12-BS12 -> 4317.5309 | CE12: =CD12/BS12 -> 2.4484788e-06 | CF12: =($X12*O12) -> 5.0867934e+08 | CG12: =CF12-AY12 -> 4.6951103e+08 | CH12: =($AK12*O12)-BF12-AM12 -> 4.6951103e+08 | CI12: =CH12-CG12 -> 0 | CK12: =1-CH12/CF12 -> 0.077 | CL12: =1-CG12/CF12 -> 0.077
A13: 10 | B13: 210010 | D13: 17496641 | E13: 4094217.5 | F13: 738320.93 | G13: 1107031 | H13: 381171.9 | I13: 5946729.8 | J13: 0 | K13: 1684870.6 | L13: 83712.9 | M13: 1609000 | N13: =D13-SUM(E13:M13) -> 1851586.1 | O13: =E13/$D13 -> 0.2340002 | P13: =F13/$D13 -> 0.042197868 | Q13: =G13/$D13 -> 0.063271058 | R13: =(H13+I13)/$D13 -> 0.36166381 | S13: =J13/$D13 -> 0 | T13: =K13/$D13 -> 0.096296805 | U13: =L13/$D13 -> 0.0047845127 | V13: =M13/$D13 -> 0.09196051 | W13: =(N13)/$D13 -> 0.10582523 | X13: =Y13*(1-0.4973) -> 9660166.9 | Y13: 19216564 | Z13: =(X13*O13*(1-O$2))+(X13*P13*(1-O$2))+(X13*Q13*(1-Q$2))+(X13*R13*(1-R$2))+(X13*S13*(1-S$2))+(X13*T13*(1-T$2))+(X13*U13*(1-U$2))+(X13*V13*(1-V$2))+(X13*W13*(1-W$2)) -> 9098666.2 | AA13: =$AA$51 -> 0.114873 | AB13: =(X13*O13*(1-O$2))+(X13*P13*(1-AA13-O$2))+(X13*Q13*(1-Q$2))+(X13*R13*(1-R$2))+(X13*S13*(1-S$2))+(X13*T13*(1-T$2))+(X13*U13*(1-U$2))+(X13*V13*(1-V$2))+(X13*W13*(1-W$2)) -> 9051839.5 | AC13: =((Z13-AB13)*O13/(1-O$2))+((Z13-AB13)*P13/(1-(AA$5+O$2)))+((Z13-AB13)*Q13/(1-Q$2))+((Z13-AB13)*R13/(1-R$2))+((Z13-AB13)*S13/(1-S$2))+((Z13-AB13)*T13/(1-T$2))+((Z13-AB13)*U13/(1-U$2))+((Z13-AB13)*V13/(1-V$2))+((Z13-AB13)*W13/(1-W$2))+X13 -> 9710234.5 | AD13: =(AC13*O13*(1-O$2))+(AC13*P13*(1-AA13-O$2))+(AC13*Q13*(1-Q$2))+(AC13*R13*(1-R$2))+(AC13*S13*(1-S$2))+(AC13*T13*(1-T$2))+(AC13*U13*(1-U$2))+(AC13*V13*(1-V$2))+(AC13*W13*(1-W$2)) -> 9098754.2 | AE13: =$AE$51 -> 0.086354 | AF13: =(AC13*O13*(1-O$2))+(AC13*P13*(1-AA13-O$2))+(AC13*Q13*(1-AE$5))+(AC13*R13*(1-R$2))+(AC13*S13*(1-S$2))+(AC13*T13*(1-T$2))+(AC13*U13*(1-U$2))+(AC13*V13*(1-V$2))+(AC13*W13*(1-W$2)) -> 9093007.4 | AG13: =((AD13-AF13)*O13/(1-O$2))+((AD13-AF13)*P13/(1-(AA$5+O$2)))+((AD13-AF13)*Q13/(1-AE$5))+((AD13-AF13)*R13/(1-R$2))+((AD13-AF13)*S13/(1-S$2))+((AD13-AF13)*T13/(1-T$2))+((AD13-AF13)*U13/(1-U$2))+((AD13-AF13)*V13/(1-V$2))+((AD13-AF13)*W13/(1-W$2))+AC13 -> 9716383.2 | AH13: =(AG13*O13*(1-O$2))+(AG13*P13*(1-AA13-O$2))+(AG13*Q13*(1-AE$5))+(AG13*R13*(1-R$2))+(AG13*S13*(1-S$2))+(AG13*T13*(1-T$2))+(AG13*U13*(1-U$2))+(AG13*V13*(1-V$2))+(AG13*W13*(1-W$2)) -> 9098765.2 | AI13: =(AG13*O13*(1-O$2))-(X13*O13*(1-O$2)) -> 12141.72 | AJ13: =AI13/(AW13/AV13) -> 15781.644 | AK13: =AG13+(AJ13*O13)/(1-O$2)+(AJ13*P13)/(1-O$2-AA13)+(AJ13*Q13)/(1-AE13)+(AJ13*R13)/(1-R$2)+(AJ13*S13)/(1-S$2)+(AJ13*T13)/(1-T$2)+(AJ13*U13)/(1-U$2)+(AJ13*V13)/(1-V$2)+(AJ13*W13)/(1-W$2) -> 9733268.2 | AL13: =(AK13*O13*(1-O$2))+(AK13*P13*(1-AA13-O$2))+(AK13*Q13*(1-AE$5))+(AK13*R13*(1-R$2))+(AK13*S13*(1-S$2))+(AK13*T13*(1-T$2))+(AK13*U13*(1-U$2))+(AK13*V13*(1-V$2))+(AK13*W13*(1-W$2)) -> 9114576.9 | AM13: =(AK13*O13*(1-O$2))-(X13*O13*(1-O$2)) -> 15788.58 | AN13: =AM13/((O13*AL13)) -> 0.007402703 | AO13: =AL13-AM13 -> 9098788.3 | AP13: =(((AK13*O13*(1-O$2))/AL13)*AL13)-AM13-(((X13*O13*(1-O$2))/Z13)*Z13) -> 0 | AR13: =1-((((AK13*P13*(1-O$2-AA13))/AL13)*AL13)/(X13*P13)) -> 0.18575767 | AS13: =AR13-$O$2 -> 0.10875767 | AT13: =1-((((AK13*Q13*(1-AE13))/AL13)*AL13)/(X13*Q13)) -> 0.079440174 | AU13: =AT13-$O$2 -> 0.0024401736 | AV13: =$O13*(1-$O$2)+$P13*(1-$O$2-$AA13)+$Q13*(1-$AE13)+$R13*(1-$R$2)+$S13*(1-$S$2)+$T13*(1-$T$2)+$U13*(1-$U$2)+$V13*(1-$V$2)+$W13*(1-$W$2) -> 0.9364354 | AW13: =$P13*(1-$O$2-$AA13)+$Q13*(1-$AE13)+$R13*(1-$R$2)+$S13*(1-$S$2)+$T13*(1-$T$2)+$U13*(1-$U$2)+$V13*(1-$V$2)+$W13*(1-$W$2) -> 0.72045321 | AY13: =(X13*$O13*($O$2)) -> 174057.04 | AZ13: =(X13*$P13*($O$2)) -> 31388.16 | BA13: =(X13*Q13*($Q$2)) -> 47063.092 | BB13: =(X13*$R13*($R$2)) -> 269017.42 | BC13: =(X13*$S13*($S$2))+(X13*$T13*($T$2))+(X13*$U13*($U$2))+(X13*$V13*($V$2))+(X13*$W13*($W$2)) -> 39975.037 | BD13: =SUM(AY13:BC13)-(X13-Z13) -> 0 | BF13: =(AK13*$O13*($O$2)) -> 175374.18 | BG13: =(AK13*$P13*($O$2+$AA13)) -> 78806.686 | BH13: =(AK13*Q13*($AE13)) -> 53179.745 | BI13: =(AK13*$R13*($R$2)) -> 271053.16 | BJ13: =(AK13*$S13*($S$2))+(AK13*$T13*($T$2))+(AK13*$U13*($U$2))+(AK13*$V13*($V$2))+(AK13*$W13*($W$2)) -> 40277.539 | BK13: =SUM(BF13:BJ13)-(AK13-AL13) -> 0 | BM13: =X13 -> 9660166.9 | BN13: =AY13 -> 174057.04 | BO13: =AZ13 -> 31388.16 | BP13: =BA13 -> 47063.092 | BQ13: =BB13 -> 269017.42 | BR13: =BC13 -> 39975.037 | BS13: =BM13-SUM(BN13:BR13) -> 9098666.2 | BU13: =AK13 -> 9733268.2 | BV13: =BF13 -> 175374.18 | BW13: =AM13 -> 15788.58 | BX13: =BG13 -> 78806.686 | BY13: =BH13 -> 53179.745 | BZ13: =BI13 -> 271053.16 | CA13: =BJ13 -> 40277.539 | CB13: =BU13-SUM(BV13:CA13) -> 9098788.3 | CD13: =CB13-BS13 -> 122.17141 | CE13: =CD13/BS13 -> 1.3427398e-05 | CF13: =($X13*O13) -> 2260481 | CG13: =CF13-AY13 -> 2086424 | CH13: =($AK13*O13)-BF13-AM13 -> 2086424 | CI13: =CH13-CG13 -> 0 | CK13: =1-CH13/CF13 -> 0.077 | CL13: =1-CG13/CF13 -> 0.077
A14: 11 | B14: 210011 | D14: 5.6892684e+08 | E14: 165578609 | F14: 44502475 | G14: 54107812 | H14: 21979929 | I14: 107720681 | J14: 24642250 | K14: 47344358 | L14: 10656614 | M14: 31745188 | N14: =D14-SUM(E14:M14) -> 60648922 | O14: =E14/$D14 -> 0.29103673 | P14: =F14/$D14 -> 0.078221788 | Q14: =G14/$D14 -> 0.095105045 | R14: =(H14+I14)/$D14 -> 0.22797415 | S14: =J14/$D14 -> 0.043313566 | T14: =K14/$D14 -> 0.083216953 | U14: =L14/$D14 -> 0.018731079 | V14: =M14/$D14 -> 0.055798366 | W14: =(N14)/$D14 -> 0.10660232 | X14: =Y14*(1-0.4973) -> 3.0376216e+08 | Y14: 6.0426131e+08 | Z14: =(X14*O14*(1-O$2))+(X14*P14*(1-O$2))+(X14*Q14*(1-Q$2))+(X14*R14*(1-R$2))+(X14*S14*(1-S$2))+(X14*T14*(1-T$2))+(X14*U14*(1-U$2))+(X14*V14*(1-V$2))+(X14*W14*(1-W$2)) -> 2.8600557e+08 | AA14: =$AA$51 -> 0.114873 | AB14: =(X14*O14*(1-O$2))+(X14*P14*(1-AA14-O$2))+(X14*Q14*(1-Q$2))+(X14*R14*(1-R$2))+(X14*S14*(1-S$2))+(X14*T14*(1-T$2))+(X14*U14*(1-U$2))+(X14*V14*(1-V$2))+(X14*W14*(1-W$2)) -> 2.832761e+08 | AC14: =((Z14-AB14)*O14/(1-O$2))+((Z14-AB14)*P14/(1-(AA$5+O$2)))+((Z14-AB14)*Q14/(1-Q$2))+((Z14-AB14)*R14/(1-R$2))+((Z14-AB14)*S14/(1-S$2))+((Z14-AB14)*T14/(1-T$2))+((Z14-AB14)*U14/(1-U$2))+((Z14-AB14)*V14/(1-V$2))+((Z14-AB14)*W14/(1-W$2))+X14 -> 3.066965e+08 | AD14: =(AC14*O14*(1-O$2))+(AC14*P14*(1-AA14-O$2))+(AC14*Q14*(1-Q$2))+(AC14*R14*(1-R$2))+(AC14*S14*(1-S$2))+(AC14*T14*(1-T$2))+(AC14*U14*(1-U$2))+(AC14*V14*(1-V$2))+(AC14*W14*(1-W$2)) -> 2.8601254e+08 | AE14: =$AE$51 -> 0.086354 | AF14: =(AC14*O14*(1-O$2))+(AC14*P14*(1-AA14-O$2))+(AC14*Q14*(1-AE$5))+(AC14*R14*(1-R$2))+(AC14*S14*(1-S$2))+(AC14*T14*(1-T$2))+(AC14*U14*(1-U$2))+(AC14*V14*(1-V$2))+(AC14*W14*(1-W$2)) -> 2.857397e+08 | AG14: =((AD14-AF14)*O14/(1-O$2))+((AD14-AF14)*P14/(1-(AA$5+O$2)))+((AD14-AF14)*Q14/(1-AE$5))+((AD14-AF14)*R14/(1-R$2))+((AD14-AF14)*S14/(1-S$2))+((AD14-AF14)*T14/(1-T$2))+((AD14-AF14)*U14/(1-U$2))+((AD14-AF14)*V14/(1-V$2))+((AD14-AF14)*W14/(1-W$2))+AC14 -> 3.0699011e+08 | AH14: =(AG14*O14*(1-O$2))+(AG14*P14*(1-AA14-O$2))+(AG14*Q14*(1-AE$5))+(AG14*R14*(1-R$2))+(AG14*S14*(1-S$2))+(AG14*T14*(1-T$2))+(AG14*U14*(1-U$2))+(AG14*V14*(1-V$2))+(AG14*W14*(1-W$2)) -> 2.8601325e+08 | AI14: =(AG14*O14*(1-O$2))-(X14*O14*(1-O$2)) -> 867114.37 | AJ14: =AI14/(AW14/AV14) -> 1218419.6 | AK14: =AG14+(AJ14*O14)/(1-O$2)+(AJ14*P14)/(1-O$2-AA14)+(AJ14*Q14)/(1-AE14)+(AJ14*R14)/(1-R$2)+(AJ14*S14)/(1-S$2)+(AJ14*T14)/(1-T$2)+(AJ14*U14)/(1-U$2)+(AJ14*V14)/(1-V$2)+(AJ14*W14)/(1-W$2) -> 3.0830127e+08 | AL14: =(AK14*O14*(1-O$2))+(AK14*P14*(1-AA14-O$2))+(AK14*Q14*(1-AE$5))+(AK14*R14*(1-R$2))+(AK14*S14*(1-S$2))+(AK14*T14*(1-T$2))+(AK14*U14*(1-U$2))+(AK14*V14*(1-V$2))+(AK14*W14*(1-W$2)) -> 2.8723481e+08 | AM14: =(AK14*O14*(1-O$2))-(X14*O14*(1-O$2)) -> 1219326.1 | AN14: =AM14/((O14*AL14)) -> 0.014585959 | AO14: =AL14-AM14 -> 2.8601548e+08 | AP14: =(((AK14*O14*(1-O$2))/AL14)*AL14)-AM14-(((X14*O14*(1-O$2))/Z14)*Z14) -> 0 | AR14: =1-((((AK14*P14*(1-O$2-AA14))/AL14)*AL14)/(X14*P14)) -> 0.17979719 | AS14: =AR14-$O$2 -> 0.10279719 | AT14: =1-((((AK14*Q14*(1-AE14))/AL14)*AL14)/(X14*Q14)) -> 0.072701422 | AU14: =AT14-$O$2 -> -0.0042985776 | AV14: =$O14*(1-$O$2)+$P14*(1-$O$2-$AA14)+$Q14*(1-$AE14)+$R14*(1-$R$2)+$S14*(1-$S$2)+$T14*(1-$T$2)+$U14*(1-$U$2)+$V14*(1-$V$2)+$W14*(1-$W$2) -> 0.93166925 | AW14: =$P14*(1-$O$2-$AA14)+$Q14*(1-$AE14)+$R14*(1-$R$2)+$S14*(1-$S$2)+$T14*(1-$T$2)+$U14*(1-$U$2)+$V14*(1-$V$2)+$W14*(1-$W$2) -> 0.66304234 | AY14: =(X14*$O14*($O$2)) -> 6807257.9 | AZ14: =(X14*$P14*($O$2)) -> 1829583.1 | BA14: =(X14*Q14*($Q$2)) -> 2224477.2 | BB14: =(X14*$R14*($R$2)) -> 5332243.8 | BC14: =(X14*$S14*($S$2))+(X14*$T14*($T$2))+(X14*$U14*($U$2))+(X14*$V14*($V$2))+(X14*$W14*($W$2)) -> 1563027.1 | BD14: =SUM(AY14:BC14)-(X14-Z14) -> 0 | BF14: =(AK14*$O14*($O$2)) -> 6908978.5 | BG14: =(AK14*$P14*($O$2+$AA14)) -> 4627185.6 | BH14: =(AK14*Q14*($AE14)) -> 2531986.1 | BI14: =(AK14*$R14*($R$2)) -> 5411923.3 | BJ14: =(AK14*$S14*($S$2))+(AK14*$T14*($T$2))+(AK14*$U14*($U$2))+(AK14*$V14*($V$2))+(AK14*$W14*($W$2)) -> 1586383.4 | BK14: =SUM(BF14:BJ14)-(AK14-AL14) -> 0 | BM14: =X14 -> 3.0376216e+08 | BN14: =AY14 -> 6807257.9 | BO14: =AZ14 -> 1829583.1 | BP14: =BA14 -> 2224477.2 | BQ14: =BB14 -> 5332243.8 | BR14: =BC14 -> 1563027.1 | BS14: =BM14-SUM(BN14:BR14) -> 2.8600557e+08 | BU14: =AK14 -> 3.0830127e+08 | BV14: =BF14 -> 6908978.5 | BW14: =AM14 -> 1219326.1 | BX14: =BG14 -> 4627185.6 | BY14: =BH14 -> 2531986.1 | BZ14: =BI14 -> 5411923.3 | CA14: =BJ14 -> 1586383.4 | CB14: =BU14-SUM(BV14:CA14) -> 2.8601548e+08 | CD14: =CB14-BS14 -> 9912.5423 | CE14: =CD14/BS14 -> 3.4658564e-05 | CF14: =($X14*O14) -> 88405947 | CG14: =CF14-AY14 -> 81598689 | CH14: =($AK14*O14)-BF14-AM14 -> 81598689 | CI14: =CH14-CG14 -> 0 | CK14: =1-CH14/CF14 -> 0.077 | CL14: =1-CG14/CF14 -> 0.077
A15: 12 | B15: 210012 | D15: 9.9438958e+08 | E15: 3.3368735e+08 | F15: 56472877 | G15: 93405084 | H15: 39331013 | I15: 1.9236949e+08 | J15: 39762161 | K15: 58202311 | L15: 0 | M15: 30264900 | N15: =D15-SUM(E15:M15) -> 150894400 | O15: =E15/$D15 -> 0.33557004 | P15: =F15/$D15 -> 0.056791501 | Q15: =G15/$D15 -> 0.093932083 | R15: =(H15+I15)/$D15 -> 0.23300777 | S15: =J15/$D15 -> 0.039986503 | T15: =K15/$D15 -> 0.058530693 | U15: =L15/$D15 -> 0 | V15: =M15/$D15 -> 0.030435657 | W15: =(N15)/$D15 -> 0.15174576 | X15: =Y15*(1-0.4973) -> 5.4746584e+08 | Y15: 1.0890508e+09 | Z15: =(X15*O15*(1-O$2))+(X15*P15*(1-O$2))+(X15*Q15*(1-Q$2))+(X15*R15*(1-R$2))+(X15*S15*(1-S$2))+(X15*T15*(1-T$2))+(X15*U15*(1-U$2))+(X15*V15*(1-V$2))+(X15*W15*(1-W$2)) -> 5.1434885e+08 | AA15: =$AA$51 -> 0.114873 | AB15: =(X15*O15*(1-O$2))+(X15*P15*(1-AA15-O$2))+(X15*Q15*(1-Q$2))+(X15*R15*(1-R$2))+(X15*S15*(1-S$2))+(X15*T15*(1-T$2))+(X15*U15*(1-U$2))+(X15*V15*(1-V$2))+(X15*W15*(1-W$2)) -> 5.1077729e+08 | AC15: =((Z15-AB15)*O15/(1-O$2))+((Z15-AB15)*P15/(1-(AA$5+O$2)))+((Z15-AB15)*Q15/(1-Q$2))+((Z15-AB15)*R15/(1-R$2))+((Z15-AB15)*S15/(1-S$2))+((Z15-AB15)*T15/(1-T$2))+((Z15-AB15)*U15/(1-U$2))+((Z15-AB15)*V15/(1-V$2))+((Z15-AB15)*W15/(1-W$2))+X15 -> 5.5130158e+08 | AD15: =(AC15*O15*(1-O$2))+(AC15*P15*(1-AA15-O$2))+(AC15*Q15*(1-Q$2))+(AC15*R15*(1-R$2))+(AC15*S15*(1-S$2))+(AC15*T15*(1-T$2))+(AC15*U15*(1-U$2))+(AC15*V15*(1-V$2))+(AC15*W15*(1-W$2)) -> 5.1435597e+08 | AE15: =$AE$51 -> 0.086354 | AF15: =(AC15*O15*(1-O$2))+(AC15*P15*(1-AA15-O$2))+(AC15*Q15*(1-AE$5))+(AC15*R15*(1-R$2))+(AC15*S15*(1-S$2))+(AC15*T15*(1-T$2))+(AC15*U15*(1-U$2))+(AC15*V15*(1-V$2))+(AC15*W15*(1-W$2)) -> 5.1387157e+08 | AG15: =((AD15-AF15)*O15/(1-O$2))+((AD15-AF15)*P15/(1-(AA$5+O$2)))+((AD15-AF15)*Q15/(1-AE$5))+((AD15-AF15)*R15/(1-R$2))+((AD15-AF15)*S15/(1-S$2))+((AD15-AF15)*T15/(1-T$2))+((AD15-AF15)*U15/(1-U$2))+((AD15-AF15)*V15/(1-V$2))+((AD15-AF15)*W15/(1-W$2))+AC15 -> 5.5182231e+08 | AH15: =(AG15*O15*(1-O$2))+(AG15*P15*(1-AA15-O$2))+(AG15*Q15*(1-AE$5))+(AG15*R15*(1-R$2))+(AG15*S15*(1-S$2))+(AG15*T15*(1-T$2))+(AG15*U15*(1-U$2))+(AG15*V15*(1-V$2))+(AG15*W15*(1-W$2)) -> 5.1435695e+08 | AI15: =(AG15*O15*(1-O$2))-(X15*O15*(1-O$2)) -> 1349331.9 | AJ15: =AI15/(AW15/AV15) -> 2020840.4 | AK15: =AG15+(AJ15*O15)/(1-O$2)+(AJ15*P15)/(1-O$2-AA15)+(AJ15*Q15)/(1-AE15)+(AJ15*R15)/(1-R$2)+(AJ15*S15)/(1-S$2)+(AJ15*T15)/(1-T$2)+(AJ15*U15)/(1-U$2)+(AJ15*V15)/(1-V$2)+(AJ15*W15)/(1-W$2) -> 5.5399472e+08 | AL15: =(AK15*O15*(1-O$2))+(AK15*P15*(1-AA15-O$2))+(AK15*Q15*(1-AE$5))+(AK15*R15*(1-R$2))+(AK15*S15*(1-S$2))+(AK15*T15*(1-T$2))+(AK15*U15*(1-U$2))+(AK15*V15*(1-V$2))+(AK15*W15*(1-W$2)) -> 5.1638187e+08 | AM15: =(AK15*O15*(1-O$2))-(X15*O15*(1-O$2)) -> 2022197 | AN15: =AM15/((O15*AL15)) -> 0.011669958 | AO15: =AL15-AM15 -> 5.1435967e+08 | AP15: =(((AK15*O15*(1-O$2))/AL15)*AL15)-AM15-(((X15*O15*(1-O$2))/Z15)*Z15) -> 0 | AR15: =1-((((AK15*P15*(1-O$2-AA15))/AL15)*AL15)/(X15*P15)) -> 0.18223557 | AS15: =AR15-$O$2 -> 0.10523557 | AT15: =1-((((AK15*Q15*(1-AE15))/AL15)*AL15)/(X15*Q15)) -> 0.07545819 | AU15: =AT15-$O$2 -> -0.0015418098 | AV15: =$O15*(1-$O$2)+$P15*(1-$O$2-$AA15)+$Q15*(1-$AE15)+$R15*(1-$R$2)+$S15*(1-$S$2)+$T15*(1-$T$2)+$U15*(1-$U$2)+$V15*(1-$V$2)+$W15*(1-$W$2) -> 0.93210612 | AW15: =$P15*(1-$O$2-$AA15)+$Q15*(1-$AE15)+$R15*(1-$R$2)+$S15*(1-$S$2)+$T15*(1-$T$2)+$U15*(1-$U$2)+$V15*(1-$V$2)+$W15*(1-$W$2) -> 0.62237497 | AY15: =(X15*$O15*($O$2)) -> 14145911 | AZ15: =(X15*$P15*($O$2)) -> 2394038.3 | BA15: =(X15*Q15*($Q$2)) -> 3959694.7 | BB15: =(X15*$R15*($R$2)) -> 9822412.3 | BC15: =(X15*$S15*($S$2))+(X15*$T15*($T$2))+(X15*$U15*($U$2))+(X15*$V15*($V$2))+(X15*$W15*($W$2)) -> 2794936.5 | BD15: =SUM(AY15:BC15)-(X15-Z15) -> 0 | BF15: =(AK15*$O15*($O$2)) -> 14314610 | BG15: =(AK15*$P15*($O$2+$AA15)) -> 6036745.1 | BH15: =(AK15*Q15*($AE15)) -> 4493678.9 | BI15: =(AK15*$R15*($R$2)) -> 9939550.8 | BJ15: =(AK15*$S15*($S$2))+(AK15*$T15*($T$2))+(AK15*$U15*($U$2))+(AK15*$V15*($V$2))+(AK15*$W15*($W$2)) -> 2828267.9 | BK15: =SUM(BF15:BJ15)-(AK15-AL15) -> 5.9604645e-08 | BM15: =X15 -> 5.4746584e+08 | BN15: =AY15 -> 14145911 | BO15: =AZ15 -> 2394038.3 | BP15: =BA15 -> 3959694.7 | BQ15: =BB15 -> 9822412.3 | BR15: =BC15 -> 2794936.5 | BS15: =BM15-SUM(BN15:BR15) -> 5.1434885e+08 | BU15: =AK15 -> 5.5399472e+08 | BV15: =BF15 -> 14314610 | BW15: =AM15 -> 2022197 | BX15: =BG15 -> 6036745.1 | BY15: =BH15 -> 4493678.9 | BZ15: =BI15 -> 9939550.8 | CA15: =BJ15 -> 2828267.9 | CB15: =BU15-SUM(BV15:CA15) -> 5.1435967e+08 | CD15: =CB15-BS15 -> 10821.599 | CE15: =CD15/BS15 -> 2.1039415e-05 | CF15: =($X15*O15) -> 1.8371313e+08 | CG15: =CF15-AY15 -> 1.6956722e+08 | CH15: =($AK15*O15)-BF15-AM15 -> 1.6956722e+08 | CI15: =CH15-CG15 -> 0 | CK15: =1-CH15/CF15 -> 0.077 | CL15: =1-CG15/CF15 -> 0.077
A16: 13 | B16: 210013 | D16: 34392900 | E16: 5559100 | F16: 2109131.9 | G16: 2648768.1 | H16: 2279300 | I16: 16750800 | J16: 0 | K16: 925900 | L16: 0 | M16: 2838040 | N16: =D16-SUM(E16:M16) -> 1281860 | O16: =E16/$D16 -> 0.1616351 | P16: =F16/$D16 -> 0.06132463 | Q16: =G16/$D16 -> 0.077014969 | R16: =(H16+I16)/$D16 -> 0.55331478 | S16: =J16/$D16 -> 0 | T16: =K16/$D16 -> 0.026921254 | U16: =L16/$D16 -> 0 | V16: =M16/$D16 -> 0.082518194 | W16: =(N16)/$D16 -> 0.037271065 | X16: =Y16*(1-0.4973) -> 19069324 | Y16: 37933806 | Z16: =(X16*O16*(1-O$2))+(X16*P16*(1-O$2))+(X16*Q16*(1-Q$2))+(X16*R16*(1-R$2))+(X16*S16*(1-S$2))+(X16*T16*(1-T$2))+(X16*U16*(1-U$2))+(X16*V16*(1-V$2))+(X16*W16*(1-W$2)) -> 17791925 | AA16: =$AA$51 -> 0.114873 | AB16: =(X16*O16*(1-O$2))+(X16*P16*(1-AA16-O$2))+(X16*Q16*(1-Q$2))+(X16*R16*(1-R$2))+(X16*S16*(1-S$2))+(X16*T16*(1-T$2))+(X16*U16*(1-U$2))+(X16*V16*(1-V$2))+(X16*W16*(1-W$2)) -> 17657590 | AC16: =((Z16-AB16)*O16/(1-O$2))+((Z16-AB16)*P16/(1-(AA$5+O$2)))+((Z16-AB16)*Q16/(1-Q$2))+((Z16-AB16)*R16/(1-R$2))+((Z16-AB16)*S16/(1-S$2))+((Z16-AB16)*T16/(1-T$2))+((Z16-AB16)*U16/(1-U$2))+((Z16-AB16)*V16/(1-V$2))+((Z16-AB16)*W16/(1-W$2))+X16 -> 19214666 | AD16: =(AC16*O16*(1-O$2))+(AC16*P16*(1-AA16-O$2))+(AC16*Q16*(1-Q$2))+(AC16*R16*(1-R$2))+(AC16*S16*(1-S$2))+(AC16*T16*(1-T$2))+(AC16*U16*(1-U$2))+(AC16*V16*(1-V$2))+(AC16*W16*(1-W$2)) -> 17792172 | AE16: =$AE$51 -> 0.086354 | AF16: =(AC16*O16*(1-O$2))+(AC16*P16*(1-AA16-O$2))+(AC16*Q16*(1-AE$5))+(AC16*R16*(1-R$2))+(AC16*S16*(1-S$2))+(AC16*T16*(1-T$2))+(AC16*U16*(1-U$2))+(AC16*V16*(1-V$2))+(AC16*W16*(1-W$2)) -> 17778330 | AG16: =((AD16-AF16)*O16/(1-O$2))+((AD16-AF16)*P16/(1-(AA$5+O$2)))+((AD16-AF16)*Q16/(1-AE$5))+((AD16-AF16)*R16/(1-R$2))+((AD16-AF16)*S16/(1-S$2))+((AD16-AF16)*T16/(1-T$2))+((AD16-AF16)*U16/(1-U$2))+((AD16-AF16)*V16/(1-V$2))+((AD16-AF16)*W16/(1-W$2))+AC16 -> 19229654 | AH16: =(AG16*O16*(1-O$2))+(AG16*P16*(1-AA16-O$2))+(AG16*Q16*(1-AE$5))+(AG16*R16*(1-R$2))+(AG16*S16*(1-S$2))+(AG16*T16*(1-T$2))+(AG16*U16*(1-U$2))+(AG16*V16*(1-V$2))+(AG16*W16*(1-W$2)) -> 17792198 | AI16: =(AG16*O16*(1-O$2))-(X16*O16*(1-O$2)) -> 23919.531 | AJ16: =AI16/(AW16/AV16) -> 28517.812 | AK16: =AG16+(AJ16*O16)/(1-O$2)+(AJ16*P16)/(1-O$2-AA16)+(AJ16*Q16)/(1-AE16)+(AJ16*R16)/(1-R$2)+(AJ16*S16)/(1-S$2)+(AJ16*T16)/(1-T$2)+(AJ16*U16)/(1-U$2)+(AJ16*V16)/(1-V$2)+(AJ16*W16)/(1-W$2) -> 19260533 | AL16: =(AK16*O16*(1-O$2))+(AK16*P16*(1-AA16-O$2))+(AK16*Q16*(1-AE$5))+(AK16*R16*(1-R$2))+(AK16*S16*(1-S$2))+(AK16*T16*(1-T$2))+(AK16*U16*(1-U$2))+(AK16*V16*(1-V$2))+(AK16*W16*(1-W$2)) -> 17820768 | AM16: =(AK16*O16*(1-O$2))-(X16*O16*(1-O$2)) -> 28526.329 | AN16: =AM16/((O16*AL16)) -> 0.0099033874 | AO16: =AL16-AM16 -> 17792242 | AP16: =(((AK16*O16*(1-O$2))/AL16)*AL16)-AM16-(((X16*O16*(1-O$2))/Z16)*Z16) -> 0 | AR16: =1-((((AK16*P16*(1-O$2-AA16))/AL16)*AL16)/(X16*P16)) -> 0.18376987 | AS16: =AR16-$O$2 -> 0.10676987 | AT16: =1-((((AK16*Q16*(1-AE16))/AL16)*AL16)/(X16*Q16)) -> 0.077192826 | AU16: =AT16-$O$2 -> 0.00019282567 | AV16: =$O16*(1-$O$2)+$P16*(1-$O$2-$AA16)+$Q16*(1-$AE16)+$R16*(1-$R$2)+$S16*(1-$S$2)+$T16*(1-$T$2)+$U16*(1-$U$2)+$V16*(1-$V$2)+$W16*(1-$W$2) -> 0.92524792 | AW16: =$P16*(1-$O$2-$AA16)+$Q16*(1-$AE16)+$R16*(1-$R$2)+$S16*(1-$S$2)+$T16*(1-$T$2)+$U16*(1-$U$2)+$V16*(1-$V$2)+$W16*(1-$W$2) -> 0.77605872 | AY16: =(X16*$O16*($O$2)) -> 237334.96 | AZ16: =(X16*$P16*($O$2)) -> 90045.281 | BA16: =(X16*Q16*($Q$2)) -> 113084 | BB16: =(X16*$R16*($R$2)) -> 812453.1 | BC16: =(X16*$S16*($S$2))+(X16*$T16*($T$2))+(X16*$U16*($U$2))+(X16*$V16*($V$2))+(X16*$W16*($W$2)) -> 24482.083 | BD16: =SUM(AY16:BC16)-(X16-Z16) -> 0 | BF16: =(AK16*$O16*($O$2)) -> 239714.73 | BG16: =(AK16*$P16*($O$2+$AA16)) -> 226629.85 | BH16: =(AK16*Q16*($AE16)) -> 128093.15 | BI16: =(AK16*$R16*($R$2)) -> 820599.6 | BJ16: =(AK16*$S16*($S$2))+(AK16*$T16*($T$2))+(AK16*$U16*($U$2))+(AK16*$V16*($V$2))+(AK16*$W16*($W$2)) -> 24727.566 | BK16: =SUM(BF16:BJ16)-(AK16-AL16) -> -2.5611371e-09 | BM16: =X16 -> 19069324 | BN16: =AY16 -> 237334.96 | BO16: =AZ16 -> 90045.281 | BP16: =BA16 -> 113084 | BQ16: =BB16 -> 812453.1 | BR16: =BC16 -> 24482.083 | BS16: =BM16-SUM(BN16:BR16) -> 17791925 | BU16: =AK16 -> 19260533 | BV16: =BF16 -> 239714.73 | BW16: =AM16 -> 28526.329 | BX16: =BG16 -> 226629.85 | BY16: =BH16 -> 128093.15 | BZ16: =BI16 -> 820599.6 | CA16: =BJ16 -> 24727.566 | CB16: =BU16-SUM(BV16:CA16) -> 17792242 | CD16: =CB16-BS16 -> 317.26639 | CE16: =CD16/BS16 -> 1.7832044e-05 | CF16: =($X16*O16) -> 3082272.2 | CG16: =CF16-AY16 -> 2844937.2 | CH16: =($AK16*O16)-BF16-AM16 -> 2844937.2 | CI16: =CH16-CG16 -> 0 | CK16: =1-CH16/CF16 -> 0.077 | CL16: =1-CG16/CF16 -> 0.077
A17: 15 | B17: 210015 | D17: 7.438663e+08 | E17: 2.2212297e+08 | F17: 53671431 | G17: 68053909 | H17: 23054440 | I17: 1.6179206e+08 | J17: 28034824 | K17: 40255595 | L17: 4100608.4 | M17: 26996832 | N17: =D17-SUM(E17:M17) -> 1.1578363e+08 | O17: =E17/$D17 -> 0.29860604 | P17: =F17/$D17 -> 0.072151987 | Q17: =G17/$D17 -> 0.091486749 | R17: =(H17+I17)/$D17 -> 0.24849425 | S17: =J17/$D17 -> 0.037687988 | T17: =K17/$D17 -> 0.054116708 | U17: =L17/$D17 -> 0.0055125611 | V17: =M17/$D17 -> 0.036292587 | W17: =(N17)/$D17 -> 0.15565113 | X17: =Y17*(1-0.4973) -> 4.0931096e+08 | Y17: 8.142251e+08 | Z17: =(X17*O17*(1-O$2))+(X17*P17*(1-O$2))+(X17*Q17*(1-Q$2))+(X17*R17*(1-R$2))+(X17*S17*(1-S$2))+(X17*T17*(1-T$2))+(X17*U17*(1-U$2))+(X17*V17*(1-V$2))+(X17*W17*(1-W$2)) -> 3.8480121e+08 | AA17: =$AA$51 -> 0.114873 | AB17: =(X17*O17*(1-O$2))+(X17*P17*(1-AA17-O$2))+(X17*Q17*(1-Q$2))+(X17*R17*(1-R$2))+(X17*S17*(1-S$2))+(X17*T17*(1-T$2))+(X17*U17*(1-U$2))+(X17*V17*(1-V$2))+(X17*W17*(1-W$2)) -> 3.8140872e+08 | AC17: =((Z17-AB17)*O17/(1-O$2))+((Z17-AB17)*P17/(1-(AA$5+O$2)))+((Z17-AB17)*Q17/(1-Q$2))+((Z17-AB17)*R17/(1-R$2))+((Z17-AB17)*S17/(1-S$2))+((Z17-AB17)*T17/(1-T$2))+((Z17-AB17)*U17/(1-U$2))+((Z17-AB17)*V17/(1-V$2))+((Z17-AB17)*W17/(1-W$2))+X17 -> 4.1296015e+08 | AD17: =(AC17*O17*(1-O$2))+(AC17*P17*(1-AA17-O$2))+(AC17*Q17*(1-Q$2))+(AC17*R17*(1-R$2))+(AC17*S17*(1-S$2))+(AC17*T17*(1-T$2))+(AC17*U17*(1-U$2))+(AC17*V17*(1-V$2))+(AC17*W17*(1-W$2)) -> 3.8480915e+08 | AE17: =$AE$51 -> 0.086354 | AF17: =(AC17*O17*(1-O$2))+(AC17*P17*(1-AA17-O$2))+(AC17*Q17*(1-AE$5))+(AC17*R17*(1-R$2))+(AC17*S17*(1-S$2))+(AC17*T17*(1-T$2))+(AC17*U17*(1-U$2))+(AC17*V17*(1-V$2))+(AC17*W17*(1-W$2)) -> 3.8445575e+08 | AG17: =((AD17-AF17)*O17/(1-O$2))+((AD17-AF17)*P17/(1-(AA$5+O$2)))+((AD17-AF17)*Q17/(1-AE$5))+((AD17-AF17)*R17/(1-R$2))+((AD17-AF17)*S17/(1-S$2))+((AD17-AF17)*T17/(1-T$2))+((AD17-AF17)*U17/(1-U$2))+((AD17-AF17)*V17/(1-V$2))+((AD17-AF17)*W17/(1-W$2))+AC17 -> 4.1334064e+08 | AH17: =(AG17*O17*(1-O$2))+(AG17*P17*(1-AA17-O$2))+(AG17*Q17*(1-AE$5))+(AG17*R17*(1-R$2))+(AG17*S17*(1-S$2))+(AG17*T17*(1-T$2))+(AG17*U17*(1-U$2))+(AG17*V17*(1-V$2))+(AG17*W17*(1-W$2)) -> 3.8480998e+08 | AI17: =(AG17*O17*(1-O$2))-(X17*O17*(1-O$2)) -> 1110636.1 | AJ17: =AI17/(AW17/AV17) -> 1577715.5 | AK17: =AG17+(AJ17*O17)/(1-O$2)+(AJ17*P17)/(1-O$2-AA17)+(AJ17*Q17)/(1-AE17)+(AJ17*R17)/(1-R$2)+(AJ17*S17)/(1-S$2)+(AJ17*T17)/(1-T$2)+(AJ17*U17)/(1-U$2)+(AJ17*V17)/(1-V$2)+(AJ17*W17)/(1-W$2) -> 4.1503934e+08 | AL17: =(AK17*O17*(1-O$2))+(AK17*P17*(1-AA17-O$2))+(AK17*Q17*(1-AE$5))+(AK17*R17*(1-R$2))+(AK17*S17*(1-S$2))+(AK17*T17*(1-T$2))+(AK17*U17*(1-U$2))+(AK17*V17*(1-V$2))+(AK17*W17*(1-W$2)) -> 3.8639143e+08 | AM17: =(AK17*O17*(1-O$2))-(X17*O17*(1-O$2)) -> 1578819 | AN17: =AM17/((O17*AL17)) -> 0.013683786 | AO17: =AL17-AM17 -> 3.8481261e+08 | AP17: =(((AK17*O17*(1-O$2))/AL17)*AL17)-AM17-(((X17*O17*(1-O$2))/Z17)*Z17) -> 0 | AR17: =1-((((AK17*P17*(1-O$2-AA17))/AL17)*AL17)/(X17*P17)) -> 0.18056311 | AS17: =AR17-$O$2 -> 0.10356311 | AT17: =1-((((AK17*Q17*(1-AE17))/AL17)*AL17)/(X17*Q17)) -> 0.073567354 | AU17: =AT17-$O$2 -> -0.0034326464 | AV17: =$O17*(1-$O$2)+$P17*(1-$O$2-$AA17)+$Q17*(1-$AE17)+$R17*(1-$R$2)+$S17*(1-$S$2)+$T17*(1-$T$2)+$U17*(1-$U$2)+$V17*(1-$V$2)+$W17*(1-$W$2) -> 0.93097543 | AW17: =$P17*(1-$O$2-$AA17)+$Q17*(1-$AE17)+$R17*(1-$R$2)+$S17*(1-$S$2)+$T17*(1-$T$2)+$U17*(1-$U$2)+$V17*(1-$V$2)+$W17*(1-$W$2) -> 0.65536205 | AY17: =(X17*$O17*($O$2)) -> 9411149.7 | AZ17: =(X17*$P17*($O$2)) -> 2274010.1 | BA17: =(X17*Q17*($Q$2)) -> 2883382.7 | BB17: =(X17*$R17*($R$2)) -> 7831779.3 | BC17: =(X17*$S17*($S$2))+(X17*$T17*($T$2))+(X17*$U17*($U$2))+(X17*$V17*($V$2))+(X17*$W17*($W$2)) -> 2109419.9 | BD17: =SUM(AY17:BC17)-(X17-Z17) -> 4.4703484e-08 | BF17: =(AK17*$O17*($O$2)) -> 9542860.5 | BG17: =(AK17*$P17*($O$2+$AA17)) -> 5745812.2 | BH17: =(AK17*Q17*($AE17)) -> 3278913.2 | BI17: =(AK17*$R17*($R$2)) -> 7941386.5 | BJ17: =(AK17*$S17*($S$2))+(AK17*$T17*($T$2))+(AK17*$U17*($U$2))+(AK17*$V17*($V$2))+(AK17*$W17*($W$2)) -> 2138941.6 | BK17: =SUM(BF17:BJ17)-(AK17-AL17) -> 0 | BM17: =X17 -> 4.0931096e+08 | BN17: =AY17 -> 9411149.7 | BO17: =AZ17 -> 2274010.1 | BP17: =BA17 -> 2883382.7 | BQ17: =BB17 -> 7831779.3 | BR17: =BC17 -> 2109419.9 | BS17: =BM17-SUM(BN17:BR17) -> 3.8480121e+08 | BU17: =AK17 -> 4.1503934e+08 | BV17: =BF17 -> 9542860.5 | BW17: =AM17 -> 1578819 | BX17: =BG17 -> 5745812.2 | BY17: =BH17 -> 3278913.2 | BZ17: =BI17 -> 7941386.5 | CA17: =BJ17 -> 2138941.6 | CB17: =BU17-SUM(BV17:CA17) -> 3.8481261e+08 | CD17: =CB17-BS17 -> 11391.96 | CE17: =CD17/BS17 -> 2.9604792e-05 | CF17: =($X17*O17) -> 1.2222272e+08 | CG17: =CF17-AY17 -> 1.1281157e+08 | CH17: =($AK17*O17)-BF17-AM17 -> 1.1281157e+08 | CI17: =CH17-CG17 -> 0 | CK17: =1-CH17/CF17 -> 0.077 | CL17: =1-CG17/CF17 -> 0.077
A18: 18 | B18: 210018 | D18: 241848933 | E18: 90932270 | F18: 10710928 | G18: 16319330 | H18: 6165380 | I18: 31779252 | J18: 8106210 | K18: 17127791 | L18: 1048543.1 | M18: 10355704 | N18: =D18-SUM(E18:M18) -> 49303525 | O18: =E18/$D18 -> 0.37598789 | P18: =F18/$D18 -> 0.04428768 | Q18: =G18/$D18 -> 0.06747737 | R18: =(H18+I18)/$D18 -> 0.15689394 | S18: =J18/$D18 -> 0.033517659 | T18: =K18/$D18 -> 0.070820206 | U18: =L18/$D18 -> 0.0043355292 | V18: =M18/$D18 -> 0.042818896 | W18: =(N18)/$D18 -> 0.20386083 | X18: =Y18*(1-0.4973) -> 1.320702e+08 | Y18: 2.627217e+08 | Z18: =(X18*O18*(1-O$2))+(X18*P18*(1-O$2))+(X18*Q18*(1-Q$2))+(X18*R18*(1-R$2))+(X18*S18*(1-S$2))+(X18*T18*(1-T$2))+(X18*U18*(1-U$2))+(X18*V18*(1-V$2))+(X18*W18*(1-W$2)) -> 1.2467793e+08 | AA18: =$AA$51 -> 0.114873 | AB18: =(X18*O18*(1-O$2))+(X18*P18*(1-AA18-O$2))+(X18*Q18*(1-Q$2))+(X18*R18*(1-R$2))+(X18*S18*(1-S$2))+(X18*T18*(1-T$2))+(X18*U18*(1-U$2))+(X18*V18*(1-V$2))+(X18*W18*(1-W$2)) -> 1.2400603e+08 | AC18: =((Z18-AB18)*O18/(1-O$2))+((Z18-AB18)*P18/(1-(AA$5+O$2)))+((Z18-AB18)*Q18/(1-Q$2))+((Z18-AB18)*R18/(1-R$2))+((Z18-AB18)*S18/(1-S$2))+((Z18-AB18)*T18/(1-T$2))+((Z18-AB18)*U18/(1-U$2))+((Z18-AB18)*V18/(1-V$2))+((Z18-AB18)*W18/(1-W$2))+X18 -> 1.3278716e+08 | AD18: =(AC18*O18*(1-O$2))+(AC18*P18*(1-AA18-O$2))+(AC18*Q18*(1-Q$2))+(AC18*R18*(1-R$2))+(AC18*S18*(1-S$2))+(AC18*T18*(1-T$2))+(AC18*U18*(1-U$2))+(AC18*V18*(1-V$2))+(AC18*W18*(1-W$2)) -> 1.2467921e+08 | AE18: =$AE$51 -> 0.086354 | AF18: =(AC18*O18*(1-O$2))+(AC18*P18*(1-AA18-O$2))+(AC18*Q18*(1-AE$5))+(AC18*R18*(1-R$2))+(AC18*S18*(1-S$2))+(AC18*T18*(1-T$2))+(AC18*U18*(1-U$2))+(AC18*V18*(1-V$2))+(AC18*W18*(1-W$2)) -> 1.245954e+08 | AG18: =((AD18-AF18)*O18/(1-O$2))+((AD18-AF18)*P18/(1-(AA$5+O$2)))+((AD18-AF18)*Q18/(1-AE$5))+((AD18-AF18)*R18/(1-R$2))+((AD18-AF18)*S18/(1-S$2))+((AD18-AF18)*T18/(1-T$2))+((AD18-AF18)*U18/(1-U$2))+((AD18-AF18)*V18/(1-V$2))+((AD18-AF18)*W18/(1-W$2))+AC18 -> 1.3287666e+08 | AH18: =(AG18*O18*(1-O$2))+(AG18*P18*(1-AA18-O$2))+(AG18*Q18*(1-AE$5))+(AG18*R18*(1-R$2))+(AG18*S18*(1-S$2))+(AG18*T18*(1-T$2))+(AG18*U18*(1-U$2))+(AG18*V18*(1-V$2))+(AG18*W18*(1-W$2)) -> 1.2467937e+08 | AI18: =(AG18*O18*(1-O$2))-(X18*O18*(1-O$2)) -> 279871.14 | AJ18: =AI18/(AW18/AV18) -> 444136.57 | AK18: =AG18+(AJ18*O18)/(1-O$2)+(AJ18*P18)/(1-O$2-AA18)+(AJ18*Q18)/(1-AE18)+(AJ18*R18)/(1-R$2)+(AJ18*S18)/(1-S$2)+(AJ18*T18)/(1-T$2)+(AJ18*U18)/(1-U$2)+(AJ18*V18)/(1-V$2)+(AJ18*W18)/(1-W$2) -> 1.3335091e+08 | AL18: =(AK18*O18*(1-O$2))+(AK18*P18*(1-AA18-O$2))+(AK18*Q18*(1-AE$5))+(AK18*R18*(1-R$2))+(AK18*S18*(1-S$2))+(AK18*T18*(1-T$2))+(AK18*U18*(1-U$2))+(AK18*V18*(1-V$2))+(AK18*W18*(1-W$2)) -> 1.2512437e+08 | AM18: =(AK18*O18*(1-O$2))-(X18*O18*(1-O$2)) -> 444455.1 | AN18: =AM18/((O18*AL18)) -> 0.0094473963 | AO18: =AL18-AM18 -> 1.2467992e+08 | AP18: =(((AK18*O18*(1-O$2))/AL18)*AL18)-AM18-(((X18*O18*(1-O$2))/Z18)*Z18) -> 0 | AR18: =1-((((AK18*P18*(1-O$2-AA18))/AL18)*AL18)/(X18*P18)) -> 0.18403641 | AS18: =AR18-$O$2 -> 0.10703641 | AT18: =1-((((AK18*Q18*(1-AE18))/AL18)*AL18)/(X18*Q18)) -> 0.077494168 | AU18: =AT18-$O$2 -> 0.00049416842 | AV18: =$O18*(1-$O$2)+$P18*(1-$O$2-$AA18)+$Q18*(1-$AE18)+$R18*(1-$R$2)+$S18*(1-$S$2)+$T18*(1-$T$2)+$U18*(1-$U$2)+$V18*(1-$V$2)+$W18*(1-$W$2) -> 0.93830907 | AW18: =$P18*(1-$O$2-$AA18)+$Q18*(1-$AE18)+$R18*(1-$R$2)+$S18*(1-$S$2)+$T18*(1-$T$2)+$U18*(1-$U$2)+$V18*(1-$V$2)+$W18*(1-$W$2) -> 0.59127225 | AY18: =(X18*$O18*($O$2)) -> 3823573.2 | AZ18: =(X18*$P18*($O$2)) -> 450379.37 | BA18: =(X18*Q18*($Q$2)) -> 686204.72 | BB18: =(X18*$R18*($R$2)) -> 1595518 | BC18: =(X18*$S18*($S$2))+(X18*$T18*($T$2))+(X18*$U18*($U$2))+(X18*$V18*($V$2))+(X18*$W18*($W$2)) -> 836595.85 | BD18: =SUM(AY18:BC18)-(X18-Z18) -> 8.3819032e-09 | BF18: =(AK18*$O18*($O$2)) -> 3860651.3 | BG18: =(AK18*$P18*($O$2+$AA18)) -> 1133164.1 | BH18: =(AK18*Q18*($AE18)) -> 777027.88 | BI18: =(AK18*$R18*($R$2)) -> 1610990.1 | BJ18: =(AK18*$S18*($S$2))+(AK18*$T18*($T$2))+(AK18*$U18*($U$2))+(AK18*$V18*($V$2))+(AK18*$W18*($W$2)) -> 844708.51 | BK18: =SUM(BF18:BJ18)-(AK18-AL18) -> 7.4505806e-09 | BM18: =X18 -> 1.320702e+08 | BN18: =AY18 -> 3823573.2 | BO18: =AZ18 -> 450379.37 | BP18: =BA18 -> 686204.72 | BQ18: =BB18 -> 1595518 | BR18: =BC18 -> 836595.85 | BS18: =BM18-SUM(BN18:BR18) -> 1.2467793e+08 | BU18: =AK18 -> 1.3335091e+08 | BV18: =BF18 -> 3860651.3 | BW18: =AM18 -> 444455.1 | BX18: =BG18 -> 1133164.1 | BY18: =BH18 -> 777027.88 | BZ18: =BI18 -> 1610990.1 | CA18: =BJ18 -> 844708.51 | CB18: =BU18-SUM(BV18:CA18) -> 1.2467992e+08 | CD18: =CB18-BS18 -> 1988.7773 | CE18: =CD18/BS18 -> 1.5951319e-05 | CF18: =($X18*O18) -> 49656795 | CG18: =CF18-AY18 -> 45833222 | CH18: =($AK18*O18)-BF18-AM18 -> 45833222 | CI18: =CH18-CG18 -> 0 | CK18: =1-CH18/CF18 -> 0.077 | CL18: =1-CG18/CF18 -> 0.077
A19: 19 | B19: 210019 | D19: 650222000 | E19: 245185000 | F19: 39177870 | G19: 60215930 | H19: 13782000 | I19: 107338400 | J19: 31344100 | K19: 40337600 | L19: 0 | M19: 30523300 | N19: =D19-SUM(E19:M19) -> 82317800 | O19: =E19/$D19 -> 0.37707891 | P19: =F19/$D19 -> 0.060253067 | Q19: =G19/$D19 -> 0.092608264 | R19: =(H19+I19)/$D19 -> 0.18627546 | S19: =J19/$D19 -> 0.048205228 | T19: =K19/$D19 -> 0.062036658 | U19: =L19/$D19 -> 0 | V19: =M19/$D19 -> 0.04694289 | W19: =(N19)/$D19 -> 0.12659953 | X19: =Y19*(1-0.4973) -> 3.5715005e+08 | Y19: 7.104636e+08 | Z19: =(X19*O19*(1-O$2))+(X19*P19*(1-O$2))+(X19*Q19*(1-Q$2))+(X19*R19*(1-R$2))+(X19*S19*(1-S$2))+(X19*T19*(1-T$2))+(X19*U19*(1-U$2))+(X19*V19*(1-V$2))+(X19*W19*(1-W$2)) -> 3.3571892e+08 | AA19: =$AA$51 -> 0.114873 | AB19: =(X19*O19*(1-O$2))+(X19*P19*(1-AA19-O$2))+(X19*Q19*(1-Q$2))+(X19*R19*(1-R$2))+(X19*S19*(1-S$2))+(X19*T19*(1-T$2))+(X19*U19*(1-U$2))+(X19*V19*(1-V$2))+(X19*W19*(1-W$2)) -> 3.3324693e+08 | AC19: =((Z19-AB19)*O19/(1-O$2))+((Z19-AB19)*P19/(1-(AA$5+O$2)))+((Z19-AB19)*Q19/(1-Q$2))+((Z19-AB19)*R19/(1-R$2))+((Z19-AB19)*S19/(1-S$2))+((Z19-AB19)*T19/(1-T$2))+((Z19-AB19)*U19/(1-U$2))+((Z19-AB19)*V19/(1-V$2))+((Z19-AB19)*W19/(1-W$2))+X19 -> 3.5980495e+08 | AD19: =(AC19*O19*(1-O$2))+(AC19*P19*(1-AA19-O$2))+(AC19*Q19*(1-Q$2))+(AC19*R19*(1-R$2))+(AC19*S19*(1-S$2))+(AC19*T19*(1-T$2))+(AC19*U19*(1-U$2))+(AC19*V19*(1-V$2))+(AC19*W19*(1-W$2)) -> 3.3572414e+08 | AE19: =$AE$51 -> 0.086354 | AF19: =(AC19*O19*(1-O$2))+(AC19*P19*(1-AA19-O$2))+(AC19*Q19*(1-AE$5))+(AC19*R19*(1-R$2))+(AC19*S19*(1-S$2))+(AC19*T19*(1-T$2))+(AC19*U19*(1-U$2))+(AC19*V19*(1-V$2))+(AC19*W19*(1-W$2)) -> 3.3541245e+08 | AG19: =((AD19-AF19)*O19/(1-O$2))+((AD19-AF19)*P19/(1-(AA$5+O$2)))+((AD19-AF19)*Q19/(1-AE$5))+((AD19-AF19)*R19/(1-R$2))+((AD19-AF19)*S19/(1-S$2))+((AD19-AF19)*T19/(1-T$2))+((AD19-AF19)*U19/(1-U$2))+((AD19-AF19)*V19/(1-V$2))+((AD19-AF19)*W19/(1-W$2))+AC19 -> 3.6014001e+08 | AH19: =(AG19*O19*(1-O$2))+(AG19*P19*(1-AA19-O$2))+(AG19*Q19*(1-AE$5))+(AG19*R19*(1-R$2))+(AG19*S19*(1-S$2))+(AG19*T19*(1-T$2))+(AG19*U19*(1-U$2))+(AG19*V19*(1-V$2))+(AG19*W19*(1-W$2)) -> 3.357248e+08 | AI19: =(AG19*O19*(1-O$2))-(X19*O19*(1-O$2)) -> 1040636.8 | AJ19: =AI19/(AW19/AV19) -> 1660647.9 | AK19: =AG19+(AJ19*O19)/(1-O$2)+(AJ19*P19)/(1-O$2-AA19)+(AJ19*Q19)/(1-AE19)+(AJ19*R19)/(1-R$2)+(AJ19*S19)/(1-S$2)+(AJ19*T19)/(1-T$2)+(AJ19*U19)/(1-U$2)+(AJ19*V19)/(1-V$2)+(AJ19*W19)/(1-W$2) -> 3.6192523e+08 | AL19: =(AK19*O19*(1-O$2))+(AK19*P19*(1-AA19-O$2))+(AK19*Q19*(1-AE$5))+(AK19*R19*(1-R$2))+(AK19*S19*(1-S$2))+(AK19*T19*(1-T$2))+(AK19*U19*(1-U$2))+(AK19*V19*(1-V$2))+(AK19*W19*(1-W$2)) -> 3.37389e+08 | AM19: =(AK19*O19*(1-O$2))-(X19*O19*(1-O$2)) -> 1661972.2 | AN19: =AM19/((O19*AL19)) -> 0.013063532 | AO19: =AL19-AM19 -> 3.3572703e+08 | AP19: =(((AK19*O19*(1-O$2))/AL19)*AL19)-AM19-(((X19*O19*(1-O$2))/Z19)*Z19) -> 0 | AR19: =1-((((AK19*P19*(1-O$2-AA19))/AL19)*AL19)/(X19*P19)) -> 0.18106815 | AS19: =AR19-$O$2 -> 0.10406815 | AT19: =1-((((AK19*Q19*(1-AE19))/AL19)*AL19)/(X19*Q19)) -> 0.074138337 | AU19: =AT19-$O$2 -> -0.0028616633 | AV19: =$O19*(1-$O$2)+$P19*(1-$O$2-$AA19)+$Q19*(1-$AE19)+$R19*(1-$R$2)+$S19*(1-$S$2)+$T19*(1-$T$2)+$U19*(1-$U$2)+$V19*(1-$V$2)+$W19*(1-$W$2) -> 0.93220634 | AW19: =$P19*(1-$O$2-$AA19)+$Q19*(1-$AE19)+$R19*(1-$R$2)+$S19*(1-$S$2)+$T19*(1-$T$2)+$U19*(1-$U$2)+$V19*(1-$V$2)+$W19*(1-$W$2) -> 0.58416251 | AY19: =(X19*$O19*($O$2)) -> 10369879 | AZ19: =(X19*$P19*($O$2)) -> 1656992.7 | BA19: =(X19*Q19*($Q$2)) -> 2546778.6 | BB19: =(X19*$R19*($R$2)) -> 5122678.3 | BC19: =(X19*$S19*($S$2))+(X19*$T19*($T$2))+(X19*$U19*($U$2))+(X19*$V19*($V$2))+(X19*$W19*($W$2)) -> 1734799.7 | BD19: =SUM(AY19:BC19)-(X19-Z19) -> 0 | BF19: =(AK19*$O19*($O$2)) -> 10508527 | BG19: =(AK19*$P19*($O$2+$AA19)) -> 4184194.7 | BH19: =(AK19*Q19*($AE19)) -> 2894350.1 | BI19: =(AK19*$R19*($R$2)) -> 5191169.7 | BJ19: =(AK19*$S19*($S$2))+(AK19*$T19*($T$2))+(AK19*$U19*($U$2))+(AK19*$V19*($V$2))+(AK19*$W19*($W$2)) -> 1757994.4 | BK19: =SUM(BF19:BJ19)-(AK19-AL19) -> -5.5879354e-08 | BM19: =X19 -> 3.5715005e+08 | BN19: =AY19 -> 10369879 | BO19: =AZ19 -> 1656992.7 | BP19: =BA19 -> 2546778.6 | BQ19: =BB19 -> 5122678.3 | BR19: =BC19 -> 1734799.7 | BS19: =BM19-SUM(BN19:BR19) -> 3.3571892e+08 | BU19: =AK19 -> 3.6192523e+08 | BV19: =BF19 -> 10508527 | BW19: =AM19 -> 1661972.2 | BX19: =BG19 -> 4184194.7 | BY19: =BH19 -> 2894350.1 | BZ19: =BI19 -> 5191169.7 | CA19: =BJ19 -> 1757994.4 | CB19: =BU19-SUM(BV19:CA19) -> 3.3572703e+08 | CD19: =CB19-BS19 -> 8101.1715 | CE19: =CD19/BS19 -> 2.4130816e-05 | CF19: =($X19*O19) -> 1.3467375e+08 | CG19: =CF19-AY19 -> 1.2430387e+08 | CH19: =($AK19*O19)-BF19-AM19 -> 1.2430387e+08 | CI19: =CH19-CG19 -> 0 | CK19: =1-CH19/CF19 -> 0.077 | CL19: =1-CG19/CF19 -> 0.077
A20: 22 | B20: 210022 | D20: 4.6560338e+08 | E20: 1.9045046e+08 | F20: 16225618 | G20: 7538562.6 | H20: 9495691.4 | I20: 29607101 | J20: 29703282 | K20: 39706361 | L20: 1919982.8 | M20: 17032436 | N20: =D20-SUM(E20:M20) -> 1.2392389e+08 | O20: =E20/$D20 -> 0.40904011 | P20: =F20/$D20 -> 0.034848584 | Q20: =G20/$D20 -> 0.016190953 | R20: =(H20+I20)/$D20 -> 0.083983049 | S20: =J20/$D20 -> 0.063795245 | T20: =K20/$D20 -> 0.085279365 | U20: =L20/$D20 -> 0.0041236444 | V20: =M20/$D20 -> 0.036581427 | W20: =(N20)/$D20 -> 0.26615762 | X20: =Y20*(1-0.4973) -> 2.5728806e+08 | Y20: 5.1181234e+08 | Z20: =(X20*O$20*(1-O$2))+(X20*P$20*(1-O$2))+(X20*Q$20*(1-Q$2))+(X20*R$20*(1-R$2))+(X20*S$20*(1-S$2))+(X20*T$20*(1-T$2))+(X20*U$20*(1-U$2))+(X20*V$20*(1-V$2))+(X20*W$20*(1-W$2)) -> 2.443106e+08 | AA20: =$AA$51 -> 0.114873 | AB20: =(X20*O20*(1-O$2))+(X20*P20*(1-AA20-O$2))+(X20*Q20*(1-Q$2))+(X20*R20*(1-R$2))+(X20*S20*(1-S$2))+(X20*T20*(1-T$2))+(X20*U20*(1-U$2))+(X20*V20*(1-V$2))+(X20*W20*(1-W$2)) -> 2.4328063e+08 | AC20: =((Z20-AB20)*O20/(1-O$2))+((Z20-AB20)*P20/(1-(AA$5+O$2)))+((Z20-AB20)*Q20/(1-Q$2))+((Z20-AB20)*R20/(1-R$2))+((Z20-AB20)*S20/(1-S$2))+((Z20-AB20)*T20/(1-T$2))+((Z20-AB20)*U20/(1-U$2))+((Z20-AB20)*V20/(1-V$2))+((Z20-AB20)*W20/(1-W$2))+X20 -> 2.5837929e+08 | AD20: =(AC20*O20*(1-O$2))+(AC20*P20*(1-AA20-O$2))+(AC20*Q20*(1-Q$2))+(AC20*R20*(1-R$2))+(AC20*S20*(1-S$2))+(AC20*T20*(1-T$2))+(AC20*U20*(1-U$2))+(AC20*V20*(1-V$2))+(AC20*W20*(1-W$2)) -> 2.4431245e+08 | AE20: =$AE$51 -> 0.086354 | AF20: =(AC20*O20*(1-O$2))+(AC20*P20*(1-AA20-O$2))+(AC20*Q20*(1-AE$5))+(AC20*R20*(1-R$2))+(AC20*S20*(1-S$2))+(AC20*T20*(1-T$2))+(AC20*U20*(1-U$2))+(AC20*V20*(1-V$2))+(AC20*W20*(1-W$2)) -> 2.4427332e+08 | AG20: =((AD20-AF20)*O20/(1-O$2))+((AD20-AF20)*P20/(1-(AA$5+O$2)))+((AD20-AF20)*Q20/(1-AE$5))+((AD20-AF20)*R20/(1-R$2))+((AD20-AF20)*S20/(1-S$2))+((AD20-AF20)*T20/(1-T$2))+((AD20-AF20)*U20/(1-U$2))+((AD20-AF20)*V20/(1-V$2))+((AD20-AF20)*W20/(1-W$2))+AC20 -> 2.5842076e+08 | AH20: =(AG20*O20*(1-O$2))+(AG20*P20*(1-AA20-O$2))+(AG20*Q20*(1-AE$5))+(AG20*R20*(1-R$2))+(AG20*S20*(1-S$2))+(AG20*T20*(1-T$2))+(AG20*U20*(1-U$2))+(AG20*V20*(1-V$2))+(AG20*W20*(1-W$2)) -> 2.4431252e+08 | AI20: =(AG20*O20*(1-O$2))-(X20*O20*(1-O$2)) -> 427641.64 | AJ20: =AI20/(AW20/AV20) -> 711959.96 | AK20: =AG20+(AJ20*O20)/(1-O$2)+(AJ20*P20)/(1-O$2-AA20)+(AJ20*Q20)/(1-AE20)+(AJ20*R20)/(1-R$2)+(AJ20*S20)/(1-S$2)+(AJ20*T20)/(1-T$2)+(AJ20*U20)/(1-U$2)+(AJ20*V20)/(1-V$2)+(AJ20*W20)/(1-W$2) -> 2.5917519e+08 | AL20: =(AK20*O20*(1-O$2))+(AK20*P20*(1-AA20-O$2))+(AK20*Q20*(1-AE$5))+(AK20*R20*(1-R$2))+(AK20*S20*(1-S$2))+(AK20*T20*(1-T$2))+(AK20*U20*(1-U$2))+(AK20*V20*(1-V$2))+(AK20*W20*(1-W$2)) -> 2.4502577e+08 | AM20: =(AK20*O20*(1-O$2))-(X20*O20*(1-O$2)) -> 712473.96 | AN20: =AM20/((O20*AL20)) -> 0.0071087188 | AO20: =AL20-AM20 -> 2.443133e+08 | AP20: =(((AK20*O20*(1-O$2))/AL20)*AL20)-AM20-(((X20*O20*(1-O$2))/Z20)*Z20) -> 0 | AR20: =1-((((AK20*P20*(1-O$2-AA20))/AL20)*AL20)/(X20*P20)) -> 0.18594564 | AS20: =AR20-$O$2 -> 0.10894564 | AT20: =1-((((AK20*Q20*(1-AE20))/AL20)*AL20)/(X20*Q20)) -> 0.07965269 | AU20: =AT20-$O$2 -> 0.0026526899 | AV20: =$O20*(1-$O$2)+$P20*(1-$O$2-$AA20)+$Q20*(1-$AE20)+$R20*(1-$R$2)+$S20*(1-$S$2)+$T20*(1-$T$2)+$U20*(1-$U$2)+$V20*(1-$V$2)+$W20*(1-$W$2) -> 0.94540595 | AW20: =$P20*(1-$O$2-$AA20)+$Q20*(1-$AE20)+$R20*(1-$R$2)+$S20*(1-$S$2)+$T20*(1-$T$2)+$U20*(1-$U$2)+$V20*(1-$V$2)+$W20*(1-$W$2) -> 0.56786193 | AY20: =(X20*$O20*($O$2)) -> 8103567.7 | AZ20: =(X20*$P20*($O$2)) -> 690391.6 | BA20: =(X20*Q20*($Q$2)) -> 320761.91 | BB20: =(X20*$R20*($R$2)) -> 1663803.4 | BC20: =(X20*$S20*($S$2))+(X20*$T20*($T$2))+(X20*$U20*($U$2))+(X20*$V20*($V$2))+(X20*$W20*($W$2)) -> 2198939.6 | BD20: =SUM(AY20:BC20)-(X20-Z20) -> -3.3527613e-08 | BF20: =(AK20*$O20*($O$2)) -> 8163004.9 | BG20: =(AK20*$P20*($O$2+$AA20)) -> 1732975.5 | BH20: =(AK20*Q20*($AE20)) -> 362366.72 | BI20: =(AK20*$R20*($R$2)) -> 1676006.9 | BJ20: =(AK20*$S20*($S$2))+(AK20*$T20*($T$2))+(AK20*$U20*($U$2))+(AK20*$V20*($V$2))+(AK20*$W20*($W$2)) -> 2215068.1 | BK20: =SUM(BF20:BJ20)-(AK20-AL20) -> -1.4901161e-08 | BM20: =X20 -> 2.5728806e+08 | BN20: =AY20 -> 8103567.7 | BO20: =AZ20 -> 690391.6 | BP20: =BA20 -> 320761.91 | BQ20: =BB20 -> 1663803.4 | BR20: =BC20 -> 2198939.6 | BS20: =BM20-SUM(BN20:BR20) -> 2.443106e+08 | BU20: =AK20 -> 2.5917519e+08 | BV20: =BF20 -> 8163004.9 | BW20: =AM20 -> 712473.96 | BX20: =BG20 -> 1732975.5 | BY20: =BH20 -> 362366.72 | BZ20: =BI20 -> 1676006.9 | CA20: =BJ20 -> 2215068.1 | CB20: =BU20-SUM(BV20:CA20) -> 2.443133e+08 | CD20: =CB20-BS20 -> 2696.279 | CE20: =CD20/BS20 -> 1.1036275e-05 | CF20: =($X20*O20) -> 1.0524114e+08 | CG20: =CF20-AY20 -> 97137572 | CH20: =($AK20*O20)-BF20-AM20 -> 97137572 | CI20: =CH20-CG20 -> 0 | CK20: =1-CH20/CF20 -> 0.077 | CL20: =1-CG20/CF20 -> 0.077
A21: 23 | B21: 210023 | D21: 791316600 | E21: 281747900 | F21: 46251924 | G21: 38389476 | H21: 15087400 | I21: 84652300 | J21: 43978500 | K21: 55897000 | L21: 2921510.4 | M21: 16774200 | N21: =D21-SUM(E21:M21) -> 2.0561639e+08 | O21: =E21/$D21 -> 0.35604953 | P21: =F21/$D21 -> 0.058449329 | Q21: =G21/$D21 -> 0.048513422 | R21: =(H21+I21)/$D21 -> 0.12604272 | S21: =J21/$D21 -> 0.055576365 | T21: =K21/$D21 -> 0.070637972 | U21: =L21/$D21 -> 0.0036919615 | V21: =M21/$D21 -> 0.021197837 | W21: =(N21)/$D21 -> 0.25984086 | X21: =Y21*(1-0.4973) -> 4.4034469e+08 | Y21: 8.759592e+08 | Z21: =(X21*O$21*(1-O$2))+(X21*P$21*(1-O$2))+(X21*Q$21*(1-Q$2))+(X21*R$21*(1-R$2))+(X21*S$21*(1-S$2))+(X21*T$21*(1-T$2))+(X21*U$21*(1-U$2))+(X21*V$21*(1-V$2))+(X21*W$21*(1-W$2)) -> 4.1687823e+08 | AA21: =$AA$51 -> 0.114873 | AB21: =(X21*O21*(1-O$2))+(X21*P21*(1-AA21-O$2))+(X21*Q21*(1-Q$2))+(X21*R21*(1-R$2))+(X21*S21*(1-S$2))+(X21*T21*(1-T$2))+(X21*U21*(1-U$2))+(X21*V21*(1-V$2))+(X21*W21*(1-W$2)) -> 4.1392164e+08 | AC21: =((Z21-AB21)*O21/(1-O$2))+((Z21-AB21)*P21/(1-(AA$5+O$2)))+((Z21-AB21)*Q21/(1-Q$2))+((Z21-AB21)*R21/(1-R$2))+((Z21-AB21)*S21/(1-S$2))+((Z21-AB21)*T21/(1-T$2))+((Z21-AB21)*U21/(1-U$2))+((Z21-AB21)*V21/(1-V$2))+((Z21-AB21)*W21/(1-W$2))+X21 -> 4.4349712e+08 | AD21: =(AC21*O21*(1-O$2))+(AC21*P21*(1-AA21-O$2))+(AC21*Q21*(1-Q$2))+(AC21*R21*(1-R$2))+(AC21*S21*(1-S$2))+(AC21*T21*(1-T$2))+(AC21*U21*(1-U$2))+(AC21*V21*(1-V$2))+(AC21*W21*(1-W$2)) -> 4.1688492e+08 | AE21: =$AE$51 -> 0.086354 | AF21: =(AC21*O21*(1-O$2))+(AC21*P21*(1-AA21-O$2))+(AC21*Q21*(1-AE$5))+(AC21*R21*(1-R$2))+(AC21*S21*(1-S$2))+(AC21*T21*(1-T$2))+(AC21*U21*(1-U$2))+(AC21*V21*(1-V$2))+(AC21*W21*(1-W$2)) -> 4.1668366e+08 | AG21: =((AD21-AF21)*O21/(1-O$2))+((AD21-AF21)*P21/(1-(AA$5+O$2)))+((AD21-AF21)*Q21/(1-AE$5))+((AD21-AF21)*R21/(1-R$2))+((AD21-AF21)*S21/(1-S$2))+((AD21-AF21)*T21/(1-T$2))+((AD21-AF21)*U21/(1-U$2))+((AD21-AF21)*V21/(1-V$2))+((AD21-AF21)*W21/(1-W$2))+AC21 -> 4.4371182e+08 | AH21: =(AG21*O21*(1-O$2))+(AG21*P21*(1-AA21-O$2))+(AG21*Q21*(1-AE$5))+(AG21*R21*(1-R$2))+(AG21*S21*(1-S$2))+(AG21*T21*(1-T$2))+(AG21*U21*(1-U$2))+(AG21*V21*(1-V$2))+(AG21*W21*(1-W$2)) -> 4.1688537e+08 | AI21: =(AG21*O21*(1-O$2))-(X21*O21*(1-O$2)) -> 1106552.4 | AJ21: =AI21/(AW21/AV21) -> 1701815.4 | AK21: =AG21+(AJ21*O21)/(1-O$2)+(AJ21*P21)/(1-O$2-AA21)+(AJ21*Q21)/(1-AE21)+(AJ21*R21)/(1-R$2)+(AJ21*S21)/(1-S$2)+(AJ21*T21)/(1-T$2)+(AJ21*U21)/(1-U$2)+(AJ21*V21)/(1-V$2)+(AJ21*W21)/(1-W$2) -> 4.4552728e+08 | AL21: =(AK21*O21*(1-O$2))+(AK21*P21*(1-AA21-O$2))+(AK21*Q21*(1-AE$5))+(AK21*R21*(1-R$2))+(AK21*S21*(1-S$2))+(AK21*T21*(1-T$2))+(AK21*U21*(1-U$2))+(AK21*V21*(1-V$2))+(AK21*W21*(1-W$2)) -> 4.1859108e+08 | AM21: =(AK21*O21*(1-O$2))-(X21*O21*(1-O$2)) -> 1703174.5 | AN21: =AM21/((O21*AL21)) -> 0.011427698 | AO21: =AL21-AM21 -> 4.168879e+08 | AP21: =(((AK21*O21*(1-O$2))/AL21)*AL21)-AM21-(((X21*O21*(1-O$2))/Z21)*Z21) -> 0 | AR21: =1-((((AK21*P21*(1-O$2-AA21))/AL21)*AL21)/(X21*P21)) -> 0.18236183 | AS21: =AR21-$O$2 -> 0.10536183 | AT21: =1-((((AK21*Q21*(1-AE21))/AL21)*AL21)/(X21*Q21)) -> 0.075600936 | AU21: =AT21-$O$2 -> -0.0013990638 | AV21: =$O21*(1-$O$2)+$P21*(1-$O$2-$AA21)+$Q21*(1-$AE21)+$R21*(1-$R$2)+$S21*(1-$S$2)+$T21*(1-$T$2)+$U21*(1-$U$2)+$V21*(1-$V$2)+$W21*(1-$W$2) -> 0.93954084 | AW21: =$P21*(1-$O$2-$AA21)+$Q21*(1-$AE21)+$R21*(1-$R$2)+$S21*(1-$S$2)+$T21*(1-$T$2)+$U21*(1-$U$2)+$V21*(1-$V$2)+$W21*(1-$W$2) -> 0.61090712 | AY21: =(X21*$O21*($O$2)) -> 12072408 | AZ21: =(X21*$P21*($O$2)) -> 1981814.6 | BA21: =(X21*Q21*($Q$2)) -> 1644922.3 | BB21: =(X21*$R21*($R$2)) -> 4273672.8 | BC21: =(X21*$S21*($S$2))+(X21*$T21*($T$2))+(X21*$U21*($U$2))+(X21*$V21*($V$2))+(X21*$W21*($W$2)) -> 3493643.8 | BD21: =SUM(AY21:BC21)-(X21-Z21) -> 1.0058284e-07 | BF21: =(AK21*$O21*($O$2)) -> 12214493 | BG21: =(AK21*$P21*($O$2+$AA21)) -> 4996520.8 | BH21: =(AK21*Q21*($AE21)) -> 1866459.9 | BI21: =(AK21*$R21*($R$2)) -> 4323971.4 | BJ21: =(AK21*$S21*($S$2))+(AK21*$T21*($T$2))+(AK21*$U21*($U$2))+(AK21*$V21*($V$2))+(AK21*$W21*($W$2)) -> 3534761.9 | BK21: =SUM(BF21:BJ21)-(AK21-AL21) -> -3.7252903e-08 | BM21: =X21 -> 4.4034469e+08 | BN21: =AY21 -> 12072408 | BO21: =AZ21 -> 1981814.6 | BP21: =BA21 -> 1644922.3 | BQ21: =BB21 -> 4273672.8 | BR21: =BC21 -> 3493643.8 | BS21: =BM21-SUM(BN21:BR21) -> 4.1687823e+08 | BU21: =AK21 -> 4.4552728e+08 | BV21: =BF21 -> 12214493 | BW21: =AM21 -> 1703174.5 | BX21: =BG21 -> 4996520.8 | BY21: =BH21 -> 1866459.9 | BZ21: =BI21 -> 4323971.4 | CA21: =BJ21 -> 3534761.9 | CB21: =BU21-SUM(BV21:CA21) -> 4.168879e+08 | CD21: =CB21-BS21 -> 9672.1923 | CE21: =CD21/BS21 -> 2.3201481e-05 | CF21: =($X21*O21) -> 1.5678452e+08 | CG21: =CF21-AY21 -> 1.4471211e+08 | CH21: =($AK21*O21)-BF21-AM21 -> 1.4471211e+08 | CI21: =CH21-CG21 -> 0 | CK21: =1-CH21/CF21 -> 0.077 | CL21: =1-CG21/CF21 -> 0.077
A22: 24 | B22: 210024 | D22: 5.2465315e+08 | E22: 190667267 | F22: 35489632 | G22: 56664938 | H22: 19240376 | I22: 77195497 | J22: 15617666 | K22: 26523327 | L22: 3803650 | M22: 19534045 | N22: =D22-SUM(E22:M22) -> 79916747 | O22: =E22/$D22 -> 0.36341585 | P22: =F22/$D22 -> 0.06764399 | Q22: =G22/$D22 -> 0.10800457 | R22: =(H22+I22)/$D22 -> 0.18380882 | S22: =J22/$D22 -> 0.029767601 | T22: =K22/$D22 -> 0.050554023 | U22: =L22/$D22 -> 0.0072498374 | V22: =M22/$D22 -> 0.037232303 | W22: =(N22)/$D22 -> 0.15232301 | X22: =Y22*(1-0.4973) -> 2.8444745e+08 | Y22: 5.6583937e+08 | Z22: =(X22*O$22*(1-O$2))+(X22*P$22*(1-O$2))+(X22*Q$22*(1-Q$2))+(X22*R$22*(1-R$2))+(X22*S$22*(1-S$2))+(X22*T$22*(1-T$2))+(X22*U$22*(1-U$2))+(X22*V$22*(1-V$2))+(X22*W$22*(1-W$2)) -> 2.6722884e+08 | AA22: =$AA$51 -> 0.114873 | AB22: =(X22*O22*(1-O$2))+(X22*P22*(1-AA22-O$2))+(X22*Q22*(1-Q$2))+(X22*R22*(1-R$2))+(X22*S22*(1-S$2))+(X22*T22*(1-T$2))+(X22*U22*(1-U$2))+(X22*V22*(1-V$2))+(X22*W22*(1-W$2)) -> 2.6501855e+08 | AC22: =((Z22-AB22)*O22/(1-O$2))+((Z22-AB22)*P22/(1-(AA$5+O$2)))+((Z22-AB22)*Q22/(1-Q$2))+((Z22-AB22)*R22/(1-R$2))+((Z22-AB22)*S22/(1-S$2))+((Z22-AB22)*T22/(1-T$2))+((Z22-AB22)*U22/(1-U$2))+((Z22-AB22)*V22/(1-V$2))+((Z22-AB22)*W22/(1-W$2))+X22 -> 2.8682505e+08 | AD22: =(AC22*O22*(1-O$2))+(AC22*P22*(1-AA22-O$2))+(AC22*Q22*(1-Q$2))+(AC22*R22*(1-R$2))+(AC22*S22*(1-S$2))+(AC22*T22*(1-T$2))+(AC22*U22*(1-U$2))+(AC22*V22*(1-V$2))+(AC22*W22*(1-W$2)) -> 2.6723375e+08 | AE22: =$AE$51 -> 0.086354 | AF22: =(AC22*O22*(1-O$2))+(AC22*P22*(1-AA22-O$2))+(AC22*Q22*(1-AE$5))+(AC22*R22*(1-R$2))+(AC22*S22*(1-S$2))+(AC22*T22*(1-T$2))+(AC22*U22*(1-U$2))+(AC22*V22*(1-V$2))+(AC22*W22*(1-W$2)) -> 2.6694398e+08 | AG22: =((AD22-AF22)*O22/(1-O$2))+((AD22-AF22)*P22/(1-(AA$5+O$2)))+((AD22-AF22)*Q22/(1-AE$5))+((AD22-AF22)*R22/(1-R$2))+((AD22-AF22)*S22/(1-S$2))+((AD22-AF22)*T22/(1-T$2))+((AD22-AF22)*U22/(1-U$2))+((AD22-AF22)*V22/(1-V$2))+((AD22-AF22)*W22/(1-W$2))+AC22 -> 2.871371e+08 | AH22: =(AG22*O22*(1-O$2))+(AG22*P22*(1-AA22-O$2))+(AG22*Q22*(1-AE$5))+(AG22*R22*(1-R$2))+(AG22*S22*(1-S$2))+(AG22*T22*(1-T$2))+(AG22*U22*(1-U$2))+(AG22*V22*(1-V$2))+(AG22*W22*(1-W$2)) -> 2.672344e+08 | AI22: =(AG22*O22*(1-O$2))-(X22*O22*(1-O$2)) -> 902197.96 | AJ22: =AI22/(AW22/AV22) -> 1410598.4 | AK22: =AG22+(AJ22*O22)/(1-O$2)+(AJ22*P22)/(1-O$2-AA22)+(AJ22*Q22)/(1-AE22)+(AJ22*R22)/(1-R$2)+(AJ22*S22)/(1-S$2)+(AJ22*T22)/(1-T$2)+(AJ22*U22)/(1-U$2)+(AJ22*V22)/(1-V$2)+(AJ22*W22)/(1-W$2) -> 2.8865617e+08 | AL22: =(AK22*O22*(1-O$2))+(AK22*P22*(1-AA22-O$2))+(AK22*Q22*(1-AE$5))+(AK22*R22*(1-R$2))+(AK22*S22*(1-S$2))+(AK22*T22*(1-T$2))+(AK22*U22*(1-U$2))+(AK22*V22*(1-V$2))+(AK22*W22*(1-W$2)) -> 2.6864817e+08 | AM22: =(AK22*O22*(1-O$2))-(X22*O22*(1-O$2)) -> 1411742.1 | AN22: =AM22/((O22*AL22)) -> 0.014459977 | AO22: =AL22-AM22 -> 2.6723643e+08 | AP22: =(((AK22*O22*(1-O$2))/AL22)*AL22)-AM22-(((X22*O22*(1-O$2))/Z22)*Z22) -> 0 | AR22: =1-((((AK22*P22*(1-O$2-AA22))/AL22)*AL22)/(X22*P22)) -> 0.17991586 | AS22: =AR22-$O$2 -> 0.10291586 | AT22: =1-((((AK22*Q22*(1-AE22))/AL22)*AL22)/(X22*Q22)) -> 0.072835587 | AU22: =AT22-$O$2 -> -0.004164413 | AV22: =$O22*(1-$O$2)+$P22*(1-$O$2-$AA22)+$Q22*(1-$AE22)+$R22*(1-$R$2)+$S22*(1-$S$2)+$T22*(1-$T$2)+$U22*(1-$U$2)+$V22*(1-$V$2)+$W22*(1-$W$2) -> 0.93068571 | AW22: =$P22*(1-$O$2-$AA22)+$Q22*(1-$AE22)+$R22*(1-$R$2)+$S22*(1-$S$2)+$T22*(1-$T$2)+$U22*(1-$U$2)+$V22*(1-$V$2)+$W22*(1-$W$2) -> 0.59525288 | AY22: =(X22*$O22*($O$2)) -> 7959698.8 | AZ22: =(X22*$P22*($O$2)) -> 1481569.4 | BA22: =(X22*Q22*($Q$2)) -> 2365565.1 | BB22: =(X22*$R22*($R$2)) -> 4025864.1 | BC22: =(X22*$S22*($S$2))+(X22*$T22*($T$2))+(X22*$U22*($U$2))+(X22*$V22*($V$2))+(X22*$W22*($W$2)) -> 1385915.7 | BD22: =SUM(AY22:BC22)-(X22-Z22) -> 0 | BF22: =(AK22*$O22*($O$2)) -> 8077471.4 | BG22: =(AK22*$P22*($O$2+$AA22)) -> 3746484.4 | BH22: =(AK22*Q22*($AE22)) -> 2692188.4 | BI22: =(AK22*$R22*($R$2)) -> 4085431.3 | BJ22: =(AK22*$S22*($S$2))+(AK22*$T22*($T$2))+(AK22*$U22*($U$2))+(AK22*$V22*($V$2))+(AK22*$W22*($W$2)) -> 1406421.9 | BK22: =SUM(BF22:BJ22)-(AK22-AL22) -> -3.7252903e-08 | BM22: =X22 -> 2.8444745e+08 | BN22: =AY22 -> 7959698.8 | BO22: =AZ22 -> 1481569.4 | BP22: =BA22 -> 2365565.1 | BQ22: =BB22 -> 4025864.1 | BR22: =BC22 -> 1385915.7 | BS22: =BM22-SUM(BN22:BR22) -> 2.6722884e+08 | BU22: =AK22 -> 2.8865617e+08 | BV22: =BF22 -> 8077471.4 | BW22: =AM22 -> 1411742.1 | BX22: =BG22 -> 3746484.4 | BY22: =BH22 -> 2692188.4 | BZ22: =BI22 -> 4085431.3 | CA22: =BJ22 -> 1406421.9 | CB22: =BU22-SUM(BV22:CA22) -> 2.6723643e+08 | CD22: =CB22-BS22 -> 7591.4514 | CE22: =CD22/BS22 -> 2.8408055e-05 | CF22: =($X22*O22) -> 1.0337271e+08 | CG22: =CF22-AY22 -> 95413013 | CH22: =($AK22*O22)-BF22-AM22 -> 95413013 | CI22: =CH22-CG22 -> 0 | CK22: =1-CH22/CF22 -> 0.077 | CL22: =1-CG22/CF22 -> 0.077
A23: 28 | B23: 210028 | D23: 2.5612903e+08 | E23: 90154632 | F23: 8953854.3 | G23: 15103519 | H23: 4452601.6 | I23: 35609712 | J23: 8729617.6 | K23: 22577487 | L23: 1180952.6 | M23: 10697469 | N23: =D23-SUM(E23:M23) -> 58669184 | O23: =E23/$D23 -> 0.35198912 | P23: =F23/$D23 -> 0.034958373 | Q23: =G23/$D23 -> 0.058968401 | R23: =(H23+I23)/$D23 -> 0.15641458 | S23: =J23/$D23 -> 0.03408289 | T23: =K23/$D23 -> 0.088148879 | U23: =L23/$D23 -> 0.0046107722 | V23: =M23/$D23 -> 0.041765937 | W23: =(N23)/$D23 -> 0.22906105 | X23: =Y23*(1-0.4973) -> 1.4349037e+08 | Y23: 2.8543937e+08 | Z23: =(X23*O$23*(1-O$2))+(X23*P$23*(1-O$2))+(X23*Q$23*(1-Q$2))+(X23*R$23*(1-R$2))+(X23*S$23*(1-S$2))+(X23*T$23*(1-T$2))+(X23*U$23*(1-U$2))+(X23*V$23*(1-V$2))+(X23*W$23*(1-W$2)) -> 1.3580177e+08 | AA23: =$AA$51 -> 0.114873 | AB23: =(X23*O23*(1-O$2))+(X23*P23*(1-AA23-O$2))+(X23*Q23*(1-Q$2))+(X23*R23*(1-R$2))+(X23*S23*(1-S$2))+(X23*T23*(1-T$2))+(X23*U23*(1-U$2))+(X23*V23*(1-V$2))+(X23*W23*(1-W$2)) -> 1.3522554e+08 | AC23: =((Z23-AB23)*O23/(1-O$2))+((Z23-AB23)*P23/(1-(AA$5+O$2)))+((Z23-AB23)*Q23/(1-Q$2))+((Z23-AB23)*R23/(1-R$2))+((Z23-AB23)*S23/(1-S$2))+((Z23-AB23)*T23/(1-T$2))+((Z23-AB23)*U23/(1-U$2))+((Z23-AB23)*V23/(1-V$2))+((Z23-AB23)*W23/(1-W$2))+X23 -> 1.4410289e+08 | AD23: =(AC23*O23*(1-O$2))+(AC23*P23*(1-AA23-O$2))+(AC23*Q23*(1-Q$2))+(AC23*R23*(1-R$2))+(AC23*S23*(1-S$2))+(AC23*T23*(1-T$2))+(AC23*U23*(1-U$2))+(AC23*V23*(1-V$2))+(AC23*W23*(1-W$2)) -> 1.3580278e+08 | AE23: =$AE$51 -> 0.086354 | AF23: =(AC23*O23*(1-O$2))+(AC23*P23*(1-AA23-O$2))+(AC23*Q23*(1-AE$5))+(AC23*R23*(1-R$2))+(AC23*S23*(1-S$2))+(AC23*T23*(1-T$2))+(AC23*U23*(1-U$2))+(AC23*V23*(1-V$2))+(AC23*W23*(1-W$2)) -> 1.3572329e+08 | AG23: =((AD23-AF23)*O23/(1-O$2))+((AD23-AF23)*P23/(1-(AA$5+O$2)))+((AD23-AF23)*Q23/(1-AE$5))+((AD23-AF23)*R23/(1-R$2))+((AD23-AF23)*S23/(1-S$2))+((AD23-AF23)*T23/(1-T$2))+((AD23-AF23)*U23/(1-U$2))+((AD23-AF23)*V23/(1-V$2))+((AD23-AF23)*W23/(1-W$2))+AC23 -> 1.4418743e+08 | AH23: =(AG23*O23*(1-O$2))+(AG23*P23*(1-AA23-O$2))+(AG23*Q23*(1-AE$5))+(AG23*R23*(1-R$2))+(AG23*S23*(1-S$2))+(AG23*T23*(1-T$2))+(AG23*U23*(1-U$2))+(AG23*V23*(1-V$2))+(AG23*W23*(1-W$2)) -> 1.3580292e+08 | AI23: =(AG23*O23*(1-O$2))-(X23*O23*(1-O$2)) -> 226465.74 | AJ23: =AI23/(AW23/AV23) -> 345719.94 | AK23: =AG23+(AJ23*O23)/(1-O$2)+(AJ23*P23)/(1-O$2-AA23)+(AJ23*Q23)/(1-AE23)+(AJ23*R23)/(1-R$2)+(AJ23*S23)/(1-S$2)+(AJ23*T23)/(1-T$2)+(AJ23*U23)/(1-U$2)+(AJ23*V23)/(1-V$2)+(AJ23*W23)/(1-W$2) -> 1.4455516e+08 | AL23: =(AK23*O23*(1-O$2))+(AK23*P23*(1-AA23-O$2))+(AK23*Q23*(1-AE$5))+(AK23*R23*(1-R$2))+(AK23*S23*(1-S$2))+(AK23*T23*(1-T$2))+(AK23*U23*(1-U$2))+(AK23*V23*(1-V$2))+(AK23*W23*(1-W$2)) -> 1.3614926e+08 | AM23: =(AK23*O23*(1-O$2))-(X23*O23*(1-O$2)) -> 345933.18 | AN23: =AM23/((O23*AL23)) -> 0.0072185121 | AO23: =AL23-AM23 -> 1.3580333e+08 | AP23: =(((AK23*O23*(1-O$2))/AL23)*AL23)-AM23-(((X23*O23*(1-O$2))/Z23)*Z23) -> 0 | AR23: =1-((((AK23*P23*(1-O$2-AA23))/AL23)*AL23)/(X23*P23)) -> 0.18587622 | AS23: =AR23-$O$2 -> 0.10887622 | AT23: =1-((((AK23*Q23*(1-AE23))/AL23)*AL23)/(X23*Q23)) -> 0.079574206 | AU23: =AT23-$O$2 -> 0.0025742065 | AV23: =$O23*(1-$O$2)+$P23*(1-$O$2-$AA23)+$Q23*(1-$AE23)+$R23*(1-$R$2)+$S23*(1-$S$2)+$T23*(1-$T$2)+$U23*(1-$U$2)+$V23*(1-$V$2)+$W23*(1-$W$2) -> 0.94184991 | AW23: =$P23*(1-$O$2-$AA23)+$Q23*(1-$AE23)+$R23*(1-$R$2)+$S23*(1-$S$2)+$T23*(1-$T$2)+$U23*(1-$U$2)+$V23*(1-$V$2)+$W23*(1-$W$2) -> 0.61696395 | AY23: =(X23*$O23*($O$2)) -> 3889042.9 | AZ23: =(X23*$P23*($O$2)) -> 386246.63 | BA23: =(X23*Q23*($Q$2)) -> 651527.63 | BB23: =(X23*$R23*($R$2)) -> 1728186.9 | BC23: =(X23*$S23*($S$2))+(X23*$T23*($T$2))+(X23*$U23*($U$2))+(X23*$V23*($V$2))+(X23*$W23*($W$2)) -> 1033601.2 | BD23: =SUM(AY23:BC23)-(X23-Z23) -> 0 | BF23: =(AK23*$O23*($O$2)) -> 3917901.9 | BG23: =(AK23*$P23*($O$2+$AA23)) -> 969613.53 | BH23: =(AK23*Q23*($AE23)) -> 736097.59 | BI23: =(AK23*$R23*($R$2)) -> 1741011.1 | BJ23: =(AK23*$S23*($S$2))+(AK23*$T23*($T$2))+(AK23*$U23*($U$2))+(AK23*$V23*($V$2))+(AK23*$W23*($W$2)) -> 1041271.1 | BK23: =SUM(BF23:BJ23)-(AK23-AL23) -> 0 | BM23: =X23 -> 1.4349037e+08 | BN23: =AY23 -> 3889042.9 | BO23: =AZ23 -> 386246.63 | BP23: =BA23 -> 651527.63 | BQ23: =BB23 -> 1728186.9 | BR23: =BC23 -> 1033601.2 | BS23: =BM23-SUM(BN23:BR23) -> 1.3580177e+08 | BU23: =AK23 -> 1.4455516e+08 | BV23: =BF23 -> 3917901.9 | BW23: =AM23 -> 345933.18 | BX23: =BG23 -> 969613.53 | BY23: =BH23 -> 736097.59 | BZ23: =BI23 -> 1741011.1 | CA23: =BJ23 -> 1041271.1 | CB23: =BU23-SUM(BV23:CA23) -> 1.3580333e+08 | CD23: =CB23-BS23 -> 1560.2594 | CE23: =CD23/BS23 -> 1.1489242e-05 | CF23: =($X23*O23) -> 50507050 | CG23: =CF23-AY23 -> 46618007 | CH23: =($AK23*O23)-BF23-AM23 -> 46618007 | CI23: =CH23-CG23 -> 0 | CK23: =1-CH23/CF23 -> 0.077 | CL23: =1-CG23/CF23 -> 0.077
A24: 29 | B24: 210029 | D24: 8.6746083e+08 | E24: 2.847517e+08 | F24: 20929924 | G24: 14269252 | H24: 73115404 | I24: 1.4323537e+08 | J24: 52084129 | K24: 63113180 | L24: 4608850.4 | M24: 35708000 | N24: =D24-SUM(E24:M24) -> 1.7564503e+08 | O24: =E24/$D24 -> 0.32825885 | P24: =F24/$D24 -> 0.024127803 | Q24: =G24/$D24 -> 0.016449448 | R24: =(H24+I24)/$D24 -> 0.24940696 | S24: =J24/$D24 -> 0.060042053 | T24: =K24/$D24 -> 0.072756231 | U24: =L24/$D24 -> 0.0053130357 | V24: =M24/$D24 -> 0.041163818 | W24: =(N24)/$D24 -> 0.2024818 | X24: =Y24*(1-0.4973) -> 4.6041063e+08 | Y24: 9.1587554e+08 | Z24: =(X24*O$24*(1-O$2))+(X24*P$24*(1-O$2))+(X24*Q$24*(1-Q$2))+(X24*R$24*(1-R$2))+(X24*S$24*(1-S$2))+(X24*T$24*(1-T$2))+(X24*U$24*(1-U$2))+(X24*V$24*(1-V$2))+(X24*W$24*(1-W$2)) -> 4.3528755e+08 | AA24: =$AA$51 -> 0.114873 | AB24: =(X24*O24*(1-O$2))+(X24*P24*(1-AA24-O$2))+(X24*Q24*(1-Q$2))+(X24*R24*(1-R$2))+(X24*S24*(1-S$2))+(X24*T24*(1-T$2))+(X24*U24*(1-U$2))+(X24*V24*(1-V$2))+(X24*W24*(1-W$2)) -> 4.3401146e+08 | AC24: =((Z24-AB24)*O24/(1-O$2))+((Z24-AB24)*P24/(1-(AA$5+O$2)))+((Z24-AB24)*Q24/(1-Q$2))+((Z24-AB24)*R24/(1-R$2))+((Z24-AB24)*S24/(1-S$2))+((Z24-AB24)*T24/(1-T$2))+((Z24-AB24)*U24/(1-U$2))+((Z24-AB24)*V24/(1-V$2))+((Z24-AB24)*W24/(1-W$2))+X24 -> 4.6176635e+08 | AD24: =(AC24*O24*(1-O$2))+(AC24*P24*(1-AA24-O$2))+(AC24*Q24*(1-Q$2))+(AC24*R24*(1-R$2))+(AC24*S24*(1-S$2))+(AC24*T24*(1-T$2))+(AC24*U24*(1-U$2))+(AC24*V24*(1-V$2))+(AC24*W24*(1-W$2)) -> 4.3528945e+08 | AE24: =$AE$51 -> 0.086354 | AF24: =(AC24*O24*(1-O$2))+(AC24*P24*(1-AA24-O$2))+(AC24*Q24*(1-AE$5))+(AC24*R24*(1-R$2))+(AC24*S24*(1-S$2))+(AC24*T24*(1-T$2))+(AC24*U24*(1-U$2))+(AC24*V24*(1-V$2))+(AC24*W24*(1-W$2)) -> 4.3521839e+08 | AG24: =((AD24-AF24)*O24/(1-O$2))+((AD24-AF24)*P24/(1-(AA$5+O$2)))+((AD24-AF24)*Q24/(1-AE$5))+((AD24-AF24)*R24/(1-R$2))+((AD24-AF24)*S24/(1-S$2))+((AD24-AF24)*T24/(1-T$2))+((AD24-AF24)*U24/(1-U$2))+((AD24-AF24)*V24/(1-V$2))+((AD24-AF24)*W24/(1-W$2))+AC24 -> 4.6184185e+08 | AH24: =(AG24*O24*(1-O$2))+(AG24*P24*(1-AA24-O$2))+(AG24*Q24*(1-AE$5))+(AG24*R24*(1-R$2))+(AG24*S24*(1-S$2))+(AG24*T24*(1-T$2))+(AG24*U24*(1-U$2))+(AG24*V24*(1-V$2))+(AG24*W24*(1-W$2)) -> 4.3528955e+08 | AI24: =(AG24*O24*(1-O$2))-(X24*O24*(1-O$2)) -> 433633.48 | AJ24: =AI24/(AW24/AV24) -> 639072.77 | AK24: =AG24+(AJ24*O24)/(1-O$2)+(AJ24*P24)/(1-O$2-AA24)+(AJ24*Q24)/(1-AE24)+(AJ24*R24)/(1-R$2)+(AJ24*S24)/(1-S$2)+(AJ24*T24)/(1-T$2)+(AJ24*U24)/(1-U$2)+(AJ24*V24)/(1-V$2)+(AJ24*W24)/(1-W$2) -> 4.6252092e+08 | AL24: =(AK24*O24*(1-O$2))+(AK24*P24*(1-AA24-O$2))+(AK24*Q24*(1-AE$5))+(AK24*R24*(1-R$2))+(AK24*S24*(1-S$2))+(AK24*T24*(1-T$2))+(AK24*U24*(1-U$2))+(AK24*V24*(1-V$2))+(AK24*W24*(1-W$2)) -> 4.3592958e+08 | AM24: =(AK24*O24*(1-O$2))-(X24*O24*(1-O$2)) -> 639379.23 | AN24: =AM24/((O24*AL24)) -> 0.0044681294 | AO24: =AL24-AM24 -> 4.352902e+08 | AP24: =(((AK24*O24*(1-O$2))/AL24)*AL24)-AM24-(((X24*O24*(1-O$2))/Z24)*Z24) -> 0 | AR24: =1-((((AK24*P24*(1-O$2-AA24))/AL24)*AL24)/(X24*P24)) -> 0.18816897 | AS24: =AR24-$O$2 -> 0.11116897 | AT24: =1-((((AK24*Q24*(1-AE24))/AL24)*AL24)/(X24*Q24)) -> 0.082166325 | AU24: =AT24-$O$2 -> 0.0051663248 | AV24: =$O24*(1-$O$2)+$P24*(1-$O$2-$AA24)+$Q24*(1-$AE24)+$R24*(1-$R$2)+$S24*(1-$S$2)+$T24*(1-$T$2)+$U24*(1-$U$2)+$V24*(1-$V$2)+$W24*(1-$W$2) -> 0.94250782 | AW24: =$P24*(1-$O$2-$AA24)+$Q24*(1-$AE24)+$R24*(1-$R$2)+$S24*(1-$S$2)+$T24*(1-$T$2)+$U24*(1-$U$2)+$V24*(1-$V$2)+$W24*(1-$W$2) -> 0.6395249 | AY24: =(X24*$O24*($O$2)) -> 11637308 | AZ24: =(X24*$P24*($O$2)) -> 855369.66 | BA24: =(X24*Q24*($Q$2)) -> 583159.56 | BB24: =(X24*$R24*($R$2)) -> 8841880.6 | BC24: =(X24*$S24*($S$2))+(X24*$T24*($T$2))+(X24*$U24*($U$2))+(X24*$V24*($V$2))+(X24*$W24*($W$2)) -> 3205363.9 | BD24: =SUM(AY24:BC24)-(X24-Z24) -> 0 | BF24: =(AK24*$O24*($O$2)) -> 11690647 | BG24: =(AK24*$P24*($O$2+$AA24)) -> 2141228.5 | BH24: =(AK24*Q24*($AE24)) -> 656999.69 | BI24: =(AK24*$R24*($R$2)) -> 8882407.1 | BJ24: =(AK24*$S24*($S$2))+(AK24*$T24*($T$2))+(AK24*$U24*($U$2))+(AK24*$V24*($V$2))+(AK24*$W24*($W$2)) -> 3220055.6 | BK24: =SUM(BF24:BJ24)-(AK24-AL24) -> 0 | BM24: =X24 -> 4.6041063e+08 | BN24: =AY24 -> 11637308 | BO24: =AZ24 -> 855369.66 | BP24: =BA24 -> 583159.56 | BQ24: =BB24 -> 8841880.6 | BR24: =BC24 -> 3205363.9 | BS24: =BM24-SUM(BN24:BR24) -> 4.3528755e+08 | BU24: =AK24 -> 4.6252092e+08 | BV24: =BF24 -> 11690647 | BW24: =AM24 -> 639379.23 | BX24: =BG24 -> 2141228.5 | BY24: =BH24 -> 656999.69 | BZ24: =BI24 -> 8882407.1 | CA24: =BJ24 -> 3220055.6 | CB24: =BU24-SUM(BV24:CA24) -> 4.352902e+08 | CD24: =CB24-BS24 -> 2645.6567 | CE24: =CD24/BS24 -> 6.0779516e-06 | CF24: =($X24*O24) -> 1.5113387e+08 | CG24: =CF24-AY24 -> 1.3949656e+08 | CH24: =($AK24*O24)-BF24-AM24 -> 1.3949656e+08 | CI24: =CH24-CG24 -> 0 | CK24: =1-CH24/CF24 -> 0.077 | CL24: =1-CG24/CF24 -> 0.077
A25: 30 | B25: 210030 | D25: 59088059 | E25: 26039694 | F25: 2450545.4 | G25: 4057899.6 | H25: 464068.5 | I25: 9357654.6 | J25: 652338.9 | K25: 6483227.5 | L25: 333066.6 | M25: 3116000 | N25: =D25-SUM(E25:M25) -> 6133563.9 | O25: =E25/$D25 -> 0.440693 | P25: =F25/$D25 -> 0.041472768 | Q25: =G25/$D25 -> 0.068675459 | R25: =(H25+I25)/$D25 -> 0.16622179 | S25: =J25/$D25 -> 0.011040114 | T25: =K25/$D25 -> 0.10972145 | U25: =L25/$D25 -> 0.0056367835 | V25: =M25/$D25 -> 0.052734851 | W25: =(N25)/$D25 -> 0.10380378 | X25: =Y25*(1-0.4973) -> 31532746 | Y25: 62726767 | Z25: =(X25*O$25*(1-O$2))+(X25*P$25*(1-O$2))+(X25*Q$25*(1-Q$2))+(X25*R$25*(1-R$2))+(X25*S$25*(1-S$2))+(X25*T$25*(1-T$2))+(X25*U$25*(1-U$2))+(X25*V$25*(1-V$2))+(X25*W$25*(1-W$2)) -> 29645653 | AA25: =$AA$51 -> 0.114873 | AB25: =(X25*O25*(1-O$2))+(X25*P25*(1-AA25-O$2))+(X25*Q25*(1-Q$2))+(X25*R25*(1-R$2))+(X25*S25*(1-S$2))+(X25*T25*(1-T$2))+(X25*U25*(1-U$2))+(X25*V25*(1-V$2))+(X25*W25*(1-W$2)) -> 29495428 | AC25: =((Z25-AB25)*O25/(1-O$2))+((Z25-AB25)*P25/(1-(AA$5+O$2)))+((Z25-AB25)*Q25/(1-Q$2))+((Z25-AB25)*R25/(1-R$2))+((Z25-AB25)*S25/(1-S$2))+((Z25-AB25)*T25/(1-T$2))+((Z25-AB25)*U25/(1-U$2))+((Z25-AB25)*V25/(1-V$2))+((Z25-AB25)*W25/(1-W$2))+X25 -> 31693627 | AD25: =(AC25*O25*(1-O$2))+(AC25*P25*(1-AA25-O$2))+(AC25*Q25*(1-Q$2))+(AC25*R25*(1-R$2))+(AC25*S25*(1-S$2))+(AC25*T25*(1-T$2))+(AC25*U25*(1-U$2))+(AC25*V25*(1-V$2))+(AC25*W25*(1-W$2)) -> 29645915 | AE25: =$AE$51 -> 0.086354 | AF25: =(AC25*O25*(1-O$2))+(AC25*P25*(1-AA25-O$2))+(AC25*Q25*(1-AE$5))+(AC25*R25*(1-R$2))+(AC25*S25*(1-S$2))+(AC25*T25*(1-T$2))+(AC25*U25*(1-U$2))+(AC25*V25*(1-V$2))+(AC25*W25*(1-W$2)) -> 29625555 | AG25: =((AD25-AF25)*O25/(1-O$2))+((AD25-AF25)*P25/(1-(AA$5+O$2)))+((AD25-AF25)*Q25/(1-AE$5))+((AD25-AF25)*R25/(1-R$2))+((AD25-AF25)*S25/(1-S$2))+((AD25-AF25)*T25/(1-T$2))+((AD25-AF25)*U25/(1-U$2))+((AD25-AF25)*V25/(1-V$2))+((AD25-AF25)*W25/(1-W$2))+AC25 -> 31715446 | AH25: =(AG25*O25*(1-O$2))+(AG25*P25*(1-AA25-O$2))+(AG25*Q25*(1-AE$5))+(AG25*R25*(1-R$2))+(AG25*S25*(1-S$2))+(AG25*T25*(1-T$2))+(AG25*U25*(1-U$2))+(AG25*V25*(1-V$2))+(AG25*W25*(1-W$2)) -> 29645951 | AI25: =(AG25*O25*(1-O$2))-(X25*O25*(1-O$2)) -> 74315.24 | AJ25: =AI25/(AW25/AV25) -> 131567.33 | AK25: =AG25+(AJ25*O25)/(1-O$2)+(AJ25*P25)/(1-O$2-AA25)+(AJ25*Q25)/(1-AE25)+(AJ25*R25)/(1-R$2)+(AJ25*S25)/(1-S$2)+(AJ25*T25)/(1-T$2)+(AJ25*U25)/(1-U$2)+(AJ25*V25)/(1-V$2)+(AJ25*W25)/(1-W$2) -> 31856447 | AL25: =(AK25*O25*(1-O$2))+(AK25*P25*(1-AA25-O$2))+(AK25*Q25*(1-AE$5))+(AK25*R25*(1-R$2))+(AK25*S25*(1-S$2))+(AK25*T25*(1-T$2))+(AK25*U25*(1-U$2))+(AK25*V25*(1-V$2))+(AK25*W25*(1-W$2)) -> 29777750 | AM25: =(AK25*O25*(1-O$2))-(X25*O25*(1-O$2)) -> 131668.4 | AN25: =AM25/((O25*AL25)) -> 0.010033525 | AO25: =AL25-AM25 -> 29646082 | AP25: =(((AK25*O25*(1-O$2))/AL25)*AL25)-AM25-(((X25*O25*(1-O$2))/Z25)*Z25) -> 0 | AR25: =1-((((AK25*P25*(1-O$2-AA25))/AL25)*AL25)/(X25*P25)) -> 0.18357714 | AS25: =AR25-$O$2 -> 0.10657714 | AT25: =1-((((AK25*Q25*(1-AE25))/AL25)*AL25)/(X25*Q25)) -> 0.076974928 | AU25: =AT25-$O$2 -> -2.5072307e-05 | AV25: =$O25*(1-$O$2)+$P25*(1-$O$2-$AA25)+$Q25*(1-$AE25)+$R25*(1-$R$2)+$S25*(1-$S$2)+$T25*(1-$T$2)+$U25*(1-$U$2)+$V25*(1-$V$2)+$W25*(1-$W$2) -> 0.93474801 | AW25: =$P25*(1-$O$2-$AA25)+$Q25*(1-$AE25)+$R25*(1-$R$2)+$S25*(1-$S$2)+$T25*(1-$T$2)+$U25*(1-$U$2)+$V25*(1-$V$2)+$W25*(1-$W$2) -> 0.52798837 | AY25: =(X25*$O25*($O$2)) -> 1070012.1 | AZ25: =(X25*$P25*($O$2)) -> 100696.77 | BA25: =(X25*Q25*($Q$2)) -> 166745.49 | BB25: =(X25*$R25*($R$2)) -> 403590.07 | BC25: =(X25*$S25*($S$2))+(X25*$T25*($T$2))+(X25*$U25*($U$2))+(X25*$V25*($V$2))+(X25*$W25*($W$2)) -> 146048.42 | BD25: =SUM(AY25:BC25)-(X25-Z25) -> 4.1909516e-09 | BF25: =(AK25*$O25*($O$2)) -> 1080996.3 | BG25: =(AK25*$P25*($O$2+$AA25)) -> 253497.82 | BH25: =(AK25*Q25*($AE25)) -> 188921.49 | BI25: =(AK25*$R25*($R$2)) -> 407733.14 | BJ25: =(AK25*$S25*($S$2))+(AK25*$T25*($T$2))+(AK25*$U25*($U$2))+(AK25*$V25*($V$2))+(AK25*$W25*($W$2)) -> 147547.68 | BK25: =SUM(BF25:BJ25)-(AK25-AL25) -> 0 | BM25: =X25 -> 31532746 | BN25: =AY25 -> 1070012.1 | BO25: =AZ25 -> 100696.77 | BP25: =BA25 -> 166745.49 | BQ25: =BB25 -> 403590.07 | BR25: =BC25 -> 146048.42 | BS25: =BM25-SUM(BN25:BR25) -> 29645653 | BU25: =AK25 -> 31856447 | BV25: =BF25 -> 1080996.3 | BW25: =AM25 -> 131668.4 | BX25: =BG25 -> 253497.82 | BY25: =BH25 -> 188921.49 | BZ25: =BI25 -> 407733.14 | CA25: =BJ25 -> 147547.68 | CB25: =BU25-SUM(BV25:CA25) -> 29646082 | CD25: =CB25-BS25 -> 428.71206 | CE25: =CD25/BS25 -> 1.4461212e-05 | CF25: =($X25*O25) -> 13896260 | CG25: =CF25-AY25 -> 12826248 | CH25: =($AK25*O25)-BF25-AM25 -> 12826248 | CI25: =CH25-CG25 -> 0 | CK25: =1-CH25/CF25 -> 0.077 | CL25: =1-CG25/CF25 -> 0.077
A26: 32 | B26: 210032 | D26: 2.1023197e+08 | E26: 68795603 | F26: 7818271.7 | G26: 21046885 | H26: 3940451.9 | I26: 35025343 | J26: 5256184.9 | K26: 11583045 | L26: 0 | M26: 10422600 | N26: =D26-SUM(E26:M26) -> 46343586 | O26: =E26/$D26 -> 0.32723664 | P26: =F26/$D26 -> 0.037188786 | Q26: =G26/$D26 -> 0.10011267 | R26: =(H26+I26)/$D26 -> 0.18534667 | S26: =J26/$D26 -> 0.025001834 | T26: =K26/$D26 -> 0.055096496 | U26: =L26/$D26 -> 0 | V26: =M26/$D26 -> 0.049576665 | W26: =(N26)/$D26 -> 0.22044024 | X26: =Y26*(1-0.4973) -> 1.2096252e+08 | Y26: 2.4062567e+08 | Z26: =(X26*O$26*(1-O$2))+(X26*P$26*(1-O$2))+(X26*Q$26*(1-Q$2))+(X26*R$26*(1-R$2))+(X26*S$26*(1-S$2))+(X26*T$26*(1-T$2))+(X26*U$26*(1-U$2))+(X26*V$26*(1-V$2))+(X26*W$26*(1-W$2)) -> 1.1417478e+08 | AA26: =$AA$51 -> 0.114873 | AB26: =(X26*O26*(1-O$2))+(X26*P26*(1-AA26-O$2))+(X26*Q26*(1-Q$2))+(X26*R26*(1-R$2))+(X26*S26*(1-S$2))+(X26*T26*(1-T$2))+(X26*U26*(1-U$2))+(X26*V26*(1-V$2))+(X26*W26*(1-W$2)) -> 1.1365803e+08 | AC26: =((Z26-AB26)*O26/(1-O$2))+((Z26-AB26)*P26/(1-(AA$5+O$2)))+((Z26-AB26)*Q26/(1-Q$2))+((Z26-AB26)*R26/(1-R$2))+((Z26-AB26)*S26/(1-S$2))+((Z26-AB26)*T26/(1-T$2))+((Z26-AB26)*U26/(1-U$2))+((Z26-AB26)*V26/(1-V$2))+((Z26-AB26)*W26/(1-W$2))+X26 -> 1.2151345e+08 | AD26: =(AC26*O26*(1-O$2))+(AC26*P26*(1-AA26-O$2))+(AC26*Q26*(1-Q$2))+(AC26*R26*(1-R$2))+(AC26*S26*(1-S$2))+(AC26*T26*(1-T$2))+(AC26*U26*(1-U$2))+(AC26*V26*(1-V$2))+(AC26*W26*(1-W$2)) -> 1.1417569e+08 | AE26: =$AE$51 -> 0.086354 | AF26: =(AC26*O26*(1-O$2))+(AC26*P26*(1-AA26-O$2))+(AC26*Q26*(1-AE$5))+(AC26*R26*(1-R$2))+(AC26*S26*(1-S$2))+(AC26*T26*(1-T$2))+(AC26*U26*(1-U$2))+(AC26*V26*(1-V$2))+(AC26*W26*(1-W$2)) -> 1.140619e+08 | AG26: =((AD26-AF26)*O26/(1-O$2))+((AD26-AF26)*P26/(1-(AA$5+O$2)))+((AD26-AF26)*Q26/(1-AE$5))+((AD26-AF26)*R26/(1-R$2))+((AD26-AF26)*S26/(1-S$2))+((AD26-AF26)*T26/(1-T$2))+((AD26-AF26)*U26/(1-U$2))+((AD26-AF26)*V26/(1-V$2))+((AD26-AF26)*W26/(1-W$2))+AC26 -> 1.216349e+08 | AH26: =(AG26*O26*(1-O$2))+(AG26*P26*(1-AA26-O$2))+(AG26*Q26*(1-AE$5))+(AG26*R26*(1-R$2))+(AG26*S26*(1-S$2))+(AG26*T26*(1-T$2))+(AG26*U26*(1-U$2))+(AG26*V26*(1-V$2))+(AG26*W26*(1-W$2)) -> 1.141759e+08 | AI26: =(AG26*O26*(1-O$2))-(X26*O26*(1-O$2)) -> 203083.34 | AJ26: =AI26/(AW26/AV26) -> 299431.96 | AK26: =AG26+(AJ26*O26)/(1-O$2)+(AJ26*P26)/(1-O$2-AA26)+(AJ26*Q26)/(1-AE26)+(AJ26*R26)/(1-R$2)+(AJ26*S26)/(1-S$2)+(AJ26*T26)/(1-T$2)+(AJ26*U26)/(1-U$2)+(AJ26*V26)/(1-V$2)+(AJ26*W26)/(1-W$2) -> 1.2195447e+08 | AL26: =(AK26*O26*(1-O$2))+(AK26*P26*(1-AA26-O$2))+(AK26*Q26*(1-AE$5))+(AK26*R26*(1-R$2))+(AK26*S26*(1-S$2))+(AK26*T26*(1-T$2))+(AK26*U26*(1-U$2))+(AK26*V26*(1-V$2))+(AK26*W26*(1-W$2)) -> 1.1447587e+08 | AM26: =(AK26*O26*(1-O$2))-(X26*O26*(1-O$2)) -> 299605.9 | AN26: =AM26/((O26*AL26)) -> 0.0079978725 | AO26: =AL26-AM26 -> 1.1417627e+08 | AP26: =(((AK26*O26*(1-O$2))/AL26)*AL26)-AM26-(((X26*O26*(1-O$2))/Z26)*Z26) -> 0 | AR26: =1-((((AK26*P26*(1-O$2-AA26))/AL26)*AL26)/(X26*P26)) -> 0.18524602 | AS26: =AR26-$O$2 -> 0.10824602 | AT26: =1-((((AK26*Q26*(1-AE26))/AL26)*AL26)/(X26*Q26)) -> 0.078861722 | AU26: =AT26-$O$2 -> 0.0018617225 | AV26: =$O26*(1-$O$2)+$P26*(1-$O$2-$AA26)+$Q26*(1-$AE26)+$R26*(1-$R$2)+$S26*(1-$S$2)+$T26*(1-$T$2)+$U26*(1-$U$2)+$V26*(1-$V$2)+$W26*(1-$W$2) -> 0.93867716 | AW26: =$P26*(1-$O$2-$AA26)+$Q26*(1-$AE26)+$R26*(1-$R$2)+$S26*(1-$S$2)+$T26*(1-$T$2)+$U26*(1-$U$2)+$V26*(1-$V$2)+$W26*(1-$W$2) -> 0.63663774 | AY26: =(X26*$O26*($O$2)) -> 3047919.4 | AZ26: =(X26*$P26*($O$2)) -> 346380.6 | BA26: =(X26*Q26*($Q$2)) -> 932460.89 | BB26: =(X26*$R26*($R$2)) -> 1726340 | BC26: =(X26*$S26*($S$2))+(X26*$T26*($T$2))+(X26*$U26*($U$2))+(X26*$V26*($V$2))+(X26*$W26*($W$2)) -> 734638.79 | BD26: =SUM(AY26:BC26)-(X26-Z26) -> 1.6763806e-08 | BF26: =(AK26*$O26*($O$2)) -> 3072913.6 | BG26: =(AK26*$P26*($O$2+$AA26)) -> 870209.01 | BH26: =(AK26*Q26*($AE26)) -> 1054312.2 | BI26: =(AK26*$R26*($R$2)) -> 1740496.7 | BJ26: =(AK26*$S26*($S$2))+(AK26*$T26*($T$2))+(AK26*$U26*($U$2))+(AK26*$V26*($V$2))+(AK26*$W26*($W$2)) -> 740663.13 | BK26: =SUM(BF26:BJ26)-(AK26-AL26) -> 0 | BM26: =X26 -> 1.2096252e+08 | BN26: =AY26 -> 3047919.4 | BO26: =AZ26 -> 346380.6 | BP26: =BA26 -> 932460.89 | BQ26: =BB26 -> 1726340 | BR26: =BC26 -> 734638.79 | BS26: =BM26-SUM(BN26:BR26) -> 1.1417478e+08 | BU26: =AK26 -> 1.2195447e+08 | BV26: =BF26 -> 3072913.6 | BW26: =AM26 -> 299605.9 | BX26: =BG26 -> 870209.01 | BY26: =BH26 -> 1054312.2 | BZ26: =BI26 -> 1740496.7 | CA26: =BJ26 -> 740663.13 | CB26: =BU26-SUM(BV26:CA26) -> 1.1417627e+08 | CD26: =CB26-BS26 -> 1482.1681 | CE26: =CD26/BS26 -> 1.2981571e-05 | CF26: =($X26*O26) -> 39583369 | CG26: =CF26-AY26 -> 36535450 | CH26: =($AK26*O26)-BF26-AM26 -> 36535450 | CI26: =CH26-CG26 -> 0 | CK26: =1-CH26/CF26 -> 0.077 | CL26: =1-CG26/CF26 -> 0.077
A27: 33 | B27: 210033 | D27: 290567423 | E27: 1.2163386e+08 | F27: 10224786 | G27: 22534611 | H27: 3967476.9 | I27: 38578486 | J27: 11622343 | K27: 13522624 | L27: 0 | M27: 9762159.5 | N27: =D27-SUM(E27:M27) -> 58721073 | O27: =E27/$D27 -> 0.41860806 | P27: =F27/$D27 -> 0.03518903 | Q27: =G27/$D27 -> 0.07755381 | R27: =(H27+I27)/$D27 -> 0.14642372 | S27: =J27/$D27 -> 0.039998783 | T27: =K27/$D27 -> 0.046538679 | U27: =L27/$D27 -> 0 | V27: =M27/$D27 -> 0.033596882 | W27: =(N27)/$D27 -> 0.20209104 | X27: =Y27*(1-0.4973) -> 1.6244713e+08 | Y27: 3.2314926e+08 | Z27: =(X27*O$27*(1-O$2))+(X27*P$27*(1-O$2))+(X27*Q$27*(1-Q$2))+(X27*R$27*(1-R$2))+(X27*S$27*(1-S$2))+(X27*T$27*(1-T$2))+(X27*U$27*(1-U$2))+(X27*V$27*(1-V$2))+(X27*W$27*(1-W$2)) -> 1.5301526e+08 | AA27: =$AA$51 -> 0.114873 | AB27: =(X27*O27*(1-O$2))+(X27*P27*(1-AA27-O$2))+(X27*Q27*(1-Q$2))+(X27*R27*(1-R$2))+(X27*S27*(1-S$2))+(X27*T27*(1-T$2))+(X27*U27*(1-U$2))+(X27*V27*(1-V$2))+(X27*W27*(1-W$2)) -> 1.523586e+08 | AC27: =((Z27-AB27)*O27/(1-O$2))+((Z27-AB27)*P27/(1-(AA$5+O$2)))+((Z27-AB27)*Q27/(1-Q$2))+((Z27-AB27)*R27/(1-R$2))+((Z27-AB27)*S27/(1-S$2))+((Z27-AB27)*T27/(1-T$2))+((Z27-AB27)*U27/(1-U$2))+((Z27-AB27)*V27/(1-V$2))+((Z27-AB27)*W27/(1-W$2))+X27 -> 1.6314841e+08 | AD27: =(AC27*O27*(1-O$2))+(AC27*P27*(1-AA27-O$2))+(AC27*Q27*(1-Q$2))+(AC27*R27*(1-R$2))+(AC27*S27*(1-S$2))+(AC27*T27*(1-T$2))+(AC27*U27*(1-U$2))+(AC27*V27*(1-V$2))+(AC27*W27*(1-W$2)) -> 1.5301633e+08 | AE27: =$AE$51 -> 0.086354 | AF27: =(AC27*O27*(1-O$2))+(AC27*P27*(1-AA27-O$2))+(AC27*Q27*(1-AE$5))+(AC27*R27*(1-R$2))+(AC27*S27*(1-S$2))+(AC27*T27*(1-T$2))+(AC27*U27*(1-U$2))+(AC27*V27*(1-V$2))+(AC27*W27*(1-W$2)) -> 1.5289797e+08 | AG27: =((AD27-AF27)*O27/(1-O$2))+((AD27-AF27)*P27/(1-(AA$5+O$2)))+((AD27-AF27)*Q27/(1-AE$5))+((AD27-AF27)*R27/(1-R$2))+((AD27-AF27)*S27/(1-S$2))+((AD27-AF27)*T27/(1-T$2))+((AD27-AF27)*U27/(1-U$2))+((AD27-AF27)*V27/(1-V$2))+((AD27-AF27)*W27/(1-W$2))+AC27 -> 1.6327491e+08 | AH27: =(AG27*O27*(1-O$2))+(AG27*P27*(1-AA27-O$2))+(AG27*Q27*(1-AE$5))+(AG27*R27*(1-R$2))+(AG27*S27*(1-S$2))+(AG27*T27*(1-T$2))+(AG27*U27*(1-U$2))+(AG27*V27*(1-V$2))+(AG27*W27*(1-W$2)) -> 1.5301653e+08 | AI27: =(AG27*O27*(1-O$2))-(X27*O27*(1-O$2)) -> 319832.89 | AJ27: =AI27/(AW27/AV27) -> 544190.98 | AK27: =AG27+(AJ27*O27)/(1-O$2)+(AJ27*P27)/(1-O$2-AA27)+(AJ27*Q27)/(1-AE27)+(AJ27*R27)/(1-R$2)+(AJ27*S27)/(1-S$2)+(AJ27*T27)/(1-T$2)+(AJ27*U27)/(1-U$2)+(AJ27*V27)/(1-V$2)+(AJ27*W27)/(1-W$2) -> 1.6385655e+08 | AL27: =(AK27*O27*(1-O$2))+(AK27*P27*(1-AA27-O$2))+(AK27*Q27*(1-AE$5))+(AK27*R27*(1-R$2))+(AK27*S27*(1-S$2))+(AK27*T27*(1-T$2))+(AK27*U27*(1-U$2))+(AK27*V27*(1-V$2))+(AK27*W27*(1-W$2)) -> 1.5356162e+08 | AM27: =(AK27*O27*(1-O$2))-(X27*O27*(1-O$2)) -> 544564.34 | AN27: =AM27/((O27*AL27)) -> 0.0084714729 | AO27: =AL27-AM27 -> 1.5301706e+08 | AP27: =(((AK27*O27*(1-O$2))/AL27)*AL27)-AM27-(((X27*O27*(1-O$2))/Z27)*Z27) -> 0 | AR27: =1-((((AK27*P27*(1-O$2-AA27))/AL27)*AL27)/(X27*P27)) -> 0.18486156 | AS27: =AR27-$O$2 -> 0.10786156 | AT27: =1-((((AK27*Q27*(1-AE27))/AL27)*AL27)/(X27*Q27)) -> 0.078427055 | AU27: =AT27-$O$2 -> 0.0014270555 | AV27: =$O27*(1-$O$2)+$P27*(1-$O$2-$AA27)+$Q27*(1-$AE27)+$R27*(1-$R$2)+$S27*(1-$S$2)+$T27*(1-$T$2)+$U27*(1-$U$2)+$V27*(1-$V$2)+$W27*(1-$W$2) -> 0.93717108 | AW27: =$P27*(1-$O$2-$AA27)+$Q27*(1-$AE27)+$R27*(1-$R$2)+$S27*(1-$S$2)+$T27*(1-$T$2)+$U27*(1-$U$2)+$V27*(1-$V$2)+$W27*(1-$W$2) -> 0.55079584 | AY27: =(X27*$O27*($O$2)) -> 5236129.3 | AZ27: =(X27*$P27*($O$2)) -> 440159.49 | BA27: =(X27*Q27*($Q$2)) -> 970076.36 | BB27: =(X27*$R27*($R$2)) -> 1831530.7 | BC27: =(X27*$S27*($S$2))+(X27*$T27*($T$2))+(X27*$U27*($U$2))+(X27*$V27*($V$2))+(X27*$W27*($W$2)) -> 953981.68 | BD27: =SUM(AY27:BC27)-(X27-Z27) -> 0 | BF27: =(AK27*$O27*($O$2)) -> 5281558.9 | BG27: =(AK27*$P27*($O$2+$AA27)) -> 1106330.7 | BH27: =(AK27*Q27*($AE27)) -> 1097360.7 | BI27: =(AK27*$R27*($R$2)) -> 1847421.4 | BJ27: =(AK27*$S27*($S$2))+(AK27*$T27*($T$2))+(AK27*$U27*($U$2))+(AK27*$V27*($V$2))+(AK27*$W27*($W$2)) -> 962258.58 | BK27: =SUM(BF27:BJ27)-(AK27-AL27) -> 0 | BM27: =X27 -> 1.6244713e+08 | BN27: =AY27 -> 5236129.3 | BO27: =AZ27 -> 440159.49 | BP27: =BA27 -> 970076.36 | BQ27: =BB27 -> 1831530.7 | BR27: =BC27 -> 953981.68 | BS27: =BM27-SUM(BN27:BR27) -> 1.5301526e+08 | BU27: =AK27 -> 1.6385655e+08 | BV27: =BF27 -> 5281558.9 | BW27: =AM27 -> 544564.34 | BX27: =BG27 -> 1106330.7 | BY27: =BH27 -> 1097360.7 | BZ27: =BI27 -> 1847421.4 | CA27: =BJ27 -> 962258.58 | CB27: =BU27-SUM(BV27:CA27) -> 1.5301706e+08 | CD27: =CB27-BS27 -> 1801.2982 | CE27: =CD27/BS27 -> 1.1772017e-05 | CF27: =($X27*O27) -> 68001680 | CG27: =CF27-AY27 -> 62765550 | CH27: =($AK27*O27)-BF27-AM27 -> 62765550 | CI27: =CH27-CG27 -> 0 | CK27: =1-CH27/CF27 -> 0.077 | CL27: =1-CG27/CF27 -> 0.077
A28: 34 | B28: 210034 | D28: 2.4144781e+08 | E28: 53805086 | F28: 13692695 | G28: 18158516 | H28: 14230518 | I28: 79184723 | J28: 7412959.6 | K28: 8701415.7 | L28: 1273645.7 | M28: 17661095 | N28: =D28-SUM(E28:M28) -> 27327160 | O28: =E28/$D28 -> 0.22284354 | P28: =F28/$D28 -> 0.056710783 | Q28: =G28/$D28 -> 0.075206793 | R28: =(H28+I28)/$D28 -> 0.3868962 | S28: =J28/$D28 -> 0.030702119 | T28: =K28/$D28 -> 0.036038495 | U28: =L28/$D28 -> 0.0052750351 | V28: =M28/$D28 -> 0.073146633 | W28: =(N28)/$D28 -> 0.1131804 | X28: =Y28*(1-0.4973) -> 1.2775783e+08 | Y28: 2.5414329e+08 | Z28: =(X28*O$28*(1-O$2))+(X28*P$28*(1-O$2))+(X28*Q$28*(1-Q$2))+(X28*R$28*(1-R$2))+(X28*S$28*(1-S$2))+(X28*T$28*(1-T$2))+(X28*U$28*(1-U$2))+(X28*V$28*(1-V$2))+(X28*W$28*(1-W$2)) -> 1.1997888e+08 | AA28: =$AA$51 -> 0.114873 | AB28: =(X28*O28*(1-O$2))+(X28*P28*(1-AA28-O$2))+(X28*Q28*(1-Q$2))+(X28*R28*(1-R$2))+(X28*S28*(1-S$2))+(X28*T28*(1-T$2))+(X28*U28*(1-U$2))+(X28*V28*(1-V$2))+(X28*W28*(1-W$2)) -> 1.1914659e+08 | AC28: =((Z28-AB28)*O28/(1-O$2))+((Z28-AB28)*P28/(1-(AA$5+O$2)))+((Z28-AB28)*Q28/(1-Q$2))+((Z28-AB28)*R28/(1-R$2))+((Z28-AB28)*S28/(1-S$2))+((Z28-AB28)*T28/(1-T$2))+((Z28-AB28)*U28/(1-U$2))+((Z28-AB28)*V28/(1-V$2))+((Z28-AB28)*W28/(1-W$2))+X28 -> 1.2865209e+08 | AD28: =(AC28*O28*(1-O$2))+(AC28*P28*(1-AA28-O$2))+(AC28*Q28*(1-Q$2))+(AC28*R28*(1-R$2))+(AC28*S28*(1-S$2))+(AC28*T28*(1-T$2))+(AC28*U28*(1-U$2))+(AC28*V28*(1-V$2))+(AC28*W28*(1-W$2)) -> 1.1998058e+08 | AE28: =$AE$51 -> 0.086354 | AF28: =(AC28*O28*(1-O$2))+(AC28*P28*(1-AA28-O$2))+(AC28*Q28*(1-AE$5))+(AC28*R28*(1-R$2))+(AC28*S28*(1-S$2))+(AC28*T28*(1-T$2))+(AC28*U28*(1-U$2))+(AC28*V28*(1-V$2))+(AC28*W28*(1-W$2)) -> 1.1989007e+08 | AG28: =((AD28-AF28)*O28/(1-O$2))+((AD28-AF28)*P28/(1-(AA$5+O$2)))+((AD28-AF28)*Q28/(1-AE$5))+((AD28-AF28)*R28/(1-R$2))+((AD28-AF28)*S28/(1-S$2))+((AD28-AF28)*T28/(1-T$2))+((AD28-AF28)*U28/(1-U$2))+((AD28-AF28)*V28/(1-V$2))+((AD28-AF28)*W28/(1-W$2))+AC28 -> 1.2874941e+08 | AH28: =(AG28*O28*(1-O$2))+(AG28*P28*(1-AA28-O$2))+(AG28*Q28*(1-AE$5))+(AG28*R28*(1-R$2))+(AG28*S28*(1-S$2))+(AG28*T28*(1-T$2))+(AG28*U28*(1-U$2))+(AG28*V28*(1-V$2))+(AG28*W28*(1-W$2)) -> 1.1998076e+08 | AI28: =(AG28*O28*(1-O$2))-(X28*O28*(1-O$2)) -> 203952.52 | AJ28: =AI28/(AW28/AV28) -> 261718.1 | AK28: =AG28+(AJ28*O28)/(1-O$2)+(AJ28*P28)/(1-O$2-AA28)+(AJ28*Q28)/(1-AE28)+(AJ28*R28)/(1-R$2)+(AJ28*S28)/(1-S$2)+(AJ28*T28)/(1-T$2)+(AJ28*U28)/(1-U$2)+(AJ28*V28)/(1-V$2)+(AJ28*W28)/(1-W$2) -> 1.2903084e+08 | AL28: =(AK28*O28*(1-O$2))+(AK28*P28*(1-AA28-O$2))+(AK28*Q28*(1-AE$5))+(AK28*R28*(1-R$2))+(AK28*S28*(1-S$2))+(AK28*T28*(1-T$2))+(AK28*U28*(1-U$2))+(AK28*V28*(1-V$2))+(AK28*W28*(1-W$2)) -> 1.2024302e+08 | AM28: =(AK28*O28*(1-O$2))-(X28*O28*(1-O$2)) -> 261837.37 | AN28: =AM28/((O28*AL28)) -> 0.0097717353 | AO28: =AL28-AM28 -> 1.1998118e+08 | AP28: =(((AK28*O28*(1-O$2))/AL28)*AL28)-AM28-(((X28*O28*(1-O$2))/Z28)*Z28) -> 0 | AR28: =1-((((AK28*P28*(1-O$2-AA28))/AL28)*AL28)/(X28*P28)) -> 0.18382066 | AS28: =AR28-$O$2 -> 0.10682066 | AT28: =1-((((AK28*Q28*(1-AE28))/AL28)*AL28)/(X28*Q28)) -> 0.077250251 | AU28: =AT28-$O$2 -> 0.00025025052 | AV28: =$O28*(1-$O$2)+$P28*(1-$O$2-$AA28)+$Q28*(1-$AE28)+$R28*(1-$R$2)+$S28*(1-$S$2)+$T28*(1-$T$2)+$U28*(1-$U$2)+$V28*(1-$V$2)+$W28*(1-$W$2) -> 0.93189369 | AW28: =$P28*(1-$O$2-$AA28)+$Q28*(1-$AE28)+$R28*(1-$R$2)+$S28*(1-$S$2)+$T28*(1-$T$2)+$U28*(1-$U$2)+$V28*(1-$V$2)+$W28*(1-$W$2) -> 0.7262091 | AY28: =(X28*$O28*($O$2)) -> 2192190.6 | AZ28: =(X28*$P28*($O$2)) -> 557884 | BA28: =(X28*Q28*($Q$2)) -> 739835.77 | BB28: =(X28*$R28*($R$2)) -> 3806034.5 | BC28: =(X28*$S28*($S$2))+(X28*$T28*($T$2))+(X28*$U28*($U$2))+(X28*$V28*($V$2))+(X28*$W28*($W$2)) -> 483011.01 | BD28: =SUM(AY28:BC28)-(X28-Z28) -> 2.6077032e-08 | BF28: =(AK28*$O28*($O$2)) -> 2214034 | BG28: =(AK28*$P28*($O$2+$AA28)) -> 1404019.1 | BH28: =(AK28*Q28*($AE28)) -> 837978.82 | BI28: =(AK28*$R28*($R$2)) -> 3843958.6 | BJ28: =(AK28*$S28*($S$2))+(AK28*$T28*($T$2))+(AK28*$U28*($U$2))+(AK28*$V28*($V$2))+(AK28*$W28*($W$2)) -> 487823.82 | BK28: =SUM(BF28:BJ28)-(AK28-AL28) -> 2.0489097e-08 | BM28: =X28 -> 1.2775783e+08 | BN28: =AY28 -> 2192190.6 | BO28: =AZ28 -> 557884 | BP28: =BA28 -> 739835.77 | BQ28: =BB28 -> 3806034.5 | BR28: =BC28 -> 483011.01 | BS28: =BM28-SUM(BN28:BR28) -> 1.1997888e+08 | BU28: =AK28 -> 1.2903084e+08 | BV28: =BF28 -> 2214034 | BW28: =AM28 -> 261837.37 | BX28: =BG28 -> 1404019.1 | BY28: =BH28 -> 837978.82 | BZ28: =BI28 -> 3843958.6 | CA28: =BJ28 -> 487823.82 | CB28: =BU28-SUM(BV28:CA28) -> 1.1998118e+08 | CD28: =CB28-BS28 -> 2308.454 | CE28: =CD28/BS28 -> 1.9240504e-05 | CF28: =($X28*O28) -> 28470008 | CG28: =CF28-AY28 -> 26277817 | CH28: =($AK28*O28)-BF28-AM28 -> 26277817 | CI28: =CH28-CG28 -> 0 | CK28: =1-CH28/CF28 -> 0.077 | CL28: =1-CG28/CF28 -> 0.077
A29: 35 | B29: 210035 | D29: 1.966486e+08 | E29: 72458242 | F29: 10720672 | G29: 13743897 | H29: 3006970.7 | I29: 28195313 | J29: 9068738.1 | K29: 17077362 | L29: 683678.1 | M29: 14059248 | N29: =D29-SUM(E29:M29) -> 27634476 | O29: =E29/$D29 -> 0.36846559 | P29: =F29/$D29 -> 0.054516903 | Q29: =G29/$D29 -> 0.069890644 | R29: =(H29+I29)/$D29 -> 0.15867026 | S29: =J29/$D29 -> 0.046116465 | T29: =K29/$D29 -> 0.086842024 | U29: =L29/$D29 -> 0.0034766487 | V29: =M29/$D29 -> 0.071494272 | W29: =(N29)/$D29 -> 0.1405272 | X29: =Y29*(1-0.4973) -> 1.1364222e+08 | Y29: 2.2606369e+08 | Z29: =(X29*O$29*(1-O$2))+(X29*P$29*(1-O$2))+(X29*Q$29*(1-Q$2))+(X29*R$29*(1-R$2))+(X29*S$29*(1-S$2))+(X29*T$29*(1-T$2))+(X29*U$29*(1-U$2))+(X29*V$29*(1-V$2))+(X29*W$29*(1-W$2)) -> 1.0729833e+08 | AA29: =$AA$51 -> 0.114873 | AB29: =(X29*O29*(1-O$2))+(X29*P29*(1-AA29-O$2))+(X29*Q29*(1-Q$2))+(X29*R29*(1-R$2))+(X29*S29*(1-S$2))+(X29*T29*(1-T$2))+(X29*U29*(1-U$2))+(X29*V29*(1-V$2))+(X29*W29*(1-W$2)) -> 1.0658664e+08 | AC29: =((Z29-AB29)*O29/(1-O$2))+((Z29-AB29)*P29/(1-(AA$5+O$2)))+((Z29-AB29)*Q29/(1-Q$2))+((Z29-AB29)*R29/(1-R$2))+((Z29-AB29)*S29/(1-S$2))+((Z29-AB29)*T29/(1-T$2))+((Z29-AB29)*U29/(1-U$2))+((Z29-AB29)*V29/(1-V$2))+((Z29-AB29)*W29/(1-W$2))+X29 -> 1.1440267e+08 | AD29: =(AC29*O29*(1-O$2))+(AC29*P29*(1-AA29-O$2))+(AC29*Q29*(1-Q$2))+(AC29*R29*(1-R$2))+(AC29*S29*(1-S$2))+(AC29*T29*(1-T$2))+(AC29*U29*(1-U$2))+(AC29*V29*(1-V$2))+(AC29*W29*(1-W$2)) -> 1.0729988e+08 | AE29: =$AE$51 -> 0.086354 | AF29: =(AC29*O29*(1-O$2))+(AC29*P29*(1-AA29-O$2))+(AC29*Q29*(1-AE$5))+(AC29*R29*(1-R$2))+(AC29*S29*(1-S$2))+(AC29*T29*(1-T$2))+(AC29*U29*(1-U$2))+(AC29*V29*(1-V$2))+(AC29*W29*(1-W$2)) -> 1.0722509e+08 | AG29: =((AD29-AF29)*O29/(1-O$2))+((AD29-AF29)*P29/(1-(AA$5+O$2)))+((AD29-AF29)*Q29/(1-AE$5))+((AD29-AF29)*R29/(1-R$2))+((AD29-AF29)*S29/(1-S$2))+((AD29-AF29)*T29/(1-T$2))+((AD29-AF29)*U29/(1-U$2))+((AD29-AF29)*V29/(1-V$2))+((AD29-AF29)*W29/(1-W$2))+AC29 -> 1.1448265e+08 | AH29: =(AG29*O29*(1-O$2))+(AG29*P29*(1-AA29-O$2))+(AG29*Q29*(1-AE$5))+(AG29*R29*(1-R$2))+(AG29*S29*(1-S$2))+(AG29*T29*(1-T$2))+(AG29*U29*(1-U$2))+(AG29*V29*(1-V$2))+(AG29*W29*(1-W$2)) -> 1.0730005e+08 | AI29: =(AG29*O29*(1-O$2))-(X29*O29*(1-O$2)) -> 285824.24 | AJ29: =AI29/(AW29/AV29) -> 448604.66 | AK29: =AG29+(AJ29*O29)/(1-O$2)+(AJ29*P29)/(1-O$2-AA29)+(AJ29*Q29)/(1-AE29)+(AJ29*R29)/(1-R$2)+(AJ29*S29)/(1-S$2)+(AJ29*T29)/(1-T$2)+(AJ29*U29)/(1-U$2)+(AJ29*V29)/(1-V$2)+(AJ29*W29)/(1-W$2) -> 1.1496234e+08 | AL29: =(AK29*O29*(1-O$2))+(AK29*P29*(1-AA29-O$2))+(AK29*Q29*(1-AE$5))+(AK29*R29*(1-R$2))+(AK29*S29*(1-S$2))+(AK29*T29*(1-T$2))+(AK29*U29*(1-U$2))+(AK29*V29*(1-V$2))+(AK29*W29*(1-W$2)) -> 1.0774964e+08 | AM29: =(AK29*O29*(1-O$2))-(X29*O29*(1-O$2)) -> 448964.49 | AN29: =AM29/((O29*AL29)) -> 0.01130835 | AO29: =AL29-AM29 -> 1.0730068e+08 | AP29: =(((AK29*O29*(1-O$2))/AL29)*AL29)-AM29-(((X29*O29*(1-O$2))/Z29)*Z29) -> 0 | AR29: =1-((((AK29*P29*(1-O$2-AA29))/AL29)*AL29)/(X29*P29)) -> 0.18248543 | AS29: =AR29-$O$2 -> 0.10548543 | AT29: =1-((((AK29*Q29*(1-AE29))/AL29)*AL29)/(X29*Q29)) -> 0.075740671 | AU29: =AT29-$O$2 -> -0.0012593285 | AV29: =$O29*(1-$O$2)+$P29*(1-$O$2-$AA29)+$Q29*(1-$AE29)+$R29*(1-$R$2)+$S29*(1-$S$2)+$T29*(1-$T$2)+$U29*(1-$U$2)+$V29*(1-$V$2)+$W29*(1-$W$2) -> 0.93726034 | AW29: =$P29*(1-$O$2-$AA29)+$Q29*(1-$AE29)+$R29*(1-$R$2)+$S29*(1-$S$2)+$T29*(1-$T$2)+$U29*(1-$U$2)+$V29*(1-$V$2)+$W29*(1-$W$2) -> 0.5971666 | AY29: =(X29*$O29*($O$2)) -> 3224240 | AZ29: =(X29*$P29*($O$2)) -> 477047.48 | BA29: =(X29*Q29*($Q$2)) -> 611574.65 | BB29: =(X29*$R29*($R$2)) -> 1388436.3 | BC29: =(X29*$S29*($S$2))+(X29*$T29*($T$2))+(X29*$U29*($U$2))+(X29*$V29*($V$2))+(X29*$W29*($W$2)) -> 642594.23 | BD29: =SUM(AY29:BC29)-(X29-Z29) -> 0 | BF29: =(AK29*$O29*($O$2)) -> 3261694.3 | BG29: =(AK29*$P29*($O$2+$AA29)) -> 1202543 | BH29: =(AK29*Q29*($AE29)) -> 693836.42 | BI29: =(AK29*$R29*($R$2)) -> 1404565 | BJ29: =(AK29*$S29*($S$2))+(AK29*$T29*($T$2))+(AK29*$U29*($U$2))+(AK29*$V29*($V$2))+(AK29*$W29*($W$2)) -> 650058.89 | BK29: =SUM(BF29:BJ29)-(AK29-AL29) -> 0 | BM29: =X29 -> 1.1364222e+08 | BN29: =AY29 -> 3224240 | BO29: =AZ29 -> 477047.48 | BP29: =BA29 -> 611574.65 | BQ29: =BB29 -> 1388436.3 | BR29: =BC29 -> 642594.23 | BS29: =BM29-SUM(BN29:BR29) -> 1.0729833e+08 | BU29: =AK29 -> 1.1496234e+08 | BV29: =BF29 -> 3261694.3 | BW29: =AM29 -> 448964.49 | BX29: =BG29 -> 1202543 | BY29: =BH29 -> 693836.42 | BZ29: =BI29 -> 1404565 | CA29: =BJ29 -> 650058.89 | CB29: =BU29-SUM(BV29:CA29) -> 1.0730068e+08 | CD29: =CB29-BS29 -> 2350.3854 | CE29: =CD29/BS29 -> 2.1905145e-05 | CF29: =($X29*O29) -> 41873247 | CG29: =CF29-AY29 -> 38649007 | CH29: =($AK29*O29)-BF29-AM29 -> 38649007 | CI29: =CH29-CG29 -> 0 | CK29: =1-CH29/CF29 -> 0.077 | CL29: =1-CG29/CF29 -> 0.077
A30: 37 | B30: 210037 | D30: 3.2055904e+08 | E30: 1.4373487e+08 | F30: 13811145 | G30: 24330842 | H30: 4498246.3 | I30: 52359150 | J30: 12205881 | K30: 21575525 | L30: 1574144 | M30: 12623000 | N30: =D30-SUM(E30:M30) -> 33846236 | O30: =E30/$D30 -> 0.44838814 | P30: =F30/$D30 -> 0.043084559 | Q30: =G30/$D30 -> 0.075901282 | R30: =(H30+I30)/$D30 -> 0.1773695 | S30: =J30/$D30 -> 0.038076858 | T30: =K30/$D30 -> 0.06730593 | U30: =L30/$D30 -> 0.0049106211 | V30: =M30/$D30 -> 0.039378081 | W30: =(N30)/$D30 -> 0.10558503 | X30: =Y30*(1-0.4973) -> 1.6950428e+08 | Y30: 3.3718775e+08 | Z30: =(X30*O30*(1-O$2))+(X30*P30*(1-O$2))+(X30*Q30*(1-Q$2))+(X30*R30*(1-R$2))+(X30*S30*(1-S$2))+(X30*T30*(1-T$2))+(X30*U30*(1-U$2))+(X30*V30*(1-V$2))+(X30*W30*(1-W$2)) -> 1.5903603e+08 | AA30: =$AA$51 -> 0.114873 | AB30: =(X30*O30*(1-O$2))+(X30*P30*(1-AA30-O$2))+(X30*Q30*(1-Q$2))+(X30*R30*(1-R$2))+(X30*S30*(1-S$2))+(X30*T30*(1-T$2))+(X30*U30*(1-U$2))+(X30*V30*(1-V$2))+(X30*W30*(1-W$2)) -> 1.5819711e+08 | AC30: =((Z30-AB30)*O30/(1-O$2))+((Z30-AB30)*P30/(1-(AA$5+O$2)))+((Z30-AB30)*Q30/(1-Q$2))+((Z30-AB30)*R30/(1-R$2))+((Z30-AB30)*S30/(1-S$2))+((Z30-AB30)*T30/(1-T$2))+((Z30-AB30)*U30/(1-U$2))+((Z30-AB30)*V30/(1-V$2))+((Z30-AB30)*W30/(1-W$2))+X30 -> 1.7040467e+08 | AD30: =(AC30*O30*(1-O$2))+(AC30*P30*(1-AA30-O$2))+(AC30*Q30*(1-Q$2))+(AC30*R30*(1-R$2))+(AC30*S30*(1-S$2))+(AC30*T30*(1-T$2))+(AC30*U30*(1-U$2))+(AC30*V30*(1-V$2))+(AC30*W30*(1-W$2)) -> 1.5903744e+08 | AE30: =$AE$51 -> 0.086354 | AF30: =(AC30*O30*(1-O$2))+(AC30*P30*(1-AA30-O$2))+(AC30*Q30*(1-AE$5))+(AC30*R30*(1-R$2))+(AC30*S30*(1-S$2))+(AC30*T30*(1-T$2))+(AC30*U30*(1-U$2))+(AC30*V30*(1-V$2))+(AC30*W30*(1-W$2)) -> 1.5891645e+08 | AG30: =((AD30-AF30)*O30/(1-O$2))+((AD30-AF30)*P30/(1-(AA$5+O$2)))+((AD30-AF30)*Q30/(1-AE$5))+((AD30-AF30)*R30/(1-R$2))+((AD30-AF30)*S30/(1-S$2))+((AD30-AF30)*T30/(1-T$2))+((AD30-AF30)*U30/(1-U$2))+((AD30-AF30)*V30/(1-V$2))+((AD30-AF30)*W30/(1-W$2))+AC30 -> 1.7053462e+08 | AH30: =(AG30*O30*(1-O$2))+(AG30*P30*(1-AA30-O$2))+(AG30*Q30*(1-AE$5))+(AG30*R30*(1-R$2))+(AG30*S30*(1-S$2))+(AG30*T30*(1-T$2))+(AG30*U30*(1-U$2))+(AG30*V30*(1-V$2))+(AG30*W30*(1-W$2)) -> 1.5903764e+08 | AI30: =(AG30*O30*(1-O$2))-(X30*O30*(1-O$2)) -> 426417.6 | AJ30: =AI30/(AW30/AV30) -> 766635.78 | AK30: =AG30+(AJ30*O30)/(1-O$2)+(AJ30*P30)/(1-O$2-AA30)+(AJ30*Q30)/(1-AE30)+(AJ30*R30)/(1-R$2)+(AJ30*S30)/(1-S$2)+(AJ30*T30)/(1-T$2)+(AJ30*U30)/(1-U$2)+(AJ30*V30)/(1-V$2)+(AJ30*W30)/(1-W$2) -> 1.7135807e+08 | AL30: =(AK30*O30*(1-O$2))+(AK30*P30*(1-AA30-O$2))+(AK30*Q30*(1-AE$5))+(AK30*R30*(1-R$2))+(AK30*S30*(1-S$2))+(AK30*T30*(1-T$2))+(AK30*U30*(1-U$2))+(AK30*V30*(1-V$2))+(AK30*W30*(1-W$2)) -> 1.5980558e+08 | AM30: =(AK30*O30*(1-O$2))-(X30*O30*(1-O$2)) -> 767213.4 | AN30: =AM30/((O30*AL30)) -> 0.010707057 | AO30: =AL30-AM30 -> 1.5903837e+08 | AP30: =(((AK30*O30*(1-O$2))/AL30)*AL30)-AM30-(((X30*O30*(1-O$2))/Z30)*Z30) -> 0 | AR30: =1-((((AK30*P30*(1-O$2-AA30))/AL30)*AL30)/(X30*P30)) -> 0.18303489 | AS30: =AR30-$O$2 -> 0.10603489 | AT30: =1-((((AK30*Q30*(1-AE30))/AL30)*AL30)/(X30*Q30)) -> 0.07636188 | AU30: =AT30-$O$2 -> -0.00063812023 | AV30: =$O30*(1-$O$2)+$P30*(1-$O$2-$AA30)+$Q30*(1-$AE30)+$R30*(1-$R$2)+$S30*(1-$S$2)+$T30*(1-$T$2)+$U30*(1-$U$2)+$V30*(1-$V$2)+$W30*(1-$W$2) -> 0.93258276 | AW30: =$P30*(1-$O$2-$AA30)+$Q30*(1-$AE30)+$R30*(1-$R$2)+$S30*(1-$S$2)+$T30*(1-$T$2)+$U30*(1-$U$2)+$V30*(1-$V$2)+$W30*(1-$W$2) -> 0.5187205 | AY30: =(X30*$O30*($O$2)) -> 5852285.6 | AZ30: =(X30*$P30*($O$2)) -> 562332.32 | BA30: =(X30*Q30*($Q$2)) -> 990650.6 | BB30: =(X30*$R30*($R$2)) -> 2314996.5 | BC30: =(X30*$S30*($S$2))+(X30*$T30*($T$2))+(X30*$U30*($U$2))+(X30*$V30*($V$2))+(X30*$W30*($W$2)) -> 747981.87 | BD30: =SUM(AY30:BC30)-(X30-Z30) -> 0 | BF30: =(AK30*$O30*($O$2)) -> 5916289.3 | BG30: =(AK30*$P30*($O$2+$AA30)) -> 1416576.6 | BH30: =(AK30*Q30*($AE30)) -> 1123145.8 | BI30: =(AK30*$R30*($R$2)) -> 2340314.5 | BJ30: =(AK30*$S30*($S$2))+(AK30*$T30*($T$2))+(AK30*$U30*($U$2))+(AK30*$V30*($V$2))+(AK30*$W30*($W$2)) -> 756162.2 | BK30: =SUM(BF30:BJ30)-(AK30-AL30) -> 0 | BM30: =X30 -> 1.6950428e+08 | BN30: =AY30 -> 5852285.6 | BO30: =AZ30 -> 562332.32 | BP30: =BA30 -> 990650.6 | BQ30: =BB30 -> 2314996.5 | BR30: =BC30 -> 747981.87 | BS30: =BM30-SUM(BN30:BR30) -> 1.5903603e+08 | BU30: =AK30 -> 1.7135807e+08 | BV30: =BF30 -> 5916289.3 | BW30: =AM30 -> 767213.4 | BX30: =BG30 -> 1416576.6 | BY30: =BH30 -> 1123145.8 | BZ30: =BI30 -> 2340314.5 | CA30: =BJ30 -> 756162.2 | CB30: =BU30-SUM(BV30:CA30) -> 1.5903837e+08 | CD30: =CB30-BS30 -> 2334.2685 | CE30: =CD30/BS30 -> 1.4677608e-05 | CF30: =($X30*O30) -> 76003709 | CG30: =CF30-AY30 -> 70151423 | CH30: =($AK30*O30)-BF30-AM30 -> 70151423 | CI30: =CH30-CG30 -> 0 | CK30: =1-CH30/CF30 -> 0.077 | CL30: =1-CG30/CF30 -> 0.077
A31: 38 | B31: 210038 | D31: 2.8579943e+08 | E31: 68278746 | F31: 20339146 | G31: 22774516 | H31: 13843662 | I31: 88311634 | J31: 7985594.1 | K31: 19156677 | L31: 2123218.9 | M31: 11763000 | N31: =D31-SUM(E31:M31) -> 31223234 | O31: =E31/$D31 -> 0.23890442 | P31: =F31/$D31 -> 0.071165804 | Q31: =G31/$D31 -> 0.079687059 | R31: =(H31+I31)/$D31 -> 0.35743702 | S31: =J31/$D31 -> 0.027941253 | T31: =K31/$D31 -> 0.067028395 | U31: =L31/$D31 -> 0.0074290523 | V31: =M31/$D31 -> 0.041158235 | W31: =(N31)/$D31 -> 0.10924876 | X31: =Y31*(1-0.4973) -> 1.549557e+08 | Y31: 3.0824687e+08 | Z31: =(X31*O31*(1-O$2))+(X31*P31*(1-O$2))+(X31*Q31*(1-Q$2))+(X31*R31*(1-R$2))+(X31*S31*(1-S$2))+(X31*T31*(1-T$2))+(X31*U31*(1-U$2))+(X31*V31*(1-V$2))+(X31*W31*(1-W$2)) -> 1.4537374e+08 | AA31: =$AA$51 -> 0.114873 | AB31: =(X31*O31*(1-O$2))+(X31*P31*(1-AA31-O$2))+(X31*Q31*(1-Q$2))+(X31*R31*(1-R$2))+(X31*S31*(1-S$2))+(X31*T31*(1-T$2))+(X31*U31*(1-U$2))+(X31*V31*(1-V$2))+(X31*W31*(1-W$2)) -> 1.4410697e+08 | AC31: =((Z31-AB31)*O31/(1-O$2))+((Z31-AB31)*P31/(1-(AA$5+O$2)))+((Z31-AB31)*Q31/(1-Q$2))+((Z31-AB31)*R31/(1-R$2))+((Z31-AB31)*S31/(1-S$2))+((Z31-AB31)*T31/(1-T$2))+((Z31-AB31)*U31/(1-U$2))+((Z31-AB31)*V31/(1-V$2))+((Z31-AB31)*W31/(1-W$2))+X31 -> 1.5632088e+08 | AD31: =(AC31*O31*(1-O$2))+(AC31*P31*(1-AA31-O$2))+(AC31*Q31*(1-Q$2))+(AC31*R31*(1-R$2))+(AC31*S31*(1-S$2))+(AC31*T31*(1-T$2))+(AC31*U31*(1-U$2))+(AC31*V31*(1-V$2))+(AC31*W31*(1-W$2)) -> 1.4537657e+08 | AE31: =$AE$51 -> 0.086354 | AF31: =(AC31*O31*(1-O$2))+(AC31*P31*(1-AA31-O$2))+(AC31*Q31*(1-AE$5))+(AC31*R31*(1-R$2))+(AC31*S31*(1-S$2))+(AC31*T31*(1-T$2))+(AC31*U31*(1-U$2))+(AC31*V31*(1-V$2))+(AC31*W31*(1-W$2)) -> 1.4526005e+08 | AG31: =((AD31-AF31)*O31/(1-O$2))+((AD31-AF31)*P31/(1-(AA$5+O$2)))+((AD31-AF31)*Q31/(1-AE$5))+((AD31-AF31)*R31/(1-R$2))+((AD31-AF31)*S31/(1-S$2))+((AD31-AF31)*T31/(1-T$2))+((AD31-AF31)*U31/(1-U$2))+((AD31-AF31)*V31/(1-V$2))+((AD31-AF31)*W31/(1-W$2))+AC31 -> 1.5644655e+08 | AH31: =(AG31*O31*(1-O$2))+(AG31*P31*(1-AA31-O$2))+(AG31*Q31*(1-AE$5))+(AG31*R31*(1-R$2))+(AG31*S31*(1-S$2))+(AG31*T31*(1-T$2))+(AG31*U31*(1-U$2))+(AG31*V31*(1-V$2))+(AG31*W31*(1-W$2)) -> 1.4537684e+08 | AI31: =(AG31*O31*(1-O$2))-(X31*O31*(1-O$2)) -> 328746.11 | AJ31: =AI31/(AW31/AV31) -> 431029.05 | AK31: =AG31+(AJ31*O31)/(1-O$2)+(AJ31*P31)/(1-O$2-AA31)+(AJ31*Q31)/(1-AE31)+(AJ31*R31)/(1-R$2)+(AJ31*S31)/(1-S$2)+(AJ31*T31)/(1-T$2)+(AJ31*U31)/(1-U$2)+(AJ31*V31)/(1-V$2)+(AJ31*W31)/(1-W$2) -> 1.5691145e+08 | AL31: =(AK31*O31*(1-O$2))+(AK31*P31*(1-AA31-O$2))+(AK31*Q31*(1-AE$5))+(AK31*R31*(1-R$2))+(AK31*S31*(1-S$2))+(AK31*T31*(1-T$2))+(AK31*U31*(1-U$2))+(AK31*V31*(1-V$2))+(AK31*W31*(1-W$2)) -> 1.4580884e+08 | AM31: =(AK31*O31*(1-O$2))-(X31*O31*(1-O$2)) -> 431259.52 | AN31: =AM31/((O31*AL31)) -> 0.012380286 | AO31: =AL31-AM31 -> 1.4537758e+08 | AP31: =(((AK31*O31*(1-O$2))/AL31)*AL31)-AM31-(((X31*O31*(1-O$2))/Z31)*Z31) -> 0 | AR31: =1-((((AK31*P31*(1-O$2-AA31))/AL31)*AL31)/(X31*P31)) -> 0.18167336 | AS31: =AR31-$O$2 -> 0.10467336 | AT31: =1-((((AK31*Q31*(1-AE31))/AL31)*AL31)/(X31*Q31)) -> 0.074822569 | AU31: =AT31-$O$2 -> -0.0021774311 | AV31: =$O31*(1-$O$2)+$P31*(1-$O$2-$AA31)+$Q31*(1-$AE31)+$R31*(1-$R$2)+$S31*(1-$S$2)+$T31*(1-$T$2)+$U31*(1-$U$2)+$V31*(1-$V$2)+$W31*(1-$W$2) -> 0.92924281 | AW31: =$P31*(1-$O$2-$AA31)+$Q31*(1-$AE31)+$R31*(1-$R$2)+$S31*(1-$S$2)+$T31*(1-$T$2)+$U31*(1-$U$2)+$V31*(1-$V$2)+$W31*(1-$W$2) -> 0.70873404 | AY31: =(X31*$O31*($O$2)) -> 2850509.3 | AZ31: =(X31*$P31*($O$2)) -> 849121.12 | BA31: =(X31*Q31*($Q$2)) -> 950793.23 | BB31: =(X31*$R31*($R$2)) -> 4264791.6 | BC31: =(X31*$S31*($S$2))+(X31*$T31*($T$2))+(X31*$U31*($U$2))+(X31*$V31*($V$2))+(X31*$W31*($W$2)) -> 666743.77 | BD31: =SUM(AY31:BC31)-(X31-Z31) -> -3.3527613e-08 | BF31: =(AK31*$O31*($O$2)) -> 2886486.5 | BG31: =(AK31*$P31*($O$2+$AA31)) -> 2142593.9 | BH31: =(AK31*Q31*($AE31)) -> 1079754.2 | BI31: =(AK31*$R31*($R$2)) -> 4318619 | BJ31: =(AK31*$S31*($S$2))+(AK31*$T31*($T$2))+(AK31*$U31*($U$2))+(AK31*$V31*($V$2))+(AK31*$W31*($W$2)) -> 675158.96 | BK31: =SUM(BF31:BJ31)-(AK31-AL31) -> 0 | BM31: =X31 -> 1.549557e+08 | BN31: =AY31 -> 2850509.3 | BO31: =AZ31 -> 849121.12 | BP31: =BA31 -> 950793.23 | BQ31: =BB31 -> 4264791.6 | BR31: =BC31 -> 666743.77 | BS31: =BM31-SUM(BN31:BR31) -> 1.4537374e+08 | BU31: =AK31 -> 1.5691145e+08 | BV31: =BF31 -> 2886486.5 | BW31: =AM31 -> 431259.52 | BX31: =BG31 -> 2142593.9 | BY31: =BH31 -> 1079754.2 | BZ31: =BI31 -> 4318619 | CA31: =BJ31 -> 675158.96 | CB31: =BU31-SUM(BV31:CA31) -> 1.4537758e+08 | CD31: =CB31-BS31 -> 3834.6533 | CE31: =CD31/BS31 -> 2.6377895e-05 | CF31: =($X31*O31) -> 37019601 | CG31: =CF31-AY31 -> 34169092 | CH31: =($AK31*O31)-BF31-AM31 -> 34169092 | CI31: =CH31-CG31 -> 0 | CK31: =1-CH31/CF31 -> 0.077 | CL31: =1-CG31/CF31 -> 0.077
A32: 39 | B32: 210039 | D32: 197883196 | E32: 77504824 | F32: 6187227.9 | G32: 11717727 | H32: 4620170.6 | I32: 21027434 | J32: 10527193 | K32: 21988651 | L32: 802847.8 | M32: 4752502.9 | N32: =D32-SUM(E32:M32) -> 38754619 | O32: =E32/$D32 -> 0.39166956 | P32: =F32/$D32 -> 0.031267071 | Q32: =G32/$D32 -> 0.059215371 | R32: =(H32+I32)/$D32 -> 0.12960981 | S32: =J32/$D32 -> 0.053199025 | T32: =K32/$D32 -> 0.11111934 | U32: =L32/$D32 -> 0.0040571803 | V32: =M32/$D32 -> 0.024016708 | W32: =(N32)/$D32 -> 0.19584593 | X32: =Y32*(1-0.4973) -> 1.0479288e+08 | Y32: 2.0846007e+08 | Z32: =(X32*O32*(1-O$2))+(X32*P32*(1-O$2))+(X32*Q32*(1-Q$2))+(X32*R32*(1-R$2))+(X32*S32*(1-S$2))+(X32*T32*(1-T$2))+(X32*U32*(1-U$2))+(X32*V32*(1-V$2))+(X32*W32*(1-W$2)) -> 99079244 | AA32: =$AA$51 -> 0.114873 | AB32: =(X32*O32*(1-O$2))+(X32*P32*(1-AA32-O$2))+(X32*Q32*(1-Q$2))+(X32*R32*(1-R$2))+(X32*S32*(1-S$2))+(X32*T32*(1-T$2))+(X32*U32*(1-U$2))+(X32*V32*(1-V$2))+(X32*W32*(1-W$2)) -> 98702855 | AC32: =((Z32-AB32)*O32/(1-O$2))+((Z32-AB32)*P32/(1-(AA$5+O$2)))+((Z32-AB32)*Q32/(1-Q$2))+((Z32-AB32)*R32/(1-R$2))+((Z32-AB32)*S32/(1-S$2))+((Z32-AB32)*T32/(1-T$2))+((Z32-AB32)*U32/(1-U$2))+((Z32-AB32)*V32/(1-V$2))+((Z32-AB32)*W32/(1-W$2))+X32 -> 1.0519314e+08 | AD32: =(AC32*O32*(1-O$2))+(AC32*P32*(1-AA32-O$2))+(AC32*Q32*(1-Q$2))+(AC32*R32*(1-R$2))+(AC32*S32*(1-S$2))+(AC32*T32*(1-T$2))+(AC32*U32*(1-U$2))+(AC32*V32*(1-V$2))+(AC32*W32*(1-W$2)) -> 99079855 | AE32: =$AE$51 -> 0.086354 | AF32: =(AC32*O32*(1-O$2))+(AC32*P32*(1-AA32-O$2))+(AC32*Q32*(1-AE$5))+(AC32*R32*(1-R$2))+(AC32*S32*(1-S$2))+(AC32*T32*(1-T$2))+(AC32*U32*(1-U$2))+(AC32*V32*(1-V$2))+(AC32*W32*(1-W$2)) -> 99021588 | AG32: =((AD32-AF32)*O32/(1-O$2))+((AD32-AF32)*P32/(1-(AA$5+O$2)))+((AD32-AF32)*Q32/(1-AE$5))+((AD32-AF32)*R32/(1-R$2))+((AD32-AF32)*S32/(1-S$2))+((AD32-AF32)*T32/(1-T$2))+((AD32-AF32)*U32/(1-U$2))+((AD32-AF32)*V32/(1-V$2))+((AD32-AF32)*W32/(1-W$2))+AC32 -> 1.0525514e+08 | AH32: =(AG32*O32*(1-O$2))+(AG32*P32*(1-AA32-O$2))+(AG32*Q32*(1-AE$5))+(AG32*R32*(1-R$2))+(AG32*S32*(1-S$2))+(AG32*T32*(1-T$2))+(AG32*U32*(1-U$2))+(AG32*V32*(1-V$2))+(AG32*W32*(1-W$2)) -> 99079951 | AI32: =(AG32*O32*(1-O$2))-(X32*O32*(1-O$2)) -> 167112.36 | AJ32: =AI32/(AW32/AV32) -> 271304.92 | AK32: =AG32+(AJ32*O32)/(1-O$2)+(AJ32*P32)/(1-O$2-AA32)+(AJ32*Q32)/(1-AE32)+(AJ32*R32)/(1-R$2)+(AJ32*S32)/(1-S$2)+(AJ32*T32)/(1-T$2)+(AJ32*U32)/(1-U$2)+(AJ32*V32)/(1-V$2)+(AJ32*W32)/(1-W$2) -> 1.0554383e+08 | AL32: =(AK32*O32*(1-O$2))+(AK32*P32*(1-AA32-O$2))+(AK32*Q32*(1-AE$5))+(AK32*R32*(1-R$2))+(AK32*S32*(1-S$2))+(AK32*T32*(1-T$2))+(AK32*U32*(1-U$2))+(AK32*V32*(1-V$2))+(AK32*W32*(1-W$2)) -> 99351704 | AM32: =(AK32*O32*(1-O$2))-(X32*O32*(1-O$2)) -> 271476.97 | AN32: =AM32/((O32*AL32)) -> 0.0069765041 | AO32: =AL32-AM32 -> 99080227 | AP32: =(((AK32*O32*(1-O$2))/AL32)*AL32)-AM32-(((X32*O32*(1-O$2))/Z32)*Z32) -> 0 | AR32: =1-((((AK32*P32*(1-O$2-AA32))/AL32)*AL32)/(X32*P32)) -> 0.18608192 | AS32: =AR32-$O$2 -> 0.10908192 | AT32: =1-((((AK32*Q32*(1-AE32))/AL32)*AL32)/(X32*Q32)) -> 0.079806769 | AU32: =AT32-$O$2 -> 0.0028067688 | AV32: =$O32*(1-$O$2)+$P32*(1-$O$2-$AA32)+$Q32*(1-$AE32)+$R32*(1-$R$2)+$S32*(1-$S$2)+$T32*(1-$T$2)+$U32*(1-$U$2)+$V32*(1-$V$2)+$W32*(1-$W$2) -> 0.94133127 | AW32: =$P32*(1-$O$2-$AA32)+$Q32*(1-$AE32)+$R32*(1-$R$2)+$S32*(1-$S$2)+$T32*(1-$T$2)+$U32*(1-$U$2)+$V32*(1-$V$2)+$W32*(1-$W$2) -> 0.57982027 | AY32: =(X32*$O32*($O$2)) -> 3160401.8 | AZ32: =(X32*$P32*($O$2)) -> 252295.6 | BA32: =(X32*Q32*($Q$2)) -> 477811.87 | BB32: =(X32*$R32*($R$2)) -> 1045828.2 | BC32: =(X32*$S32*($S$2))+(X32*$T32*($T$2))+(X32*$U32*($U$2))+(X32*$V32*($V$2))+(X32*$W32*($W$2)) -> 777293.52 | BD32: =SUM(AY32:BC32)-(X32-Z32) -> 9.3132257e-09 | BF32: =(AK32*$O32*($O$2)) -> 3183049.4 | BG32: =(AK32*$P32*($O$2+$AA32)) -> 633189.78 | BH32: =(AK32*Q32*($AE32)) -> 539696.68 | BI32: =(AK32*$R32*($R$2)) -> 1053322.7 | BJ32: =(AK32*$S32*($S$2))+(AK32*$T32*($T$2))+(AK32*$U32*($U$2))+(AK32*$V32*($V$2))+(AK32*$W32*($W$2)) -> 782863.64 | BK32: =SUM(BF32:BJ32)-(AK32-AL32) -> 0 | BM32: =X32 -> 1.0479288e+08 | BN32: =AY32 -> 3160401.8 | BO32: =AZ32 -> 252295.6 | BP32: =BA32 -> 477811.87 | BQ32: =BB32 -> 1045828.2 | BR32: =BC32 -> 777293.52 | BS32: =BM32-SUM(BN32:BR32) -> 99079244 | BU32: =AK32 -> 1.0554383e+08 | BV32: =BF32 -> 3183049.4 | BW32: =AM32 -> 271476.97 | BX32: =BG32 -> 633189.78 | BY32: =BH32 -> 539696.68 | BZ32: =BI32 -> 1053322.7 | CA32: =BJ32 -> 782863.64 | CB32: =BU32-SUM(BV32:CA32) -> 99080227 | CD32: =CB32-BS32 -> 982.65869 | CE32: =CD32/BS32 -> 9.9179066e-06 | CF32: =($X32*O32) -> 41044179 | CG32: =CF32-AY32 -> 37883777 | CH32: =($AK32*O32)-BF32-AM32 -> 37883777 | CI32: =CH32-CG32 -> 0 | CK32: =1-CH32/CF32 -> 0.077 | CL32: =1-CG32/CF32 -> 0.077
A33: 40 | B33: 210040 | D33: 3.2231679e+08 | E33: 1.1863077e+08 | F33: 23569617 | G33: 29823273 | H33: 12438050 | I33: 52220886 | J33: 7924276 | K33: 18569972 | L33: 0 | M33: 14047800 | N33: =D33-SUM(E33:M33) -> 45092148 | O33: =E33/$D33 -> 0.36805643 | P33: =F33/$D33 -> 0.073125625 | Q33: =G33/$D33 -> 0.09252783 | R33: =(H33+I33)/$D33 -> 0.20060679 | S33: =J33/$D33 -> 0.024585365 | T33: =K33/$D33 -> 0.057614039 | U33: =L33/$D33 -> 0 | V33: =M33/$D33 -> 0.043583829 | W33: =(N33)/$D33 -> 0.13990009 | X33: =Y33*(1-0.4973) -> 1.749591e+08 | Y33: 3.480388e+08 | Z33: =(X33*O33*(1-O$2))+(X33*P33*(1-O$2))+(X33*Q33*(1-Q$2))+(X33*R33*(1-R$2))+(X33*S33*(1-S$2))+(X33*T33*(1-T$2))+(X33*U33*(1-U$2))+(X33*V33*(1-V$2))+(X33*W33*(1-W$2)) -> 1.6427858e+08 | AA33: =$AA$51 -> 0.114873 | AB33: =(X33*O33*(1-O$2))+(X33*P33*(1-AA33-O$2))+(X33*Q33*(1-Q$2))+(X33*R33*(1-R$2))+(X33*S33*(1-S$2))+(X33*T33*(1-T$2))+(X33*U33*(1-U$2))+(X33*V33*(1-V$2))+(X33*W33*(1-W$2)) -> 1.628089e+08 | AC33: =((Z33-AB33)*O33/(1-O$2))+((Z33-AB33)*P33/(1-(AA$5+O$2)))+((Z33-AB33)*Q33/(1-Q$2))+((Z33-AB33)*R33/(1-R$2))+((Z33-AB33)*S33/(1-S$2))+((Z33-AB33)*T33/(1-T$2))+((Z33-AB33)*U33/(1-U$2))+((Z33-AB33)*V33/(1-V$2))+((Z33-AB33)*W33/(1-W$2))+X33 -> 1.7654213e+08 | AD33: =(AC33*O33*(1-O$2))+(AC33*P33*(1-AA33-O$2))+(AC33*Q33*(1-Q$2))+(AC33*R33*(1-R$2))+(AC33*S33*(1-S$2))+(AC33*T33*(1-T$2))+(AC33*U33*(1-U$2))+(AC33*V33*(1-V$2))+(AC33*W33*(1-W$2)) -> 1.6428198e+08 | AE33: =$AE$51 -> 0.086354 | AF33: =(AC33*O33*(1-O$2))+(AC33*P33*(1-AA33-O$2))+(AC33*Q33*(1-AE$5))+(AC33*R33*(1-R$2))+(AC33*S33*(1-S$2))+(AC33*T33*(1-T$2))+(AC33*U33*(1-U$2))+(AC33*V33*(1-V$2))+(AC33*W33*(1-W$2)) -> 1.6412919e+08 | AG33: =((AD33-AF33)*O33/(1-O$2))+((AD33-AF33)*P33/(1-(AA$5+O$2)))+((AD33-AF33)*Q33/(1-AE$5))+((AD33-AF33)*R33/(1-R$2))+((AD33-AF33)*S33/(1-S$2))+((AD33-AF33)*T33/(1-T$2))+((AD33-AF33)*U33/(1-U$2))+((AD33-AF33)*V33/(1-V$2))+((AD33-AF33)*W33/(1-W$2))+AC33 -> 1.7670687e+08 | AH33: =(AG33*O33*(1-O$2))+(AG33*P33*(1-AA33-O$2))+(AG33*Q33*(1-AE$5))+(AG33*R33*(1-R$2))+(AG33*S33*(1-S$2))+(AG33*T33*(1-T$2))+(AG33*U33*(1-U$2))+(AG33*V33*(1-V$2))+(AG33*W33*(1-W$2)) -> 1.6428234e+08 | AI33: =(AG33*O33*(1-O$2))-(X33*O33*(1-O$2)) -> 593742.84 | AJ33: =AI33/(AW33/AV33) -> 935630.01 | AK33: =AG33+(AJ33*O33)/(1-O$2)+(AJ33*P33)/(1-O$2-AA33)+(AJ33*Q33)/(1-AE33)+(AJ33*R33)/(1-R$2)+(AJ33*S33)/(1-S$2)+(AJ33*T33)/(1-T$2)+(AJ33*U33)/(1-U$2)+(AJ33*V33)/(1-V$2)+(AJ33*W33)/(1-W$2) -> 1.7771561e+08 | AL33: =(AK33*O33*(1-O$2))+(AK33*P33*(1-AA33-O$2))+(AK33*Q33*(1-AE$5))+(AK33*R33*(1-R$2))+(AK33*S33*(1-S$2))+(AK33*T33*(1-T$2))+(AK33*U33*(1-U$2))+(AK33*V33*(1-V$2))+(AK33*W33*(1-W$2)) -> 1.6522016e+08 | AM33: =(AK33*O33*(1-O$2))-(X33*O33*(1-O$2)) -> 936429.45 | AN33: =AM33/((O33*AL33)) -> 0.015399181 | AO33: =AL33-AM33 -> 1.6428373e+08 | AP33: =(((AK33*O33*(1-O$2))/AL33)*AL33)-AM33-(((X33*O33*(1-O$2))/Z33)*Z33) -> 0 | AR33: =1-((((AK33*P33*(1-O$2-AA33))/AL33)*AL33)/(X33*P33)) -> 0.17914084 | AS33: =AR33-$O$2 -> 0.10214084 | AT33: =1-((((AK33*Q33*(1-AE33))/AL33)*AL33)/(X33*Q33)) -> 0.071959375 | AU33: =AT33-$O$2 -> -0.0050406251 | AV33: =$O33*(1-$O$2)+$P33*(1-$O$2-$AA33)+$Q33*(1-$AE33)+$R33*(1-$R$2)+$S33*(1-$S$2)+$T33*(1-$T$2)+$U33*(1-$U$2)+$V33*(1-$V$2)+$W33*(1-$W$2) -> 0.9296885 | AW33: =$P33*(1-$O$2-$AA33)+$Q33*(1-$AE33)+$R33*(1-$R$2)+$S33*(1-$S$2)+$T33*(1-$T$2)+$U33*(1-$U$2)+$V33*(1-$V$2)+$W33*(1-$W$2) -> 0.58997241 | AY33: =(X33*$O33*($O$2)) -> 4958401.5 | AZ33: =(X33*$P33*($O$2)) -> 985137.53 | BA33: =(X33*Q33*($Q$2)) -> 1246521.2 | BB33: =(X33*$R33*($R$2)) -> 2702544.8 | BC33: =(X33*$S33*($S$2))+(X33*$T33*($T$2))+(X33*$U33*($U$2))+(X33*$V33*($V$2))+(X33*$W33*($W$2)) -> 787920.15 | BD33: =SUM(AY33:BC33)-(X33-Z33) -> 0 | BF33: =(AK33*$O33*($O$2)) -> 5036521.8 | BG33: =(AK33*$P33*($O$2+$AA33)) -> 2493498.1 | BH33: =(AK33*Q33*($AE33)) -> 1419974.1 | BI33: =(AK33*$R33*($R$2)) -> 2745123.7 | BJ33: =(AK33*$S33*($S$2))+(AK33*$T33*($T$2))+(AK33*$U33*($U$2))+(AK33*$V33*($V$2))+(AK33*$W33*($W$2)) -> 800333.95 | BK33: =SUM(BF33:BJ33)-(AK33-AL33) -> 0 | BM33: =X33 -> 1.749591e+08 | BN33: =AY33 -> 4958401.5 | BO33: =AZ33 -> 985137.53 | BP33: =BA33 -> 1246521.2 | BQ33: =BB33 -> 2702544.8 | BR33: =BC33 -> 787920.15 | BS33: =BM33-SUM(BN33:BR33) -> 1.6427858e+08 | BU33: =AK33 -> 1.7771561e+08 | BV33: =BF33 -> 5036521.8 | BW33: =AM33 -> 936429.45 | BX33: =BG33 -> 2493498.1 | BY33: =BH33 -> 1419974.1 | BZ33: =BI33 -> 2745123.7 | CA33: =BJ33 -> 800333.95 | CB33: =BU33-SUM(BV33:CA33) -> 1.6428373e+08 | CD33: =CB33-BS33 -> 5150.0079 | CE33: =CD33/BS33 -> 3.1349236e-05 | CF33: =($X33*O33) -> 64394824 | CG33: =CF33-AY33 -> 59436423 | CH33: =($AK33*O33)-BF33-AM33 -> 59436423 | CI33: =CH33-CG33 -> 0 | CK33: =1-CH33/CF33 -> 0.077 | CL33: =1-CG33/CF33 -> 0.077
A34: 43 | B34: 210043 | D34: 5.5461209e+08 | E34: 1.8225763e+08 | F34: 42939073 | G34: 40784591 | H34: 18505679 | I34: 85056374 | J34: 30316916 | K34: 35822698 | L34: 2113631.4 | M34: 23635000 | N34: =D34-SUM(E34:M34) -> 93180503 | O34: =E34/$D34 -> 0.3286218 | P34: =F34/$D34 -> 0.077421812 | Q34: =G34/$D34 -> 0.073537148 | R34: =(H34+I34)/$D34 -> 0.1867288 | S34: =J34/$D34 -> 0.05466328 | T34: =K34/$D34 -> 0.064590547 | U34: =L34/$D34 -> 0.0038110085 | V34: =M34/$D34 -> 0.042615371 | W34: =(N34)/$D34 -> 0.16801023 | X34: =Y34*(1-0.4973) -> 3.1848205e+08 | Y34: 6.3354297e+08 | Z34: =(X34*O34*(1-O$2))+(X34*P34*(1-O$2))+(X34*Q34*(1-Q$2))+(X34*R34*(1-R$2))+(X34*S34*(1-S$2))+(X34*T34*(1-T$2))+(X34*U34*(1-U$2))+(X34*V34*(1-V$2))+(X34*W34*(1-W$2)) -> 3.0024449e+08 | AA34: =$AA$51 -> 0.114873 | AB34: =(X34*O34*(1-O$2))+(X34*P34*(1-AA34-O$2))+(X34*Q34*(1-Q$2))+(X34*R34*(1-R$2))+(X34*S34*(1-S$2))+(X34*T34*(1-T$2))+(X34*U34*(1-U$2))+(X34*V34*(1-V$2))+(X34*W34*(1-W$2)) -> 2.9741202e+08 | AC34: =((Z34-AB34)*O34/(1-O$2))+((Z34-AB34)*P34/(1-(AA$5+O$2)))+((Z34-AB34)*Q34/(1-Q$2))+((Z34-AB34)*R34/(1-R$2))+((Z34-AB34)*S34/(1-S$2))+((Z34-AB34)*T34/(1-T$2))+((Z34-AB34)*U34/(1-U$2))+((Z34-AB34)*V34/(1-V$2))+((Z34-AB34)*W34/(1-W$2))+X34 -> 3.2152297e+08 | AD34: =(AC34*O34*(1-O$2))+(AC34*P34*(1-AA34-O$2))+(AC34*Q34*(1-Q$2))+(AC34*R34*(1-R$2))+(AC34*S34*(1-S$2))+(AC34*T34*(1-T$2))+(AC34*U34*(1-U$2))+(AC34*V34*(1-V$2))+(AC34*W34*(1-W$2)) -> 3.0025176e+08 | AE34: =$AE$51 -> 0.086354 | AF34: =(AC34*O34*(1-O$2))+(AC34*P34*(1-AA34-O$2))+(AC34*Q34*(1-AE$5))+(AC34*R34*(1-R$2))+(AC34*S34*(1-S$2))+(AC34*T34*(1-T$2))+(AC34*U34*(1-U$2))+(AC34*V34*(1-V$2))+(AC34*W34*(1-W$2)) -> 3.000306e+08 | AG34: =((AD34-AF34)*O34/(1-O$2))+((AD34-AF34)*P34/(1-(AA$5+O$2)))+((AD34-AF34)*Q34/(1-AE$5))+((AD34-AF34)*R34/(1-R$2))+((AD34-AF34)*S34/(1-S$2))+((AD34-AF34)*T34/(1-T$2))+((AD34-AF34)*U34/(1-U$2))+((AD34-AF34)*V34/(1-V$2))+((AD34-AF34)*W34/(1-W$2))+AC34 -> 3.2176059e+08 | AH34: =(AG34*O34*(1-O$2))+(AG34*P34*(1-AA34-O$2))+(AG34*Q34*(1-AE$5))+(AG34*R34*(1-R$2))+(AG34*S34*(1-S$2))+(AG34*T34*(1-T$2))+(AG34*U34*(1-U$2))+(AG34*V34*(1-V$2))+(AG34*W34*(1-W$2)) -> 3.0025233e+08 | AI34: =(AG34*O34*(1-O$2))-(X34*O34*(1-O$2)) -> 994441.74 | AJ34: =AI34/(AW34/AV34) -> 1473347 | AK34: =AG34+(AJ34*O34)/(1-O$2)+(AJ34*P34)/(1-O$2-AA34)+(AJ34*Q34)/(1-AE34)+(AJ34*R34)/(1-R$2)+(AJ34*S34)/(1-S$2)+(AJ34*T34)/(1-T$2)+(AJ34*U34)/(1-U$2)+(AJ34*V34)/(1-V$2)+(AJ34*W34)/(1-W$2) -> 3.2334357e+08 | AL34: =(AK34*O34*(1-O$2))+(AK34*P34*(1-AA34-O$2))+(AK34*Q34*(1-AE$5))+(AK34*R34*(1-R$2))+(AK34*S34*(1-S$2))+(AK34*T34*(1-T$2))+(AK34*U34*(1-U$2))+(AK34*V34*(1-V$2))+(AK34*W34*(1-W$2)) -> 3.017295e+08 | AM34: =(AK34*O34*(1-O$2))-(X34*O34*(1-O$2)) -> 1474586.7 | AN34: =AM34/((O34*AL34)) -> 0.014871547 | AO34: =AL34-AM34 -> 3.0025491e+08 | AP34: =(((AK34*O34*(1-O$2))/AL34)*AL34)-AM34-(((X34*O34*(1-O$2))/Z34)*Z34) -> 0 | AR34: =1-((((AK34*P34*(1-O$2-AA34))/AL34)*AL34)/(X34*P34)) -> 0.17953721 | AS34: =AR34-$O$2 -> 0.10253721 | AT34: =1-((((AK34*Q34*(1-AE34))/AL34)*AL34)/(X34*Q34)) -> 0.0724075 | AU34: =AT34-$O$2 -> -0.0045924997 | AV34: =$O34*(1-$O$2)+$P34*(1-$O$2-$AA34)+$Q34*(1-$AE34)+$R34*(1-$R$2)+$S34*(1-$S$2)+$T34*(1-$T$2)+$U34*(1-$U$2)+$V34*(1-$V$2)+$W34*(1-$W$2) -> 0.93315446 | AW34: =$P34*(1-$O$2-$AA34)+$Q34*(1-$AE34)+$R34*(1-$R$2)+$S34*(1-$S$2)+$T34*(1-$T$2)+$U34*(1-$U$2)+$V34*(1-$V$2)+$W34*(1-$W$2) -> 0.62983654 | AY34: =(X34*$O34*($O$2)) -> 8058831.2 | AZ34: =(X34*$P34*($O$2)) -> 1898624.2 | BA34: =(X34*Q34*($Q$2)) -> 1803360.1 | BB34: =(X34*$R34*($R$2)) -> 4579172.5 | BC34: =(X34*$S34*($S$2))+(X34*$T34*($T$2))+(X34*$U34*($U$2))+(X34*$V34*($V$2))+(X34*$W34*($W$2)) -> 1897566.8 | BD34: =SUM(AY34:BC34)-(X34-Z34) -> 4.0978193e-08 | BF34: =(AK34*$O34*($O$2)) -> 8181846.6 | BG34: =(AK34*$P34*($O$2+$AA34)) -> 4803319 | BH34: =(AK34*Q34*($AE34)) -> 2053305 | BI34: =(AK34*$R34*($R$2)) -> 4649072 | BJ34: =(AK34*$S34*($S$2))+(AK34*$T34*($T$2))+(AK34*$U34*($U$2))+(AK34*$V34*($V$2))+(AK34*$W34*($W$2)) -> 1926532.5 | BK34: =SUM(BF34:BJ34)-(AK34-AL34) -> 0 | BM34: =X34 -> 3.1848205e+08 | BN34: =AY34 -> 8058831.2 | BO34: =AZ34 -> 1898624.2 | BP34: =BA34 -> 1803360.1 | BQ34: =BB34 -> 4579172.5 | BR34: =BC34 -> 1897566.8 | BS34: =BM34-SUM(BN34:BR34) -> 3.0024449e+08 | BU34: =AK34 -> 3.2334357e+08 | BV34: =BF34 -> 8181846.6 | BW34: =AM34 -> 1474586.7 | BX34: =BG34 -> 4803319 | BY34: =BH34 -> 2053305 | BZ34: =BI34 -> 4649072 | CA34: =BJ34 -> 1926532.5 | CB34: =BU34-SUM(BV34:CA34) -> 3.0025491e+08 | CD34: =CB34-BS34 -> 10414.732 | CE34: =CD34/BS34 -> 3.4687505e-05 | CF34: =($X34*O34) -> 1.0466015e+08 | CG34: =CF34-AY34 -> 96601314 | CH34: =($AK34*O34)-BF34-AM34 -> 96601314 | CI34: =CH34-CG34 -> 0 | CK34: =1-CH34/CF34 -> 0.077 | CL34: =1-CG34/CF34 -> 0.077
A35: 44 | B35: 210044 | D35: 534931449 | E35: 164292248 | F35: 45222433 | G35: 14383855 | H35: 8366954.4 | I35: 64426934 | J35: 15686421 | K35: 21793005 | L35: 110224.8 | M35: 15175889 | N35: =D35-SUM(E35:M35) -> 1.8547348e+08 | O35: =E35/$D35 -> 0.30712767 | P35: =F35/$D35 -> 0.084538745 | Q35: =G35/$D35 -> 0.026889155 | R35: =(H35+I35)/$D35 -> 0.13608078 | S35: =J35/$D35 -> 0.02932417 | T35: =K35/$D35 -> 0.040739809 | U35: =L35/$D35 -> 0.00020605407 | V35: =M35/$D35 -> 0.028369783 | W35: =(N35)/$D35 -> 0.34672384 | X35: =Y35*(1-0.4973) -> 3.0087889e+08 | Y35: 5.9852574e+08 | Z35: =(X35*O35*(1-O$2))+(X35*P35*(1-O$2))+(X35*Q35*(1-Q$2))+(X35*R35*(1-R$2))+(X35*S35*(1-S$2))+(X35*T35*(1-T$2))+(X35*U35*(1-U$2))+(X35*V35*(1-V$2))+(X35*W35*(1-W$2)) -> 2.854979e+08 | AA35: =$AA$51 -> 0.114873 | AB35: =(X35*O35*(1-O$2))+(X35*P35*(1-AA35-O$2))+(X35*Q35*(1-Q$2))+(X35*R35*(1-R$2))+(X35*S35*(1-S$2))+(X35*T35*(1-T$2))+(X35*U35*(1-U$2))+(X35*V35*(1-V$2))+(X35*W35*(1-W$2)) -> 2.82576e+08 | AC35: =((Z35-AB35)*O35/(1-O$2))+((Z35-AB35)*P35/(1-(AA$5+O$2)))+((Z35-AB35)*Q35/(1-Q$2))+((Z35-AB35)*R35/(1-R$2))+((Z35-AB35)*S35/(1-S$2))+((Z35-AB35)*T35/(1-T$2))+((Z35-AB35)*U35/(1-U$2))+((Z35-AB35)*V35/(1-V$2))+((Z35-AB35)*W35/(1-W$2))+X35 -> 3.0399912e+08 | AD35: =(AC35*O35*(1-O$2))+(AC35*P35*(1-AA35-O$2))+(AC35*Q35*(1-Q$2))+(AC35*R35*(1-R$2))+(AC35*S35*(1-S$2))+(AC35*T35*(1-T$2))+(AC35*U35*(1-U$2))+(AC35*V35*(1-V$2))+(AC35*W35*(1-W$2)) -> 2.8550642e+08 | AE35: =$AE$51 -> 0.086354 | AF35: =(AC35*O35*(1-O$2))+(AC35*P35*(1-AA35-O$2))+(AC35*Q35*(1-AE$5))+(AC35*R35*(1-R$2))+(AC35*S35*(1-S$2))+(AC35*T35*(1-T$2))+(AC35*U35*(1-U$2))+(AC35*V35*(1-V$2))+(AC35*W35*(1-W$2)) -> 2.8542996e+08 | AG35: =((AD35-AF35)*O35/(1-O$2))+((AD35-AF35)*P35/(1-(AA$5+O$2)))+((AD35-AF35)*Q35/(1-AE$5))+((AD35-AF35)*R35/(1-R$2))+((AD35-AF35)*S35/(1-S$2))+((AD35-AF35)*T35/(1-T$2))+((AD35-AF35)*U35/(1-U$2))+((AD35-AF35)*V35/(1-V$2))+((AD35-AF35)*W35/(1-W$2))+AC35 -> 3.0408079e+08 | AH35: =(AG35*O35*(1-O$2))+(AG35*P35*(1-AA35-O$2))+(AG35*Q35*(1-AE$5))+(AG35*R35*(1-R$2))+(AG35*S35*(1-S$2))+(AG35*T35*(1-T$2))+(AG35*U35*(1-U$2))+(AG35*V35*(1-V$2))+(AG35*W35*(1-W$2)) -> 2.8550665e+08 | AI35: =(AG35*O35*(1-O$2))-(X35*O35*(1-O$2)) -> 907671.52 | AJ35: =AI35/(AW35/AV35) -> 1300241.9 | AK35: =AG35+(AJ35*O35)/(1-O$2)+(AJ35*P35)/(1-O$2-AA35)+(AJ35*Q35)/(1-AE35)+(AJ35*R35)/(1-R$2)+(AJ35*S35)/(1-S$2)+(AJ35*T35)/(1-T$2)+(AJ35*U35)/(1-U$2)+(AJ35*V35)/(1-V$2)+(AJ35*W35)/(1-W$2) -> 3.0546968e+08 | AL35: =(AK35*O35*(1-O$2))+(AK35*P35*(1-AA35-O$2))+(AK35*Q35*(1-AE$5))+(AK35*R35*(1-R$2))+(AK35*S35*(1-S$2))+(AK35*T35*(1-T$2))+(AK35*U35*(1-U$2))+(AK35*V35*(1-V$2))+(AK35*W35*(1-W$2)) -> 2.8681069e+08 | AM35: =(AK35*O35*(1-O$2))-(X35*O35*(1-O$2)) -> 1301391 | AN35: =AM35/((O35*AL35)) -> 0.014773844 | AO35: =AL35-AM35 -> 2.855093e+08 | AP35: =(((AK35*O35*(1-O$2))/AL35)*AL35)-AM35-(((X35*O35*(1-O$2))/Z35)*Z35) -> 0 | AR35: =1-((((AK35*P35*(1-O$2-AA35))/AL35)*AL35)/(X35*P35)) -> 0.17954266 | AS35: =AR35-$O$2 -> 0.10254266 | AT35: =1-((((AK35*Q35*(1-AE35))/AL35)*AL35)/(X35*Q35)) -> 0.072413659 | AU35: =AT35-$O$2 -> -0.0045863405 | AV35: =$O35*(1-$O$2)+$P35*(1-$O$2-$AA35)+$Q35*(1-$AE35)+$R35*(1-$R$2)+$S35*(1-$S$2)+$T35*(1-$T$2)+$U35*(1-$U$2)+$V35*(1-$V$2)+$W35*(1-$W$2) -> 0.93891707 | AW35: =$P35*(1-$O$2-$AA35)+$Q35*(1-$AE35)+$R35*(1-$R$2)+$S35*(1-$S$2)+$T35*(1-$T$2)+$U35*(1-$U$2)+$V35*(1-$V$2)+$W35*(1-$W$2) -> 0.65543824 | AY35: =(X35*$O35*($O$2)) -> 7115433.8 | AZ35: =(X35*$P35*($O$2)) -> 1958566.1 | BA35: =(X35*Q35*($Q$2)) -> 622959.19 | BB35: =(X35*$R35*($R$2)) -> 3152675.2 | BC35: =(X35*$S35*($S$2))+(X35*$T35*($T$2))+(X35*$U35*($U$2))+(X35*$V35*($V$2))+(X35*$W35*($W$2)) -> 2531350.6 | BD35: =SUM(AY35:BC35)-(X35-Z35) -> -1.4901161e-08 | BF35: =(AK35*$O35*($O$2)) -> 7224000.5 | BG35: =(AK35*$P35*($O$2+$AA35)) -> 4954932.8 | BH35: =(AK35*Q35*($AE35)) -> 709296.34 | BI35: =(AK35*$R35*($R$2)) -> 3200778.5 | BJ35: =(AK35*$S35*($S$2))+(AK35*$T35*($T$2))+(AK35*$U35*($U$2))+(AK35*$V35*($V$2))+(AK35*$W35*($W$2)) -> 2569973.8 | BK35: =SUM(BF35:BJ35)-(AK35-AL35) -> 0 | BM35: =X35 -> 3.0087889e+08 | BN35: =AY35 -> 7115433.8 | BO35: =AZ35 -> 1958566.1 | BP35: =BA35 -> 622959.19 | BQ35: =BB35 -> 3152675.2 | BR35: =BC35 -> 2531350.6 | BS35: =BM35-SUM(BN35:BR35) -> 2.854979e+08 | BU35: =AK35 -> 3.0546968e+08 | BV35: =BF35 -> 7224000.5 | BW35: =AM35 -> 1301391 | BX35: =BG35 -> 4954932.8 | BY35: =BH35 -> 709296.34 | BZ35: =BI35 -> 3200778.5 | CA35: =BJ35 -> 2569973.8 | CB35: =BU35-SUM(BV35:CA35) -> 2.855093e+08 | CD35: =CB35-BS35 -> 11399.057 | CE35: =CD35/BS35 -> 3.9926937e-05 | CF35: =($X35*O35) -> 92408231 | CG35: =CF35-AY35 -> 85292797 | CH35: =($AK35*O35)-BF35-AM35 -> 85292797 | CI35: =CH35-CG35 -> 0 | CK35: =1-CH35/CF35 -> 0.077 | CL35: =1-CG35/CF35 -> 0.077
A36: 48 | B36: 210048 | D36: 4.0134334e+08 | E36: 1.2140796e+08 | F36: 15794341 | G36: 16266881 | H36: 19432638 | I36: 40638411 | J36: 26725304 | K36: 22983881 | L36: 2006012 | M36: 17983000 | N36: =D36-SUM(E36:M36) -> 1.1810491e+08 | O36: =E36/$D36 -> 0.30250399 | P36: =F36/$D36 -> 0.03935369 | Q36: =G36/$D36 -> 0.040531085 | R36: =(H36+I36)/$D36 -> 0.14967496 | S36: =J36/$D36 -> 0.06658963 | T36: =K36/$D36 -> 0.057267378 | U36: =L36/$D36 -> 0.0049982441 | V36: =M36/$D36 -> 0.044807022 | W36: =(N36)/$D36 -> 0.294274 | X36: =Y36*(1-0.4973) -> 2.238806e+08 | Y36: 4.4535628e+08 | Z36: =(X36*O36*(1-O$2))+(X36*P36*(1-O$2))+(X36*Q36*(1-Q$2))+(X36*R36*(1-R$2))+(X36*S36*(1-S$2))+(X36*T36*(1-T$2))+(X36*U36*(1-U$2))+(X36*V36*(1-V$2))+(X36*W36*(1-W$2)) -> 2.1277658e+08 | AA36: =$AA$51 -> 0.114873 | AB36: =(X36*O36*(1-O$2))+(X36*P36*(1-AA36-O$2))+(X36*Q36*(1-Q$2))+(X36*R36*(1-R$2))+(X36*S36*(1-S$2))+(X36*T36*(1-T$2))+(X36*U36*(1-U$2))+(X36*V36*(1-V$2))+(X36*W36*(1-W$2)) -> 2.1176449e+08 | AC36: =((Z36-AB36)*O36/(1-O$2))+((Z36-AB36)*P36/(1-(AA$5+O$2)))+((Z36-AB36)*Q36/(1-Q$2))+((Z36-AB36)*R36/(1-R$2))+((Z36-AB36)*S36/(1-S$2))+((Z36-AB36)*T36/(1-T$2))+((Z36-AB36)*U36/(1-U$2))+((Z36-AB36)*V36/(1-V$2))+((Z36-AB36)*W36/(1-W$2))+X36 -> 2.2495266e+08 | AD36: =(AC36*O36*(1-O$2))+(AC36*P36*(1-AA36-O$2))+(AC36*Q36*(1-Q$2))+(AC36*R36*(1-R$2))+(AC36*S36*(1-S$2))+(AC36*T36*(1-T$2))+(AC36*U36*(1-U$2))+(AC36*V36*(1-V$2))+(AC36*W36*(1-W$2)) -> 2.1277853e+08 | AE36: =$AE$51 -> 0.086354 | AF36: =(AC36*O36*(1-O$2))+(AC36*P36*(1-AA36-O$2))+(AC36*Q36*(1-AE$5))+(AC36*R36*(1-R$2))+(AC36*S36*(1-S$2))+(AC36*T36*(1-T$2))+(AC36*U36*(1-U$2))+(AC36*V36*(1-V$2))+(AC36*W36*(1-W$2)) -> 2.1269325e+08 | AG36: =((AD36-AF36)*O36/(1-O$2))+((AD36-AF36)*P36/(1-(AA$5+O$2)))+((AD36-AF36)*Q36/(1-AE$5))+((AD36-AF36)*R36/(1-R$2))+((AD36-AF36)*S36/(1-S$2))+((AD36-AF36)*T36/(1-T$2))+((AD36-AF36)*U36/(1-U$2))+((AD36-AF36)*V36/(1-V$2))+((AD36-AF36)*W36/(1-W$2))+AC36 -> 2.2504304e+08 | AH36: =(AG36*O36*(1-O$2))+(AG36*P36*(1-AA36-O$2))+(AG36*Q36*(1-AE$5))+(AG36*R36*(1-R$2))+(AG36*S36*(1-S$2))+(AG36*T36*(1-T$2))+(AG36*U36*(1-U$2))+(AG36*V36*(1-V$2))+(AG36*W36*(1-W$2)) -> 2.127787e+08 | AI36: =(AG36*O36*(1-O$2))-(X36*O36*(1-O$2)) -> 324566.97 | AJ36: =AI36/(AW36/AV36) -> 460577.7 | AK36: =AG36+(AJ36*O36)/(1-O$2)+(AJ36*P36)/(1-O$2-AA36)+(AJ36*Q36)/(1-AE36)+(AJ36*R36)/(1-R$2)+(AJ36*S36)/(1-S$2)+(AJ36*T36)/(1-T$2)+(AJ36*U36)/(1-U$2)+(AJ36*V36)/(1-V$2)+(AJ36*W36)/(1-W$2) -> 2.2553112e+08 | AL36: =(AK36*O36*(1-O$2))+(AK36*P36*(1-AA36-O$2))+(AK36*Q36*(1-AE$5))+(AK36*R36*(1-R$2))+(AK36*S36*(1-S$2))+(AK36*T36*(1-T$2))+(AK36*U36*(1-U$2))+(AK36*V36*(1-V$2))+(AK36*W36*(1-W$2)) -> 2.1324018e+08 | AM36: =(AK36*O36*(1-O$2))-(X36*O36*(1-O$2)) -> 460843.52 | AN36: =AM36/((O36*AL36)) -> 0.0071441956 | AO36: =AL36-AM36 -> 2.1277933e+08 | AP36: =(((AK36*O36*(1-O$2))/AL36)*AL36)-AM36-(((X36*O36*(1-O$2))/Z36)*Z36) -> 0 | AR36: =1-((((AK36*P36*(1-O$2-AA36))/AL36)*AL36)/(X36*P36)) -> 0.18591523 | AS36: =AR36-$O$2 -> 0.10891523 | AT36: =1-((((AK36*Q36*(1-AE36))/AL36)*AL36)/(X36*Q36)) -> 0.079618309 | AU36: =AT36-$O$2 -> 0.0026183088 | AV36: =$O36*(1-$O$2)+$P36*(1-$O$2-$AA36)+$Q36*(1-$AE36)+$R36*(1-$R$2)+$S36*(1-$S$2)+$T36*(1-$T$2)+$U36*(1-$U$2)+$V36*(1-$V$2)+$W36*(1-$W$2) -> 0.94550223 | AW36: =$P36*(1-$O$2-$AA36)+$Q36*(1-$AE36)+$R36*(1-$R$2)+$S36*(1-$S$2)+$T36*(1-$T$2)+$U36*(1-$U$2)+$V36*(1-$V$2)+$W36*(1-$W$2) -> 0.66629105 | AY36: =(X36*$O36*($O$2)) -> 5214807.7 | AZ36: =(X36*$P36*($O$2)) -> 678410.63 | BA36: =(X36*Q36*($Q$2)) -> 698707.52 | BB36: =(X36*$R36*($R$2)) -> 2580217.7 | BC36: =(X36*$S36*($S$2))+(X36*$T36*($T$2))+(X36*$U36*($U$2))+(X36*$V36*($V$2))+(X36*$W36*($W$2)) -> 1931878.9 | BD36: =SUM(AY36:BC36)-(X36-Z36) -> 3.1664968e-08 | BF36: =(AK36*$O36*($O$2)) -> 5253252.9 | BG36: =(AK36*$P36*($O$2+$AA36)) -> 1702965.3 | BH36: =(AK36*Q36*($AE36)) -> 789363.73 | BI36: =(AK36*$R36*($R$2)) -> 2599239.9 | BJ36: =(AK36*$S36*($S$2))+(AK36*$T36*($T$2))+(AK36*$U36*($U$2))+(AK36*$V36*($V$2))+(AK36*$W36*($W$2)) -> 1946121.3 | BK36: =SUM(BF36:BJ36)-(AK36-AL36) -> 0 | BM36: =X36 -> 2.238806e+08 | BN36: =AY36 -> 5214807.7 | BO36: =AZ36 -> 678410.63 | BP36: =BA36 -> 698707.52 | BQ36: =BB36 -> 2580217.7 | BR36: =BC36 -> 1931878.9 | BS36: =BM36-SUM(BN36:BR36) -> 2.1277658e+08 | BU36: =AK36 -> 2.2553112e+08 | BV36: =BF36 -> 5253252.9 | BW36: =AM36 -> 460843.52 | BX36: =BG36 -> 1702965.3 | BY36: =BH36 -> 789363.73 | BZ36: =BI36 -> 2599239.9 | CA36: =BJ36 -> 1946121.3 | CB36: =BU36-SUM(BV36:CA36) -> 2.1277933e+08 | CD36: =CB36-BS36 -> 2755.2912 | CE36: =CD36/BS36 -> 1.2949223e-05 | CF36: =($X36*O36) -> 67724775 | CG36: =CF36-AY36 -> 62509967 | CH36: =($AK36*O36)-BF36-AM36 -> 62509967 | CI36: =CH36-CG36 -> 0 | CK36: =1-CH36/CF36 -> 0.077 | CL36: =1-CG36/CF36 -> 0.077
A37: 49 | B37: 210049 | D37: 4.5940767e+08 | E37: 1.8112482e+08 | F37: 25037130 | G37: 40867598 | H37: 6358302 | I37: 52144893 | J37: 28312463 | K37: 39426214 | L37: 1299337.3 | M37: 17703000 | N37: =D37-SUM(E37:M37) -> 67133913 | O37: =E37/$D37 -> 0.39425728 | P37: =F37/$D37 -> 0.054498719 | Q37: =G37/$D37 -> 0.088957153 | R37: =(H37+I37)/$D37 -> 0.12734484 | S37: =J37/$D37 -> 0.061628189 | T37: =K37/$D37 -> 0.085819669 | U37: =L37/$D37 -> 0.0028282882 | V37: =M37/$D37 -> 0.038534402 | W37: =(N37)/$D37 -> 0.14613146 | X37: =Y37*(1-0.4973) -> 2.6385558e+08 | Y37: 5.2487683e+08 | Z37: =(X37*O37*(1-O$2))+(X37*P37*(1-O$2))+(X37*Q37*(1-Q$2))+(X37*R37*(1-R$2))+(X37*S37*(1-S$2))+(X37*T37*(1-T$2))+(X37*U37*(1-U$2))+(X37*V37*(1-V$2))+(X37*W37*(1-W$2)) -> 2.4873885e+08 | AA37: =$AA$51 -> 0.114873 | AB37: =(X37*O37*(1-O$2))+(X37*P37*(1-AA37-O$2))+(X37*Q37*(1-Q$2))+(X37*R37*(1-R$2))+(X37*S37*(1-S$2))+(X37*T37*(1-T$2))+(X37*U37*(1-U$2))+(X37*V37*(1-V$2))+(X37*W37*(1-W$2)) -> 2.47087e+08 | AC37: =((Z37-AB37)*O37/(1-O$2))+((Z37-AB37)*P37/(1-(AA$5+O$2)))+((Z37-AB37)*Q37/(1-Q$2))+((Z37-AB37)*R37/(1-R$2))+((Z37-AB37)*S37/(1-S$2))+((Z37-AB37)*T37/(1-T$2))+((Z37-AB37)*U37/(1-U$2))+((Z37-AB37)*V37/(1-V$2))+((Z37-AB37)*W37/(1-W$2))+X37 -> 2.656232e+08 | AD37: =(AC37*O37*(1-O$2))+(AC37*P37*(1-AA37-O$2))+(AC37*Q37*(1-Q$2))+(AC37*R37*(1-R$2))+(AC37*S37*(1-S$2))+(AC37*T37*(1-T$2))+(AC37*U37*(1-U$2))+(AC37*V37*(1-V$2))+(AC37*W37*(1-W$2)) -> 2.4874228e+08 | AE37: =$AE$51 -> 0.086354 | AF37: =(AC37*O37*(1-O$2))+(AC37*P37*(1-AA37-O$2))+(AC37*Q37*(1-AE$5))+(AC37*R37*(1-R$2))+(AC37*S37*(1-S$2))+(AC37*T37*(1-T$2))+(AC37*U37*(1-U$2))+(AC37*V37*(1-V$2))+(AC37*W37*(1-W$2)) -> 2.4852126e+08 | AG37: =((AD37-AF37)*O37/(1-O$2))+((AD37-AF37)*P37/(1-(AA$5+O$2)))+((AD37-AF37)*Q37/(1-AE$5))+((AD37-AF37)*R37/(1-R$2))+((AD37-AF37)*S37/(1-S$2))+((AD37-AF37)*T37/(1-T$2))+((AD37-AF37)*U37/(1-U$2))+((AD37-AF37)*V37/(1-V$2))+((AD37-AF37)*W37/(1-W$2))+AC37 -> 2.6585994e+08 | AH37: =(AG37*O37*(1-O$2))+(AG37*P37*(1-AA37-O$2))+(AG37*Q37*(1-AE$5))+(AG37*R37*(1-R$2))+(AG37*S37*(1-S$2))+(AG37*T37*(1-T$2))+(AG37*U37*(1-U$2))+(AG37*V37*(1-V$2))+(AG37*W37*(1-W$2)) -> 2.4874275e+08 | AI37: =(AG37*O37*(1-O$2))-(X37*O37*(1-O$2)) -> 729383.41 | AJ37: =AI37/(AW37/AV37) -> 1193638.6 | AK37: =AG37+(AJ37*O37)/(1-O$2)+(AJ37*P37)/(1-O$2-AA37)+(AJ37*Q37)/(1-AE37)+(AJ37*R37)/(1-R$2)+(AJ37*S37)/(1-S$2)+(AJ37*T37)/(1-T$2)+(AJ37*U37)/(1-U$2)+(AJ37*V37)/(1-V$2)+(AJ37*W37)/(1-W$2) -> 2.6713841e+08 | AL37: =(AK37*O37*(1-O$2))+(AK37*P37*(1-AA37-O$2))+(AK37*Q37*(1-AE$5))+(AK37*R37*(1-R$2))+(AK37*S37*(1-S$2))+(AK37*T37*(1-T$2))+(AK37*U37*(1-U$2))+(AK37*V37*(1-V$2))+(AK37*W37*(1-W$2)) -> 2.4993891e+08 | AM37: =(AK37*O37*(1-O$2))-(X37*O37*(1-O$2)) -> 1194618.7 | AN37: =AM37/((O37*AL37)) -> 0.012123157 | AO37: =AL37-AM37 -> 2.4874429e+08 | AP37: =(((AK37*O37*(1-O$2))/AL37)*AL37)-AM37-(((X37*O37*(1-O$2))/Z37)*Z37) -> 0 | AR37: =1-((((AK37*P37*(1-O$2-AA37))/AL37)*AL37)/(X37*P37)) -> 0.18181848 | AS37: =AR37-$O$2 -> 0.10481848 | AT37: =1-((((AK37*Q37*(1-AE37))/AL37)*AL37)/(X37*Q37)) -> 0.074986641 | AU37: =AT37-$O$2 -> -0.0020133586 | AV37: =$O37*(1-$O$2)+$P37*(1-$O$2-$AA37)+$Q37*(1-$AE37)+$R37*(1-$R$2)+$S37*(1-$S$2)+$T37*(1-$T$2)+$U37*(1-$U$2)+$V37*(1-$V$2)+$W37*(1-$W$2) -> 0.93561578 | AW37: =$P37*(1-$O$2-$AA37)+$Q37*(1-$AE37)+$R37*(1-$R$2)+$S37*(1-$S$2)+$T37*(1-$T$2)+$U37*(1-$U$2)+$V37*(1-$V$2)+$W37*(1-$W$2) -> 0.5717163 | AY37: =(X37*$O37*($O$2)) -> 8010077.9 | AZ37: =(X37*$P37*($O$2)) -> 1107243.9 | BA37: =(X37*Q37*($Q$2)) -> 1807331.8 | BB37: =(X37*$R37*($R$2)) -> 2587249.8 | BC37: =(X37*$S37*($S$2))+(X37*$T37*($T$2))+(X37*$U37*($U$2))+(X37*$V37*($V$2))+(X37*$W37*($W$2)) -> 1604828.4 | BD37: =SUM(AY37:BC37)-(X37-Z37) -> -5.2154064e-08 | BF37: =(AK37*$O37*($O$2)) -> 8109737.3 | BG37: =(AK37*$P37*($O$2+$AA37)) -> 2793421.6 | BH37: =(AK37*Q37*($AE37)) -> 2052105.4 | BI37: =(AK37*$R37*($R$2)) -> 2619439.7 | BJ37: =(AK37*$S37*($S$2))+(AK37*$T37*($T$2))+(AK37*$U37*($U$2))+(AK37*$V37*($V$2))+(AK37*$W37*($W$2)) -> 1624795.3 | BK37: =SUM(BF37:BJ37)-(AK37-AL37) -> 0 | BM37: =X37 -> 2.6385558e+08 | BN37: =AY37 -> 8010077.9 | BO37: =AZ37 -> 1107243.9 | BP37: =BA37 -> 1807331.8 | BQ37: =BB37 -> 2587249.8 | BR37: =BC37 -> 1604828.4 | BS37: =BM37-SUM(BN37:BR37) -> 2.4873885e+08 | BU37: =AK37 -> 2.6713841e+08 | BV37: =BF37 -> 8109737.3 | BW37: =AM37 -> 1194618.7 | BX37: =BG37 -> 2793421.6 | BY37: =BH37 -> 2052105.4 | BZ37: =BI37 -> 2619439.7 | CA37: =BJ37 -> 1624795.3 | CB37: =BU37-SUM(BV37:CA37) -> 2.4874429e+08 | CD37: =CB37-BS37 -> 5439.8901 | CE37: =CD37/BS37 -> 2.1869885e-05 | CF37: =($X37*O37) -> 1.0402699e+08 | CG37: =CF37-AY37 -> 96016907 | CH37: =($AK37*O37)-BF37-AM37 -> 96016907 | CI37: =CH37-CG37 -> 0 | CK37: =1-CH37/CF37 -> 0.077 | CL37: =1-CG37/CF37 -> 0.077
A38: 51 | B38: 210051 | D38: 3.2628829e+08 | E38: 93352818 | F38: 35800327 | G38: 9788066.8 | H38: 14672786 | I38: 52534663 | J38: 10446851 | K38: 14459045 | L38: 1010147.2 | M38: 17527323 | N38: =D38-SUM(E38:M38) -> 76696263 | O38: =E38/$D38 -> 0.28610533 | P38: =F38/$D38 -> 0.10971993 | Q38: =G38/$D38 -> 0.029998217 | R38: =(H38+I38)/$D38 -> 0.20597567 | S38: =J38/$D38 -> 0.032017241 | T38: =K38/$D38 -> 0.04431371 | U38: =L38/$D38 -> 0.0030958733 | V38: =M38/$D38 -> 0.053717291 | W38: =(N38)/$D38 -> 0.23505674 | X38: =Y38*(1-0.4973) -> 1.7435715e+08 | Y38: 3.4684136e+08 | Z38: =(X38*O38*(1-O$2))+(X38*P38*(1-O$2))+(X38*Q38*(1-Q$2))+(X38*R38*(1-R$2))+(X38*S38*(1-S$2))+(X38*T38*(1-T$2))+(X38*U38*(1-U$2))+(X38*V38*(1-V$2))+(X38*W38*(1-W$2)) -> 1.6476433e+08 | AA38: =$AA$51 -> 0.114873 | AB38: =(X38*O38*(1-O$2))+(X38*P38*(1-AA38-O$2))+(X38*Q38*(1-Q$2))+(X38*R38*(1-R$2))+(X38*S38*(1-S$2))+(X38*T38*(1-T$2))+(X38*U38*(1-U$2))+(X38*V38*(1-V$2))+(X38*W38*(1-W$2)) -> 1.6256675e+08 | AC38: =((Z38-AB38)*O38/(1-O$2))+((Z38-AB38)*P38/(1-(AA$5+O$2)))+((Z38-AB38)*Q38/(1-Q$2))+((Z38-AB38)*R38/(1-R$2))+((Z38-AB38)*S38/(1-S$2))+((Z38-AB38)*T38/(1-T$2))+((Z38-AB38)*U38/(1-U$2))+((Z38-AB38)*V38/(1-V$2))+((Z38-AB38)*W38/(1-W$2))+X38 -> 1.7672197e+08 | AD38: =(AC38*O38*(1-O$2))+(AC38*P38*(1-AA38-O$2))+(AC38*Q38*(1-Q$2))+(AC38*R38*(1-R$2))+(AC38*S38*(1-S$2))+(AC38*T38*(1-T$2))+(AC38*U38*(1-U$2))+(AC38*V38*(1-V$2))+(AC38*W38*(1-W$2)) -> 1.6477166e+08 | AE38: =$AE$51 -> 0.086354 | AF38: =(AC38*O38*(1-O$2))+(AC38*P38*(1-AA38-O$2))+(AC38*Q38*(1-AE$5))+(AC38*R38*(1-R$2))+(AC38*S38*(1-S$2))+(AC38*T38*(1-T$2))+(AC38*U38*(1-U$2))+(AC38*V38*(1-V$2))+(AC38*W38*(1-W$2)) -> 1.6472207e+08 | AG38: =((AD38-AF38)*O38/(1-O$2))+((AD38-AF38)*P38/(1-(AA$5+O$2)))+((AD38-AF38)*Q38/(1-AE$5))+((AD38-AF38)*R38/(1-R$2))+((AD38-AF38)*S38/(1-S$2))+((AD38-AF38)*T38/(1-T$2))+((AD38-AF38)*U38/(1-U$2))+((AD38-AF38)*V38/(1-V$2))+((AD38-AF38)*W38/(1-W$2))+AC38 -> 1.7677535e+08 | AH38: =(AG38*O38*(1-O$2))+(AG38*P38*(1-AA38-O$2))+(AG38*Q38*(1-AE$5))+(AG38*R38*(1-R$2))+(AG38*S38*(1-S$2))+(AG38*T38*(1-T$2))+(AG38*U38*(1-U$2))+(AG38*V38*(1-V$2))+(AG38*W38*(1-W$2)) -> 1.6477183e+08 | AI38: =(AG38*O38*(1-O$2))-(X38*O38*(1-O$2)) -> 638586.82 | AJ38: =AI38/(AW38/AV38) -> 891026.01 | AK38: =AG38+(AJ38*O38)/(1-O$2)+(AJ38*P38)/(1-O$2-AA38)+(AJ38*Q38)/(1-AE38)+(AJ38*R38)/(1-R$2)+(AJ38*S38)/(1-S$2)+(AJ38*T38)/(1-T$2)+(AJ38*U38)/(1-U$2)+(AJ38*V38)/(1-V$2)+(AJ38*W38)/(1-W$2) -> 1.7773449e+08 | AL38: =(AK38*O38*(1-O$2))+(AK38*P38*(1-AA38-O$2))+(AK38*Q38*(1-AE$5))+(AK38*R38*(1-R$2))+(AK38*S38*(1-S$2))+(AK38*T38*(1-T$2))+(AK38*U38*(1-U$2))+(AK38*V38*(1-V$2))+(AK38*W38*(1-W$2)) -> 1.6566583e+08 | AM38: =(AK38*O38*(1-O$2))-(X38*O38*(1-O$2)) -> 891870.59 | AN38: =AM38/((O38*AL38)) -> 0.018816678 | AO38: =AL38-AM38 -> 1.6477396e+08 | AP38: =(((AK38*O38*(1-O$2))/AL38)*AL38)-AM38-(((X38*O38*(1-O$2))/Z38)*Z38) -> 0 | AR38: =1-((((AK38*P38*(1-O$2-AA38))/AL38)*AL38)/(X38*P38)) -> 0.17621941 | AS38: =AR38-$O$2 -> 0.099219407 | AT38: =1-((((AK38*Q38*(1-AE38))/AL38)*AL38)/(X38*Q38)) -> 0.068656481 | AU38: =AT38-$O$2 -> -0.0083435192 | AV38: =$O38*(1-$O$2)+$P38*(1-$O$2-$AA38)+$Q38*(1-$AE38)+$R38*(1-$R$2)+$S38*(1-$S$2)+$T38*(1-$T$2)+$U38*(1-$U$2)+$V38*(1-$V$2)+$W38*(1-$W$2) -> 0.93209729 | AW38: =$P38*(1-$O$2-$AA38)+$Q38*(1-$AE38)+$R38*(1-$R$2)+$S38*(1-$S$2)+$T38*(1-$T$2)+$U38*(1-$U$2)+$V38*(1-$V$2)+$W38*(1-$W$2) -> 0.66802207 | AY38: =(X38*$O38*($O$2)) -> 3841107.3 | AZ38: =(X38*$P38*($O$2)) -> 1473045 | BA38: =(X38*Q38*($Q$2)) -> 402741.08 | BB38: =(X38*$R38*($R$2)) -> 2765326.5 | BC38: =(X38*$S38*($S$2))+(X38*$T38*($T$2))+(X38*$U38*($U$2))+(X38*$V38*($V$2))+(X38*$W38*($W$2)) -> 1110605.3 | BD38: =SUM(AY38:BC38)-(X38-Z38) -> 2.9802322e-08 | BF38: =(AK38*$O38*($O$2)) -> 3915510.3 | BG38: =(AK38*$P38*($O$2+$AA38)) -> 3741718.2 | BH38: =(AK38*Q38*($AE38)) -> 460415.15 | BI38: =(AK38*$R38*($R$2)) -> 2818891.4 | BJ38: =(AK38*$S38*($S$2))+(AK38*$T38*($T$2))+(AK38*$U38*($U$2))+(AK38*$V38*($V$2))+(AK38*$W38*($W$2)) -> 1132117.9 | BK38: =SUM(BF38:BJ38)-(AK38-AL38) -> 0 | BM38: =X38 -> 1.7435715e+08 | BN38: =AY38 -> 3841107.3 | BO38: =AZ38 -> 1473045 | BP38: =BA38 -> 402741.08 | BQ38: =BB38 -> 2765326.5 | BR38: =BC38 -> 1110605.3 | BS38: =BM38-SUM(BN38:BR38) -> 1.6476433e+08 | BU38: =AK38 -> 1.7773449e+08 | BV38: =BF38 -> 3915510.3 | BW38: =AM38 -> 891870.59 | BX38: =BG38 -> 3741718.2 | BY38: =BH38 -> 460415.15 | BZ38: =BI38 -> 2818891.4 | CA38: =BJ38 -> 1132117.9 | CB38: =BU38-SUM(BV38:CA38) -> 1.6477396e+08 | CD38: =CB38-BS38 -> 9636.7967 | CE38: =CD38/BS38 -> 5.8488369e-05 | CF38: =($X38*O38) -> 49884510 | CG38: =CF38-AY38 -> 46043403 | CH38: =($AK38*O38)-BF38-AM38 -> 46043403 | CI38: =CH38-CG38 -> 0 | CK38: =1-CH38/CF38 -> 0.077 | CL38: =1-CG38/CF38 -> 0.077
A39: 55 | B39: 210055 | D39: 44865832 | E39: 5675446.3 | F39: 1060243.9 | G39: 1575949.8 | H39: -659389 | I39: 10444154 | J39: 0 | K39: 7020203.4 | L39: 124797.3 | M39: 7309000 | N39: =D39-SUM(E39:M39) -> 12315426 | O39: =E39/$D39 -> 0.12649818 | P39: =F39/$D39 -> 0.023631432 | Q39: =G39/$D39 -> 0.035125835 | R39: =(H39+I39)/$D39 -> 0.21808947 | S39: =J39/$D39 -> 0 | T39: =K39/$D39 -> 0.15647104 | U39: =L39/$D39 -> 0.0027815666 | V39: =M39/$D39 -> 0.16290793 | W39: =(N39)/$D39 -> 0.27449454 | X39: =Y39*(1-0.4973) -> 24380607 | Y39: 48499317 | Z39: =(X39*O39*(1-O$2))+(X39*P39*(1-O$2))+(X39*Q39*(1-Q$2))+(X39*R39*(1-R$2))+(X39*S39*(1-S$2))+(X39*T39*(1-T$2))+(X39*U39*(1-U$2))+(X39*V39*(1-V$2))+(X39*W39*(1-W$2)) -> 23411904 | AA39: =$AA$51 -> 0.114873 | AB39: =(X39*O39*(1-O$2))+(X39*P39*(1-AA39-O$2))+(X39*Q39*(1-Q$2))+(X39*R39*(1-R$2))+(X39*S39*(1-S$2))+(X39*T39*(1-T$2))+(X39*U39*(1-U$2))+(X39*V39*(1-V$2))+(X39*W39*(1-W$2)) -> 23345720 | AC39: =((Z39-AB39)*O39/(1-O$2))+((Z39-AB39)*P39/(1-(AA$5+O$2)))+((Z39-AB39)*Q39/(1-Q$2))+((Z39-AB39)*R39/(1-R$2))+((Z39-AB39)*S39/(1-S$2))+((Z39-AB39)*T39/(1-T$2))+((Z39-AB39)*U39/(1-U$2))+((Z39-AB39)*V39/(1-V$2))+((Z39-AB39)*W39/(1-W$2))+X39 -> 24449844 | AD39: =(AC39*O39*(1-O$2))+(AC39*P39*(1-AA39-O$2))+(AC39*Q39*(1-Q$2))+(AC39*R39*(1-R$2))+(AC39*S39*(1-S$2))+(AC39*T39*(1-T$2))+(AC39*U39*(1-U$2))+(AC39*V39*(1-V$2))+(AC39*W39*(1-W$2)) -> 23412019 | AE39: =$AE$51 -> 0.086354 | AF39: =(AC39*O39*(1-O$2))+(AC39*P39*(1-AA39-O$2))+(AC39*Q39*(1-AE$5))+(AC39*R39*(1-R$2))+(AC39*S39*(1-S$2))+(AC39*T39*(1-T$2))+(AC39*U39*(1-U$2))+(AC39*V39*(1-V$2))+(AC39*W39*(1-W$2)) -> 23403985 | AG39: =((AD39-AF39)*O39/(1-O$2))+((AD39-AF39)*P39/(1-(AA$5+O$2)))+((AD39-AF39)*Q39/(1-AE$5))+((AD39-AF39)*R39/(1-R$2))+((AD39-AF39)*S39/(1-S$2))+((AD39-AF39)*T39/(1-T$2))+((AD39-AF39)*U39/(1-U$2))+((AD39-AF39)*V39/(1-V$2))+((AD39-AF39)*W39/(1-W$2))+AC39 -> 24458251 | AH39: =(AG39*O39*(1-O$2))+(AG39*P39*(1-AA39-O$2))+(AG39*Q39*(1-AE$5))+(AG39*R39*(1-R$2))+(AG39*S39*(1-S$2))+(AG39*T39*(1-T$2))+(AG39*U39*(1-U$2))+(AG39*V39*(1-V$2))+(AG39*W39*(1-W$2)) -> 23412033 | AI39: =(AG39*O39*(1-O$2))-(X39*O39*(1-O$2)) -> 9065.6432 | AJ39: =AI39/(AW39/AV39) -> 10325.045 | AK39: =AG39+(AJ39*O39)/(1-O$2)+(AJ39*P39)/(1-O$2-AA39)+(AJ39*Q39)/(1-AE39)+(AJ39*R39)/(1-R$2)+(AJ39*S39)/(1-S$2)+(AJ39*T39)/(1-T$2)+(AJ39*U39)/(1-U$2)+(AJ39*V39)/(1-V$2)+(AJ39*W39)/(1-W$2) -> 24469057 | AL39: =(AK39*O39*(1-O$2))+(AK39*P39*(1-AA39-O$2))+(AK39*Q39*(1-AE$5))+(AK39*R39*(1-R$2))+(AK39*S39*(1-S$2))+(AK39*T39*(1-T$2))+(AK39*U39*(1-U$2))+(AK39*V39*(1-V$2))+(AK39*W39*(1-W$2)) -> 23422376 | AM39: =(AK39*O39*(1-O$2))-(X39*O39*(1-O$2)) -> 10327.266 | AN39: =AM39/((O39*AL39)) -> 0.0034855402 | AO39: =AL39-AM39 -> 23412049 | AP39: =(((AK39*O39*(1-O$2))/AL39)*AL39)-AM39-(((X39*O39*(1-O$2))/Z39)*Z39) -> 0 | AR39: =1-((((AK39*P39*(1-O$2-AA39))/AL39)*AL39)/(X39*P39)) -> 0.1889412 | AS39: =AR39-$O$2 -> 0.1119412 | AT39: =1-((((AK39*Q39*(1-AE39))/AL39)*AL39)/(X39*Q39)) -> 0.083039387 | AU39: =AT39-$O$2 -> 0.0060393872 | AV39: =$O39*(1-$O$2)+$P39*(1-$O$2-$AA39)+$Q39*(1-$AE39)+$R39*(1-$R$2)+$S39*(1-$S$2)+$T39*(1-$T$2)+$U39*(1-$U$2)+$V39*(1-$V$2)+$W39*(1-$W$2) -> 0.95722432 | AW39: =$P39*(1-$O$2-$AA39)+$Q39*(1-$AE39)+$R39*(1-$R$2)+$S39*(1-$S$2)+$T39*(1-$T$2)+$U39*(1-$U$2)+$V39*(1-$V$2)+$W39*(1-$W$2) -> 0.84046649 | AY39: =(X39*$O39*($O$2)) -> 237475.89 | AZ39: =(X39*$P39*($O$2)) -> 44363.447 | BA39: =(X39*Q39*($Q$2)) -> 65941.967 | BB39: =(X39*$R39*($R$2)) -> 409420.82 | BC39: =(X39*$S39*($S$2))+(X39*$T39*($T$2))+(X39*$U39*($U$2))+(X39*$V39*($V$2))+(X39*$W39*($W$2)) -> 211500.37 | BD39: =SUM(AY39:BC39)-(X39-Z39) -> 3.8417056e-09 | BF39: =(AK39*$O39*($O$2)) -> 238337.43 | BG39: =(AK39*$P39*($O$2+$AA39)) -> 110948.43 | BH39: =(AK39*Q39*($AE39)) -> 74220.923 | BI39: =(AK39*$R39*($R$2)) -> 410906.16 | BJ39: =(AK39*$S39*($S$2))+(AK39*$T39*($T$2))+(AK39*$U39*($U$2))+(AK39*$V39*($V$2))+(AK39*$W39*($W$2)) -> 212267.67 | BK39: =SUM(BF39:BJ39)-(AK39-AL39) -> -3.7252903e-09 | BM39: =X39 -> 24380607 | BN39: =AY39 -> 237475.89 | BO39: =AZ39 -> 44363.447 | BP39: =BA39 -> 65941.967 | BQ39: =BB39 -> 409420.82 | BR39: =BC39 -> 211500.37 | BS39: =BM39-SUM(BN39:BR39) -> 23411904 | BU39: =AK39 -> 24469057 | BV39: =BF39 -> 238337.43 | BW39: =AM39 -> 10327.266 | BX39: =BG39 -> 110948.43 | BY39: =BH39 -> 74220.923 | BZ39: =BI39 -> 410906.16 | CA39: =BJ39 -> 212267.67 | CB39: =BU39-SUM(BV39:CA39) -> 23412049 | CD39: =CB39-BS39 -> 144.93169 | CE39: =CD39/BS39 -> 6.1905126e-06 | CF39: =($X39*O39) -> 3084102.5 | CG39: =CF39-AY39 -> 2846626.6 | CH39: =($AK39*O39)-BF39-AM39 -> 2846626.6 | CI39: =CH39-CG39 -> 0 | CK39: =1-CH39/CF39 -> 0.077 | CL39: =1-CG39/CF39 -> 0.077
A40: 2004 | B40: 210056 | D40: 3.2854389e+08 | E40: 1.2211006e+08 | F40: 26389753 | G40: 40845710 | H40: 14512320 | I40: 56449241 | J40: 8904352.7 | K40: 14951034 | L40: 2970682.3 | M40: 17450430 | N40: =D40-SUM(E40:M40) -> 23960311 | O40: =E40/$D40 -> 0.37167046 | P40: =F40/$D40 -> 0.080323371 | Q40: =G40/$D40 -> 0.12432345 | R40: =(H40+I40)/$D40 -> 0.21598807 | S40: =J40/$D40 -> 0.027102475 | T40: =K40/$D40 -> 0.04550696 | U40: =L40/$D40 -> 0.0090419648 | V40: =M40/$D40 -> 0.053114457 | W40: =(N40)/$D40 -> 0.072928797 | X40: =Y40*(1-0.4973) -> 1.7726179e+08 | Y40: 3.5261943e+08 | Z40: =(X40*O40*(1-O$2))+(X40*P40*(1-O$2))+(X40*Q40*(1-Q$2))+(X40*R40*(1-R$2))+(X40*S40*(1-S$2))+(X40*T40*(1-T$2))+(X40*U40*(1-U$2))+(X40*V40*(1-V$2))+(X40*W40*(1-W$2)) -> 1.6588745e+08 | AA40: =$AA$51 -> 0.114873 | AB40: =(X40*O40*(1-O$2))+(X40*P40*(1-AA40-O$2))+(X40*Q40*(1-Q$2))+(X40*R40*(1-R$2))+(X40*S40*(1-S$2))+(X40*T40*(1-T$2))+(X40*U40*(1-U$2))+(X40*V40*(1-V$2))+(X40*W40*(1-W$2)) -> 1.6425186e+08 | AC40: =((Z40-AB40)*O40/(1-O$2))+((Z40-AB40)*P40/(1-(AA$5+O$2)))+((Z40-AB40)*Q40/(1-Q$2))+((Z40-AB40)*R40/(1-R$2))+((Z40-AB40)*S40/(1-S$2))+((Z40-AB40)*T40/(1-T$2))+((Z40-AB40)*U40/(1-U$2))+((Z40-AB40)*V40/(1-V$2))+((Z40-AB40)*W40/(1-W$2))+X40 -> 1.79031e+08 | AD40: =(AC40*O40*(1-O$2))+(AC40*P40*(1-AA40-O$2))+(AC40*Q40*(1-Q$2))+(AC40*R40*(1-R$2))+(AC40*S40*(1-S$2))+(AC40*T40*(1-T$2))+(AC40*U40*(1-U$2))+(AC40*V40*(1-V$2))+(AC40*W40*(1-W$2)) -> 1.6589122e+08 | AE40: =$AE$51 -> 0.086354 | AF40: =(AC40*O40*(1-O$2))+(AC40*P40*(1-AA40-O$2))+(AC40*Q40*(1-AE$5))+(AC40*R40*(1-R$2))+(AC40*S40*(1-S$2))+(AC40*T40*(1-T$2))+(AC40*U40*(1-U$2))+(AC40*V40*(1-V$2))+(AC40*W40*(1-W$2)) -> 1.6568302e+08 | AG40: =((AD40-AF40)*O40/(1-O$2))+((AD40-AF40)*P40/(1-(AA$5+O$2)))+((AD40-AF40)*Q40/(1-AE$5))+((AD40-AF40)*R40/(1-R$2))+((AD40-AF40)*S40/(1-S$2))+((AD40-AF40)*T40/(1-T$2))+((AD40-AF40)*U40/(1-U$2))+((AD40-AF40)*V40/(1-V$2))+((AD40-AF40)*W40/(1-W$2))+AC40 -> 1.7925649e+08 | AH40: =(AG40*O40*(1-O$2))+(AG40*P40*(1-AA40-O$2))+(AG40*Q40*(1-AE$5))+(AG40*R40*(1-R$2))+(AG40*S40*(1-S$2))+(AG40*T40*(1-T$2))+(AG40*U40*(1-U$2))+(AG40*V40*(1-V$2))+(AG40*W40*(1-W$2)) -> 1.658917e+08 | AI40: =(AG40*O40*(1-O$2))-(X40*O40*(1-O$2)) -> 684286.33 | AJ40: =AI40/(AW40/AV40) -> 1087358.4 | AK40: =AG40+(AJ40*O40)/(1-O$2)+(AJ40*P40)/(1-O$2-AA40)+(AJ40*Q40)/(1-AE40)+(AJ40*R40)/(1-R$2)+(AJ40*S40)/(1-S$2)+(AJ40*T40)/(1-T$2)+(AJ40*U40)/(1-U$2)+(AJ40*V40)/(1-V$2)+(AJ40*W40)/(1-W$2) -> 1.8043418e+08 | AL40: =(AK40*O40*(1-O$2))+(AK40*P40*(1-AA40-O$2))+(AK40*Q40*(1-AE$5))+(AK40*R40*(1-R$2))+(AK40*S40*(1-S$2))+(AK40*T40*(1-T$2))+(AK40*U40*(1-U$2))+(AK40*V40*(1-V$2))+(AK40*W40*(1-W$2)) -> 1.6698159e+08 | AM40: =(AK40*O40*(1-O$2))-(X40*O40*(1-O$2)) -> 1088294 | AN40: =AM40/((O40*AL40)) -> 0.017535559 | AO40: =AL40-AM40 -> 1.6589329e+08 | AP40: =(((AK40*O40*(1-O$2))/AL40)*AL40)-AM40-(((X40*O40*(1-O$2))/Z40)*Z40) -> 0 | AR40: =1-((((AK40*P40*(1-O$2-AA40))/AL40)*AL40)/(X40*P40)) -> 0.17741025 | AS40: =AR40-$O$2 -> 0.10041025 | AT40: =1-((((AK40*Q40*(1-AE40))/AL40)*AL40)/(X40*Q40)) -> 0.070002811 | AU40: =AT40-$O$2 -> -0.006997189 | AV40: =$O40*(1-$O$2)+$P40*(1-$O$2-$AA40)+$Q40*(1-$AE40)+$R40*(1-$R$2)+$S40*(1-$S$2)+$T40*(1-$T$2)+$U40*(1-$U$2)+$V40*(1-$V$2)+$W40*(1-$W$2) -> 0.92544322 | AW40: =$P40*(1-$O$2-$AA40)+$Q40*(1-$AE40)+$R40*(1-$R$2)+$S40*(1-$S$2)+$T40*(1-$T$2)+$U40*(1-$U$2)+$V40*(1-$V$2)+$W40*(1-$W$2) -> 0.58239139 | AY40: =(X40*$O40*($O$2)) -> 5072988.7 | AZ40: =(X40*$P40*($O$2)) -> 1096346.4 | BA40: =(X40*Q40*($Q$2)) -> 1696910.4 | BB40: =(X40*$R40*($R$2)) -> 2948055.2 | BC40: =(X40*$S40*($S$2))+(X40*$T40*($T$2))+(X40*$U40*($U$2))+(X40*$V40*($V$2))+(X40*$W40*($W$2)) -> 560033.82 | BD40: =SUM(AY40:BC40)-(X40-Z40) -> 0 | BF40: =(AK40*$O40*($O$2)) -> 5163778.1 | BG40: =(AK40*$P40*($O$2+$AA40)) -> 2780831 | BH40: =(AK40*Q40*($AE40)) -> 1937110.1 | BI40: =(AK40*$R40*($R$2)) -> 3000815.5 | BJ40: =(AK40*$S40*($S$2))+(AK40*$T40*($T$2))+(AK40*$U40*($U$2))+(AK40*$V40*($V$2))+(AK40*$W40*($W$2)) -> 570056.54 | BK40: =SUM(BF40:BJ40)-(AK40-AL40) -> 0 | BM40: =X40 -> 1.7726179e+08 | BN40: =AY40 -> 5072988.7 | BO40: =AZ40 -> 1096346.4 | BP40: =BA40 -> 1696910.4 | BQ40: =BB40 -> 2948055.2 | BR40: =BC40 -> 560033.82 | BS40: =BM40-SUM(BN40:BR40) -> 1.6588745e+08 | BU40: =AK40 -> 1.8043418e+08 | BV40: =BF40 -> 5163778.1 | BW40: =AM40 -> 1088294 | BX40: =BG40 -> 2780831 | BY40: =BH40 -> 1937110.1 | BZ40: =BI40 -> 3000815.5 | CA40: =BJ40 -> 570056.54 | CB40: =BU40-SUM(BV40:CA40) -> 1.6589329e+08 | CD40: =CB40-BS40 -> 5838.6356 | CE40: =CD40/BS40 -> 3.5196366e-05 | CF40: =($X40*O40) -> 65882970 | CG40: =CF40-AY40 -> 60809981 | CH40: =($AK40*O40)-BF40-AM40 -> 60809981 | CI40: =CH40-CG40 -> 0 | CK40: =1-CH40/CF40 -> 0.077 | CL40: =1-CG40/CF40 -> 0.077
A41: 2001 | B41: 210058 | D41: 1.5624227e+08 | E41: 47893189 | F41: 4952053 | G41: 7473034.7 | H41: 3676701.8 | I41: 32997859 | J41: 11239839 | K41: 13550906 | L41: 407449.6 | M41: 5372000 | N41: =D41-SUM(E41:M41) -> 28679242 | O41: =E41/$D41 -> 0.30653157 | P41: =F41/$D41 -> 0.031694706 | Q41: =G41/$D41 -> 0.047829787 | R41: =(H41+I41)/$D41 -> 0.2347288 | S41: =J41/$D41 -> 0.071938526 | T41: =K41/$D41 -> 0.086730089 | U41: =L41/$D41 -> 0.0026078064 | V41: =M41/$D41 -> 0.0343825 | W41: =(N41)/$D41 -> 0.18355622 | X41: =Y41*(1-0.4973) -> 84748961 | Y41: 1.6858755e+08 | Z41: =(X41*O41*(1-O$2))+(X41*P41*(1-O$2))+(X41*Q41*(1-Q$2))+(X41*R41*(1-R$2))+(X41*S41*(1-S$2))+(X41*T41*(1-T$2))+(X41*U41*(1-U$2))+(X41*V41*(1-V$2))+(X41*W41*(1-W$2)) -> 80098198 | AA41: =$AA$51 -> 0.114873 | AB41: =(X41*O41*(1-O$2))+(X41*P41*(1-AA41-O$2))+(X41*Q41*(1-Q$2))+(X41*R41*(1-R$2))+(X41*S41*(1-S$2))+(X41*T41*(1-T$2))+(X41*U41*(1-U$2))+(X41*V41*(1-V$2))+(X41*W41*(1-W$2)) -> 79789638 | AC41: =((Z41-AB41)*O41/(1-O$2))+((Z41-AB41)*P41/(1-(AA$5+O$2)))+((Z41-AB41)*Q41/(1-Q$2))+((Z41-AB41)*R41/(1-R$2))+((Z41-AB41)*S41/(1-S$2))+((Z41-AB41)*T41/(1-T$2))+((Z41-AB41)*U41/(1-U$2))+((Z41-AB41)*V41/(1-V$2))+((Z41-AB41)*W41/(1-W$2))+X41 -> 85077236 | AD41: =(AC41*O41*(1-O$2))+(AC41*P41*(1-AA41-O$2))+(AC41*Q41*(1-Q$2))+(AC41*R41*(1-R$2))+(AC41*S41*(1-S$2))+(AC41*T41*(1-T$2))+(AC41*U41*(1-U$2))+(AC41*V41*(1-V$2))+(AC41*W41*(1-W$2)) -> 80098703 | AE41: =$AE$51 -> 0.086354 | AF41: =(AC41*O41*(1-O$2))+(AC41*P41*(1-AA41-O$2))+(AC41*Q41*(1-AE$5))+(AC41*R41*(1-R$2))+(AC41*S41*(1-S$2))+(AC41*T41*(1-T$2))+(AC41*U41*(1-U$2))+(AC41*V41*(1-V$2))+(AC41*W41*(1-W$2)) -> 80060639 | AG41: =((AD41-AF41)*O41/(1-O$2))+((AD41-AF41)*P41/(1-(AA$5+O$2)))+((AD41-AF41)*Q41/(1-AE$5))+((AD41-AF41)*R41/(1-R$2))+((AD41-AF41)*S41/(1-S$2))+((AD41-AF41)*T41/(1-T$2))+((AD41-AF41)*U41/(1-U$2))+((AD41-AF41)*V41/(1-V$2))+((AD41-AF41)*W41/(1-W$2))+AC41 -> 85117751 | AH41: =(AG41*O41*(1-O$2))+(AG41*P41*(1-AA41-O$2))+(AG41*Q41*(1-AE$5))+(AG41*R41*(1-R$2))+(AG41*S41*(1-S$2))+(AG41*T41*(1-T$2))+(AG41*U41*(1-U$2))+(AG41*V41*(1-V$2))+(AG41*W41*(1-W$2)) -> 80098766 | AI41: =(AG41*O41*(1-O$2))-(X41*O41*(1-O$2)) -> 104341.43 | AJ41: =AI41/(AW41/AV41) -> 149199.21 | AK41: =AG41+(AJ41*O41)/(1-O$2)+(AJ41*P41)/(1-O$2-AA41)+(AJ41*Q41)/(1-AE41)+(AJ41*R41)/(1-R$2)+(AJ41*S41)/(1-S$2)+(AJ41*T41)/(1-T$2)+(AJ41*U41)/(1-U$2)+(AJ41*V41)/(1-V$2)+(AJ41*W41)/(1-W$2) -> 85276563 | AL41: =(AK41*O41*(1-O$2))+(AK41*P41*(1-AA41-O$2))+(AK41*Q41*(1-AE$5))+(AK41*R41*(1-R$2))+(AK41*S41*(1-S$2))+(AK41*T41*(1-T$2))+(AK41*U41*(1-U$2))+(AK41*V41*(1-V$2))+(AK41*W41*(1-W$2)) -> 80248213 | AM41: =(AK41*O41*(1-O$2))-(X41*O41*(1-O$2)) -> 149273.71 | AN41: =AM41/((O41*AL41)) -> 0.0060683798 | AO41: =AL41-AM41 -> 80098939 | AP41: =(((AK41*O41*(1-O$2))/AL41)*AL41)-AM41-(((X41*O41*(1-O$2))/Z41)*Z41) -> 0 | AR41: =1-((((AK41*P41*(1-O$2-AA41))/AL41)*AL41)/(X41*P41)) -> 0.18684203 | AS41: =AR41-$O$2 -> 0.10984203 | AT41: =1-((((AK41*Q41*(1-AE41))/AL41)*AL41)/(X41*Q41)) -> 0.080666126 | AU41: =AT41-$O$2 -> 0.0036661256 | AV41: =$O41*(1-$O$2)+$P41*(1-$O$2-$AA41)+$Q41*(1-$AE41)+$R41*(1-$R$2)+$S41*(1-$S$2)+$T41*(1-$T$2)+$U41*(1-$U$2)+$V41*(1-$V$2)+$W41*(1-$W$2) -> 0.9410348 | AW41: =$P41*(1-$O$2-$AA41)+$Q41*(1-$AE41)+$R41*(1-$R$2)+$S41*(1-$S$2)+$T41*(1-$T$2)+$U41*(1-$U$2)+$V41*(1-$V$2)+$W41*(1-$W$2) -> 0.65810617 | AY41: =(X41*$O41*($O$2)) -> 2000323.8 | AZ41: =(X41*$P41*($O$2)) -> 206829.19 | BA41: =(X41*Q41*($Q$2)) -> 312121.41 | BB41: =(X41*$R41*($R$2)) -> 1531762.7 | BC41: =(X41*$S41*($S$2))+(X41*$T41*($T$2))+(X41*$U41*($U$2))+(X41*$V41*($V$2))+(X41*$W41*($W$2)) -> 599725.95 | BD41: =SUM(AY41:BC41)-(X41-Z41) -> 0 | BF41: =(AK41*$O41*($O$2)) -> 2012776.8 | BG41: =(AK41*$P41*($O$2+$AA41)) -> 518597.34 | BH41: =(AK41*Q41*($AE41)) -> 352217.23 | BI41: =(AK41*$R41*($R$2)) -> 1541298.6 | BJ41: =(AK41*$S41*($S$2))+(AK41*$T41*($T$2))+(AK41*$U41*($U$2))+(AK41*$V41*($V$2))+(AK41*$W41*($W$2)) -> 603459.53 | BK41: =SUM(BF41:BJ41)-(AK41-AL41) -> 0 | BM41: =X41 -> 84748961 | BN41: =AY41 -> 2000323.8 | BO41: =AZ41 -> 206829.19 | BP41: =BA41 -> 312121.41 | BQ41: =BB41 -> 1531762.7 | BR41: =BC41 -> 599725.95 | BS41: =BM41-SUM(BN41:BR41) -> 80098198 | BU41: =AK41 -> 85276563 | BV41: =BF41 -> 2012776.8 | BW41: =AM41 -> 149273.71 | BX41: =BG41 -> 518597.34 | BY41: =BH41 -> 352217.23 | BZ41: =BI41 -> 1541298.6 | CA41: =BJ41 -> 603459.53 | CB41: =BU41-SUM(BV41:CA41) -> 80098939 | CD41: =CB41-BS41 -> 741.84211 | CE41: =CD41/BS41 -> 9.261658e-06 | CF41: =($X41*O41) -> 25978232 | CG41: =CF41-AY41 -> 23977908 | CH41: =($AK41*O41)-BF41-AM41 -> 23977908 | CI41: =CH41-CG41 -> 0 | CK41: =1-CH41/CF41 -> 0.077 | CL41: =1-CG41/CF41 -> 0.077
... A49: 8992 | B49: 218992 | D49: 2.859221e+08 | E49: 62444487 | F49: 12284304 | G49: 20216363 | H49: 27585715 | I49: 62453304 | J49: 30350576 | K49: 4638282.6 | L49: 463298.2 | M49: 12584000 | N49: =D49-SUM(E49:M49) -> 52901768 | O49: =E49/$D49 -> 0.21839686 | P49: =F49/$D49 -> 0.042963813 | Q49: =G49/$D49 -> 0.070705843 | R49: =(H49+I49)/$D49 -> 0.31490752 | S49: =J49/$D49 -> 0.10614981 | T49: =K49/$D49 -> 0.01622219 | U49: =L49/$D49 -> 0.0016203651 | V49: =M49/$D49 -> 0.044011988 | W49: =(N49)/$D49 -> 0.18502161 | X49: =Y49*(1-0.4973) -> 1.5693939e+08 | Y49: 3.1219293e+08 | Z49: =(X49*O49*(1-O$2))+(X49*P49*(1-O$2))+(X49*Q49*(1-Q$2))+(X49*R49*(1-R$2))+(X49*S49*(1-S$2))+(X49*T49*(1-T$2))+(X49*U49*(1-U$2))+(X49*V49*(1-V$2))+(X49*W49*(1-W$2)) -> 1.4810956e+08 | AA49: =$AA$51 -> 0.114873 | AB49: =(X49*O49*(1-O$2))+(X49*P49*(1-AA49-O$2))+(X49*Q49*(1-Q$2))+(X49*R49*(1-R$2))+(X49*S49*(1-S$2))+(X49*T49*(1-T$2))+(X49*U49*(1-U$2))+(X49*V49*(1-V$2))+(X49*W49*(1-W$2)) -> 1.4733501e+08 | AC49: =((Z49-AB49)*O49/(1-O$2))+((Z49-AB49)*P49/(1-(AA$5+O$2)))+((Z49-AB49)*Q49/(1-Q$2))+((Z49-AB49)*R49/(1-R$2))+((Z49-AB49)*S49/(1-S$2))+((Z49-AB49)*T49/(1-T$2))+((Z49-AB49)*U49/(1-U$2))+((Z49-AB49)*V49/(1-V$2))+((Z49-AB49)*W49/(1-W$2))+X49 -> 1.5776597e+08 | AD49: =(AC49*O49*(1-O$2))+(AC49*P49*(1-AA49-O$2))+(AC49*Q49*(1-Q$2))+(AC49*R49*(1-R$2))+(AC49*S49*(1-S$2))+(AC49*T49*(1-T$2))+(AC49*U49*(1-U$2))+(AC49*V49*(1-V$2))+(AC49*W49*(1-W$2)) -> 1.4811101e+08 | AE49: =$AE$51 -> 0.086354 | AF49: =(AC49*O49*(1-O$2))+(AC49*P49*(1-AA49-O$2))+(AC49*Q49*(1-AE$5))+(AC49*R49*(1-R$2))+(AC49*S49*(1-S$2))+(AC49*T49*(1-T$2))+(AC49*U49*(1-U$2))+(AC49*V49*(1-V$2))+(AC49*W49*(1-W$2)) -> 1.4800666e+08 | AG49: =((AD49-AF49)*O49/(1-O$2))+((AD49-AF49)*P49/(1-(AA$5+O$2)))+((AD49-AF49)*Q49/(1-AE$5))+((AD49-AF49)*R49/(1-R$2))+((AD49-AF49)*S49/(1-S$2))+((AD49-AF49)*T49/(1-T$2))+((AD49-AF49)*U49/(1-U$2))+((AD49-AF49)*V49/(1-V$2))+((AD49-AF49)*W49/(1-W$2))+AC49 -> 1.5787741e+08 | AH49: =(AG49*O49*(1-O$2))+(AG49*P49*(1-AA49-O$2))+(AG49*Q49*(1-AE$5))+(AG49*R49*(1-R$2))+(AG49*S49*(1-S$2))+(AG49*T49*(1-T$2))+(AG49*U49*(1-U$2))+(AG49*V49*(1-V$2))+(AG49*W49*(1-W$2)) -> 1.481112e+08 | AI49: =(AG49*O49*(1-O$2))-(X49*O49*(1-O$2)) -> 189086.28 | AJ49: =AI49/(AW49/AV49) -> 240835.03 | AK49: =AG49+(AJ49*O49)/(1-O$2)+(AJ49*P49)/(1-O$2-AA49)+(AJ49*Q49)/(1-AE49)+(AJ49*R49)/(1-R$2)+(AJ49*S49)/(1-S$2)+(AJ49*T49)/(1-T$2)+(AJ49*U49)/(1-U$2)+(AJ49*V49)/(1-V$2)+(AJ49*W49)/(1-W$2) -> 1.5813461e+08 | AL49: =(AK49*O49*(1-O$2))+(AK49*P49*(1-AA49-O$2))+(AK49*Q49*(1-AE$5))+(AK49*R49*(1-R$2))+(AK49*S49*(1-S$2))+(AK49*T49*(1-T$2))+(AK49*U49*(1-U$2))+(AK49*V49*(1-V$2))+(AK49*W49*(1-W$2)) -> 1.4835249e+08 | AM49: =(AK49*O49*(1-O$2))-(X49*O49*(1-O$2)) -> 240933.04 | AN49: =AM49/((O49*AL49)) -> 0.0074362697 | AO49: =AL49-AM49 -> 1.4811156e+08 | AP49: =(((AK49*O49*(1-O$2))/AL49)*AL49)-AM49-(((X49*O49*(1-O$2))/Z49)*Z49) -> 0 | AR49: =1-((((AK49*P49*(1-O$2-AA49))/AL49)*AL49)/(X49*P49)) -> 0.18571846 | AS49: =AR49-$O$2 -> 0.10871846 | AT49: =1-((((AK49*Q49*(1-AE49))/AL49)*AL49)/(X49*Q49)) -> 0.079395842 | AU49: =AT49-$O$2 -> 0.002395842 | AV49: =$O49*(1-$O$2)+$P49*(1-$O$2-$AA49)+$Q49*(1-$AE49)+$R49*(1-$R$2)+$S49*(1-$S$2)+$T49*(1-$T$2)+$U49*(1-$U$2)+$V49*(1-$V$2)+$W49*(1-$W$2) -> 0.93814058 | AW49: =$P49*(1-$O$2-$AA49)+$Q49*(1-$AE49)+$R49*(1-$R$2)+$S49*(1-$S$2)+$T49*(1-$T$2)+$U49*(1-$U$2)+$V49*(1-$V$2)+$W49*(1-$W$2) -> 0.73656028 | AY49: =(X49*$O49*($O$2)) -> 2639180.3 | AZ49: =(X49*$P49*($O$2)) -> 519189.02 | BA49: =(X49*Q49*($Q$2)) -> 854432.94 | BB49: =(X49*$R49*($R$2)) -> 3805447.3 | BC49: =(X49*$S49*($S$2))+(X49*$T49*($T$2))+(X49*$U49*($U$2))+(X49*$V49*($V$2))+(X49*$W49*($W$2)) -> 1011577 | BD49: =SUM(AY49:BC49)-(X49-Z49) -> 1.8626451e-08 | BF49: =(AK49*$O49*($O$2)) -> 2659279.8 | BG49: =(AK49*$P49*($O$2+$AA49)) -> 1303597.8 | BH49: =(AK49*Q49*($AE49)) -> 965527.6 | BI49: =(AK49*$R49*($R$2)) -> 3834428.9 | BJ49: =(AK49*$S49*($S$2))+(AK49*$T49*($T$2))+(AK49*$U49*($U$2))+(AK49*$V49*($V$2))+(AK49*$W49*($W$2)) -> 1019281 | BK49: =SUM(BF49:BJ49)-(AK49-AL49) -> 0 | BM49: =X49 -> 1.5693939e+08 | BN49: =AY49 -> 2639180.3 | BO49: =AZ49 -> 519189.02 | BP49: =BA49 -> 854432.94 | BQ49: =BB49 -> 3805447.3 | BR49: =BC49 -> 1011577 | BS49: =BM49-SUM(BN49:BR49) -> 1.4810956e+08 | BU49: =AK49 -> 1.5813461e+08 | BV49: =BF49 -> 2659279.8 | BW49: =AM49 -> 240933.04 | BX49: =BG49 -> 1303597.8 | BY49: =BH49 -> 965527.6 | BZ49: =BI49 -> 3834428.9 | CA49: =BJ49 -> 1019281 | CB49: =BU49-SUM(BV49:CA49) -> 1.4811156e+08 | CD49: =CB49-BS49 -> 1999.647 | CE49: =CD49/BS49 -> 1.3501134e-05 | CF49: =($X49*O49) -> 34275069 | CG49: =CF49-AY49 -> 31635889 | CH49: =($AK49*O49)-BF49-AM49 -> 31635889 | CI49: =CH49-CG49 -> 0 | CK49: =1-CH49/CF49 -> 0.077 | CL49: =1-CG49/CF49 -> 0.077
C51: Statewide | D51: =SUM(D5:D49) -> 2.085988e+10 | E51: =SUM(E5:E49) -> 6.5474987e+09 | F51: =SUM(F5:F49) -> 1.0872599e+09 | G51: =SUM(G5:G49) -> 1.2552957e+09 | H51: =SUM(H5:H49) -> 8.0954965e+08 | I51: =SUM(I5:I49) -> 3.4402817e+09 | J51: =SUM(J5:J49) -> 1.3270489e+09 | K51: =SUM(K5:K49) -> 1.5070943e+09 | ... M51: =SUM(M5:M49) -> 8.2179307e+08 | N51: =D51-SUM(E51:M51) -> 3.9838179e+09 | O51: =E51/$D51 -> 0.31387998 | P51: =F51/$D51 -> 0.05212206 | Q51: =G51/$D51 -> 0.060177512 | R51: =(H51+I51)/$D51 -> 0.2037323 | S51: =J51/$D51 -> 0.063617284 | T51: =K51/$D51 -> 0.072248466 | U51: =L51/$D51 -> 0.0038466097 | V51: =M51/$D51 -> 0.039395868 | W51: =(N51)/$D51 -> 0.19097991 | X51: =SUM(X5:X49) -> 1.1529295e+10 | Y51: =SUM(Y5:Y49) -> 2.2934742e+10 | Z51: =SUM(Z5:Z49) -> 1.0892259e+10 | AA51: 0.114873 | AB51: =SUM(AB5:AB49) -> 1.0823346e+10 | AC51: =SUM(AC5:AC49) -> 1.1603113e+10 | AD51: =SUM(AD5:AD49) -> 1.0892421e+10 | AE51: 0.086354 | AF51: =SUM(AF5:AF49) -> 1.0885886e+10 | AG51: =SUM(AG5:AG49) -> 1.1610115e+10 | AH51: =SUM(AH5:AH49) -> 1.0892435e+10 | AI51: =SUM(AI5:AI49) -> 23261538 | AJ51: =SUM(AJ5:AJ49) -> 34716204 | AK51: =SUM(AK5:AK49) -> 1.164733e+10 | AL51: =SUM(AL5:AL49) -> 1.092723e+10 | AM51: =SUM(AM5:AM49) -> 34741650 | AN51: =AM51/((O51*AL51)) -> 0.010129237 | AO51: =SUM(AO5:AO49) -> 1.0892488e+10 | AP51: =SUM(AP5:AP49) -> 0 | AR51: =1-((AK51*P51*(1-O$2-AA51))/(X51*P51)) -> 0.18359951 | AS51: =AR51-$O$2 -> 0.10659951 | AT51: =1-((((AK51*Q51*(1-AE51))/AL51)*AL51)/(X51*Q51)) -> 0.07700022 | AU51: =AT51-$O$2 -> 2.2028374e-07 | AV51: =$O51*(1-$O$2)+$P51*(1-$O$2-$AA51)+$Q51*(1-$AE51)+$R51*(1-$R$2)+$S51*(1-$S$2)+$T51*(1-$T$2)+$U51*(1-$U$2)+$V51*(1-$V$2)+$W51*(1-$W$2) -> 0.93817358 | AW51: =$P51*(1-$O$2-$AA51)+$Q51*(1-$AE51)+$R51*(1-$R$2)+$S51*(1-$S$2)+$T51*(1-$T$2)+$U51*(1-$U$2)+$V51*(1-$V$2)+$W51*(1-$W$2) -> 0.64846235 | AY51: =SUM(AY5:AY49) -> 2.7880619e+08 | AZ51: =SUM(AZ5:AZ49) -> 46192630 | BA51: =SUM(BA5:BA49) -> 53409788 | BB51: =SUM(BB5:BB49) -> 1.8041834e+08 | BC51: =SUM(BC5:BC49) -> 78208998 | BD51: =SUM(BD5:BD49) -> 3.5314588e-07 | BF51: =SUM(BF5:BF49) -> 2.8170446e+08 | BG51: =SUM(BG5:BG49) -> 1.1659251e+08 | BH51: =SUM(BH5:BH49) -> 60604983 | BI51: =SUM(BI5:BI49) -> 1.8226172e+08 | BJ51: =SUM(BJ5:BJ49) -> 78936367 | BK51: =SUM(BK5:BK49) -> 4.6973582e-07 | BM51: =SUM(BM5:BM49) -> 1.1529295e+10 | BN51: =SUM(BN5:BN49) -> 2.7880619e+08 | BO51: =SUM(BO5:BO49) -> 46192630 | BP51: =SUM(BP5:BP49) -> 53409788 | BQ51: =SUM(BQ5:BQ49) -> 1.8041834e+08 | BR51: =SUM(BR5:BR49) -> 78208998 | BS51: =SUM(BS5:BS49) -> 1.0892259e+10 | BU51: =SUM(BU5:BU49) -> 1.164733e+10 | BV51: =SUM(BV5:BV49) -> 2.8170446e+08 | BW51: =SUM(BW5:BW49) -> 34741650 | BX51: =SUM(BX5:BX49) -> 1.1659251e+08 | BY51: =SUM(BY5:BY49) -> 60604983 | BZ51: =SUM(BZ5:BZ49) -> 1.8226172e+08 | CA51: =SUM(CA5:CA49) -> 78936367 | CB51: =SUM(CB5:CB49) -> 1.0892488e+10 | CD51: =SUM(CD5:CD49) -> 229555.76 | CE51: =CD51/BS51 -> 2.1075129e-05 | CF51: =SUM(CF5:CF49) -> 3.6208596e+09 | CG51: =SUM(CG5:CG49) -> 3.3420534e+09 | CH51: =SUM(CH5:CH49) -> 3.3420534e+09 | CI51: =CH51-CG51 -> 0 | CK51: =1-CH51/CF51 -> 0.077 | CL51: =1-CG51/CF51 -> 0.077
BM53: Gross | BN53: =$BM$51*O51 -> 3.6188149e+09 | BO53: =$BM$51*P51 -> 6.0093059e+08 | BP53: =$BM$51*Q51 -> 6.9380428e+08 | BQ53: =$BM$51*R51 -> 2.3488898e+09 | BR53: =BM51-SUM(BN53:BQ53) -> 4.2668552e+09 | BU53: Gross | BV53: =$BU$51*O51 -> 3.6558638e+09 | BX53: =$BU$51*P51 -> 6.0708284e+08 | BY53: =$BU$51*Q51 -> 7.0090735e+08 | BZ53: =$BU$51*R51 -> 2.3729374e+09 | CA53: =BU51-SUM(BV53:BZ53) -> 4.3105387e+09
BM54: Discount | BN54: =(X51*$O51*($O$2)) -> 2.7864874e+08 | BO54: =(X51*$P51*($O$2)) -> 46271656 | BP54: =(X51*Q51*($Q$2)) -> 53422929 | BQ54: =(X51*$R51*($R$2)) -> 1.8086451e+08 | BR54: =(X51*$S51*($S$2))+(X51*$T51*($T$2))+(X51*$U51*($U$2))+(X51*$V51*($V$2))+(X51*$W51*($W$2)) -> 78086629 | BU54: Discount | BV54: =(AK51*$O51*($O$2))+AM51 -> 3.1624316e+08 | BX54: =(AK51*$P51*($O$2+$AA51)) -> 1.1648281e+08 | BY54: =(AK51*Q51*($AE51)) -> 60526153 | BZ54: =(AK51*$R51*($R$2)) -> 1.8271618e+08 | CA54: =(AK51*$S51*($S$2))+(AK51*$T51*($T$2))+(AK51*$U51*($U$2))+(AK51*$V51*($V$2))+(AK51*$W51*($W$2)) -> 78886069
BM55: Net | BN55: =BN53-BN54 -> 3.3401661e+09 | BO55: =BO53-BO54 -> 5.5465894e+08 | BP55: =BP53-BP54 -> 6.4038135e+08 | BQ55: =BQ53-BQ54 -> 2.1680253e+09 | BR55: =BR53-BR54 -> 4.1887686e+09 | BU55: Net | BV55: =BV53-BV54 -> 3.3396206e+09 | BX55: =BX53-BX54 -> 4.9060003e+08 | BY55: =BY53-BY54 -> 6.403812e+08 | BZ55: =BZ53-BZ54 -> 2.1902212e+09 | CA55: =CA53-CA54 -> 4.2316526e+09
BU57: Total Discount | BV57: =1-BV55/BN53 -> 0.077150739 | BX57: =1-BX55/BO53 -> 0.18359951 | BY57: =1-BY55/BP53 -> 0.07700022 | BZ57: =1-BZ55/BQ53 -> 0.067550455
BY59: Increase | BZ59: =BZ55/BQ55-1 -> 0.01023786 | CA59: =CA55/BR55-1 -> 0.01023786

Sheet Scenario 1 - increased MA % 
N1: 0.077 | O1: 0.1122 | P1: 0.077 | Q1: 0.077 | R1: 0.0225 | S1: 0.02 | T1: 0.02 | U1: 0 | V1: 0.02
A2: *missing CY hosp | N2: 0.077 | P2: 0.077 | Q2: 0.077 | R2: 0.0225 | S2: 0.02 | T2: 0.02 | U2: 0 | V2: 0.02 | AD2: Should be 10.66% | AF2: Should be 0%
C3: FY25 PDA | N3: Percent Share | AC3: MA QP | AE3: MA non QP | AJ3: Discount Break Out - As Is | AQ3: Discount Break Out - Final
A4: Short ID | B4: HospID | C4: GPR | D4: FFS Rev | E4: MA Rev (New Differential) | F4: MA Rev (Other) | G4: Medicaid Rev | H4: Medicaid MCO Rev | I4: BCBCS IP | J4: BCBS OP | K4: Medicare Deductibles (Paid by Medicaid) | L4: UCC | M4: Other Payers | N4: FFS | O4: MA QP | P4: MA Non QP | Q4: Medicaid | R4: BCBS IP | S4: BCBS OP | T4: Medicare Deduct | U4: UCC | V4: Other | W4: Gross GBR w MPA & Differential Changes | X4: Net GBR (before MPA adj) | Y4: MPA Adjustment | Z4: Final Net GBR (post MPA adj) | AA4: Net Medicare FFS | AC4: Discount v Old Gross | AD4: Incremental v Old Gross | AE4: Discount v Old Gross | AF4: Incremental v Old Gross | AG4: Total Net Share, after MA Changes | AH4: CO+Medicaid Net Share | AJ4: MC FFS | AK4: MA QP | AL4: MA Non-QP | AM4: Medicaid | AN4: All Other | AO4: Check | AQ4: MC FFS | AR4: MA QP | AS4: MA Non-QP | AT4: Medicaid | AU4: All Other | AV4: Check | AX4: Gross GBR (Pre) | AY4: Medicare FFS Discount (Pre) | AZ4: Medicare Advantage QP Discount (Pre) | BA4: Medicare Advantage non-QP Discount (Pre) | BB4: Medicaid Discount (Pre) | BC4: All Other Discount (Pre) | BD4: Net GBR (Pre) | BF4: Gross GBR (Post) | BG4: Medicare FFS Discount (Post) | BH4: MPA | BI4: Medicare Advantage QP Discount (Post) | BJ4: Medicare Advantage non-QP Discount (Post) | BK4: Medicaid Discount (Post) | BL4: All Other Discount (Post) | BM4: Net GBR (Post) | BO4: Net Profit (Loss)
A5: 1 | B5: 210001 | C5: 540426100 | D5: =SUM('Modeling - Base Estimates'!E5:G5)-SUM('Scenario 1 - increased MA % '!E5:F5) -> 181167625 | E5: =((SUM('Modeling - Base Estimates'!F5:G5)/SUM('Modeling - Base Estimates'!E5:G5)+$E$63))*SUM('Modeling - Base Estimates'!E5:G5)*('Modeling - Base Estimates'!F5/SUM('Modeling - Base Estimates'!F5:G5)) -> 19953026 | F5: =((SUM('Modeling - Base Estimates'!F5:G5)/SUM('Modeling - Base Estimates'!E5:G5)+$E$63))*SUM('Modeling - Base Estimates'!E5:G5)*('Modeling - Base Estimates'!G5/SUM('Modeling - Base Estimates'!F5:G5)) -> 76664849 | G5: 15216900 | H5: 83029700 | I5: 28769300 | J5: 39563100 | K5: 0 | L5: 24180500 | M5: =C5-SUM(D5:L5) -> 71881100 | N5: =D5/$C5 -> 0.33523108 | O5: =E5/$C5 -> 0.036920915 | P5: =F5/$C5 -> 0.14186 | Q5: =(G5+H5)/$C5 -> 0.1817947 | R5: =I5/$C5 -> 0.053234476 | S5: =J5/$C5 -> 0.073207234 | T5: =K5/$C5 -> 0 | U5: =L5/$C5 -> 0.044743398 | V5: =(M5)/$C5 -> 0.13300819 | W5: =SUMIFS('Modeling - Base Estimates'!AK:AK,'Modeling - Base Estimates'!A:A,A5) -> 3.1422728e+08 | X5: =(W5*N5*(1-N$2))+(W5*O5*(1-'Modeling - Base Estimates'!$AA$51-N$2))+(W5*P5*(1-'Modeling - Base Estimates'!$AE$51))+(W5*Q5*(1-Q$2))+(W5*R5*(1-R$2))+(W5*S5*(1-S$2))+(W5*T5*(1-T$2))+(W5*U5*(1-U$2))+(W5*V5*(1-V$2)) -> 2.9396987e+08 | Y5: =X5*N5*SUMIFS('Modeling - Base Estimates'!AN:AN,'Modeling - Base Estimates'!A:A,A5) -> 763428.59 | Z5: =X5-Y5 -> 2.9320645e+08 | AA5: =(((W5*N5*(1-N$2))/X5)*X5)-Y5-(((SUMIFS('Modeling - Base Estimates'!X:X,'Modeling - Base Estimates'!A:A,A5)*N5*(1-N$2))/SUMIFS('Modeling - Base Estimates'!Z:Z,'Modeling - Base Estimates'!A:A,A5))*SUMIFS('Modeling - Base Estimates'!Z:Z,'Modeling - Base Estimates'!A:A,A5)) -> 653.19738 | AC5: =1-((((W5*O5*(1-N$2-'Modeling - Base Estimates'!$AA$51))/X5)*X5)/('Modeling - Base Estimates'!X5*'Modeling - Base Estimates'!P5)) -> 0.048721044 | AD5: =AC5-$N$2 -> -0.028278956 | AE5: =1-((((W5*P5*(1-'Modeling - Base Estimates'!$AE$51))/X5)*X5)/(SUMIFS('Modeling - Base Estimates'!X:X,'Modeling - Base Estimates'!A:A,A5)*'Modeling - Base Estimates'!Q5)) -> -0.075489636 | AF5: =AE5-$N$2 -> -0.15248964 | AG5: =$N5*(1-$N$2)+$O5*(1-$N$2-'Modeling - Base Estimates'!$AA$51)+$P5*(1-'Modeling - Base Estimates'!$AE$51)+$Q5*(1-$Q$2)+$R5*(1-$R$2)+$S5*(1-$S$2)+$T5*(1-$T$2)+$U5*(1-$U$2)+$V5*(1-$V$2) -> 0.93553263 | AH5: =$S5*(1-$R$2-'Modeling - Base Estimates'!$AA$51)+$T5*(1-'Modeling - Base Estimates'!$AE$51)+$U5*(1-$U$2)+$V5*(1-$V$2)+$W5*(1-$W$2)+$X5*(1-$X$2)+$Y5*(1-$Y$2)+$Z5*(1-$Z$2) -> 9.0216703e+08 | AJ5: =(SUMIFS('Modeling - Base Estimates'!$X:$X,'Modeling - Base Estimates'!$A:$A,$A5)*SUMIFS('Modeling - Base Estimates'!O:O,'Modeling - Base Estimates'!$A:$A,$A5)*($N$2)) -> 8664293.4 | AK5: =(SUMIFS('Modeling - Base Estimates'!$X:$X,'Modeling - Base Estimates'!$A:$A,$A5)*SUMIFS('Modeling - Base Estimates'!P:P,'Modeling - Base Estimates'!$A:$A,$A5)*($N$2)) -> 758889.95 | AL5: =(SUMIFS('Modeling - Base Estimates'!$X:$X,'Modeling - Base Estimates'!$A:$A,$A5)*SUMIFS('Modeling - Base Estimates'!Q:Q,'Modeling - Base Estimates'!$A:$A,$A5)*($N$2)) -> 2915857.6 | AM5: =(SUMIFS('Modeling - Base Estimates'!$X:$X,'Modeling - Base Estimates'!$A:$A,$A5)*SUMIFS('Modeling - Base Estimates'!R:R,'Modeling - Base Estimates'!$A:$A,$A5)*($N$2)) -> 4364046.4 | AN5: =(SUMIFS('Modeling - Base Estimates'!X:X,'Modeling - Base Estimates'!A:A,$A5)*$R5*($R$2))+(SUMIFS('Modeling - Base Estimates'!X:X,'Modeling - Base Estimates'!A:A,$A5)*$S5*($S$2))+(SUMIFS('Modeling - Base Estimates'!X:X,'Modeling - Base Estimates'!A:A,$A5)*$T5*($T$2))+(SUMIFS('Modeling - Base Estimates'!X:X,'Modeling - Base Estimates'!A:A,$A5)*$U5*($U$2))+(SUMIFS('Modeling - Base Estimates'!X:X,'Modeling - Base Estimates'!A:A,$A5)*$V5*($V$2)) -> 1659201.6 | AO5: =SUM(AJ5:AN5)-(SUMIFS('Modeling - Base Estimates'!X:X,'Modeling - Base Estimates'!A:A,A5)-SUMIFS('Modeling - Base Estimates'!Z:Z,'Modeling - Base Estimates'!A:A,A5)) -> 0 | AQ5: =(W5*$N5*($N$2)) -> 8111083.8 | AR5: =(W5*$O5*($N$2+'Modeling - Base Estimates'!$AA$51)) -> 2226025.9 | AS5: =(W5*P5*('Modeling - Base Estimates'!$AE$51)) -> 3849340.4 | AT5: =(W5*$Q5*($Q$2)) -> 4398613.8 | AU5: =(W5*$R5*($R$2))+(W5*$S5*($S$2))+(W5*$T5*($T$2))+(W5*$U5*($U$2))+(W5*$V5*($V$2)) -> 1672344.1 | AV5: =SUM(AQ5:AU5)-(W5-X5) -> -2.9802322e-08 | AX5: =SUMIFS('Modeling - Base Estimates'!X:X,'Modeling - Base Estimates'!A:A,A5) -> 3.1175787e+08 | AY5: =AJ5 -> 8664293.4 | AZ5: =AK5 -> 758889.95 | BA5: =AL5 -> 2915857.6 | BB5: =AM5 -> 4364046.4 | BC5: =AN5 -> 1659201.6 | BD5: =AX5-SUM(AY5:BC5) -> 2.9339558e+08 | BF5: =W5 -> 3.1422728e+08 | BG5: =AQ5 -> 8111083.8 | BH5: =Y5 -> 763428.59 | BI5: =AR5 -> 2226025.9 | BJ5: =AS5 -> 3849340.4 | BK5: =AT5 -> 4398613.8 | BL5: =AU5 -> 1672344.1 | BM5: =BF5-SUM(BG5:BL5) -> 2.9320645e+08 | BO5: =BM5-BD5 -> -189133.71 | BP5: =BO5/BD5 -> -0.00064463721
A6: 2 | B6: 210002 | C6: 1.9989426e+09 | D6: =SUM('Modeling - Base Estimates'!E6:G6)-SUM('Scenario 1 - increased MA % '!E6:F6) -> 5.2099505e+08 | E6: =((SUM('Modeling - Base Estimates'!F6:G6)/SUM('Modeling - Base Estimates'!E6:G6)+$E$63))*SUM('Modeling - Base Estimates'!E6:G6)*('Modeling - Base Estimates'!F6/SUM('Modeling - Base Estimates'!F6:G6)) -> 1.1168852e+08 | F6: =((SUM('Modeling - Base Estimates'!F6:G6)/SUM('Modeling - Base Estimates'!E6:G6)+$E$63))*SUM('Modeling - Base Estimates'!E6:G6)*('Modeling - Base Estimates'!G6/SUM('Modeling - Base Estimates'!F6:G6)) -> 1.5711104e+08 | G6: 89178014 | H6: 4.113143e+08 | I6: 196198153 | J6: 1.092107e+08 | K6: 6086659.5 | L6: 43032337 | M6: =C6-SUM(D6:L6) -> 3.5412787e+08 | N6: =D6/$C6 -> 0.26063532 | O6: =E6/$C6 -> 0.055873801 | P6: =F6/$C6 -> 0.078597072 | Q6: =(G6+H6)/$C6 -> 0.25037852 | R6: =I6/$C6 -> 0.098150967 | S6: =J6/$C6 -> 0.054634234 | T6: =K6/$C6 -> 0.0030449395 | U6: =L6/$C6 -> 0.02152755 | V6: =(M6)/$C6 -> 0.1771576 | W6: =SUMIFS('Modeling - Base Estimates'!AK:AK,'Modeling - Base Estimates'!A:A,A6) -> 1.119458e+09 | X6: =(W6*N6*(1-N$2))+(W6*O6*(1-'Modeling - Base Estimates'!$AA$51-N$2))+(W6*P6*(1-'Modeling - Base Estimates'!$AE$51))+(W6*Q6*(1-Q$2))+(W6*R6*(1-R$2))+(W6*S6*(1-S$2))+(W6*T6*(1-T$2))+(W6*U6*(1-U$2))+(W6*V6*(1-V$2)) -> 1.0480802e+09 | Y6: =X6*N6*SUMIFS('Modeling - Base Estimates'!AN:AN,'Modeling - Base Estimates'!A:A,A6) -> 2403816.6 | Z6: =X6-Y6 -> 1.0456763e+09 | AA6: =(((W6*N6*(1-N$2))/X6)*X6)-Y6-(((SUMIFS('Modeling - Base Estimates'!X:X,'Modeling - Base Estimates'!A:A,A6)*N6*(1-N$2))/SUMIFS('Modeling - Base Estimates'!Z:Z,'Modeling - Base Estimates'!A:A,A6))*SUMIFS('Modeling - Base Estimates'!Z:Z,'Modeling - Base Estimates'!A:A,A6)) -> 2698.3245 | AC6: =1-((((W6*O6*(1-N$2-'Modeling - Base Estimates'!$AA$51))/X6)*X6)/('Modeling - Base Estimates'!X6*'Modeling - Base Estimates'!P6)) -> 0.044163036 | AD6: =AC6-$N$2 -> -0.032836964 | AE6: =1-((((W6*P6*(1-'Modeling - Base Estimates'!$AE$51))/X6)*X6)/(SUMIFS('Modeling - Base Estimates'!X:X,'Modeling - Base Estimates'!A:A,A6)*'Modeling - Base Estimates'!Q6)) -> -0.080642794 | AF6: =AE6-$N$2 -> -0.15764279 | AG6: =$N6*(1-$N$2)+$O6*(1-$N$2-'Modeling - Base Estimates'!$AA$51)+$P6*(1-'Modeling - Base Estimates'!$AE$51)+$Q6*(1-$Q$2)+$R6*(1-$R$2)+$S6*(1-$S$2)+$T6*(1-$T$2)+$U6*(1-$U$2)+$V6*(1-$V$2) -> 0.93623896 | AH6: =$O6*(1-$N$2-#REF!)+$P6*(1-#REF!)+$Q6*(1-$Q$2)+$R6*(1-$R$2)+$S6*(1-$S$2)+$T6*(1-$T$2)+$U6*(1-$U$2)+$V6*(1-$V$2) -> #REF! | AJ6: =(SUMIFS('Modeling - Base Estimates'!$X:$X,'Modeling - Base Estimates'!$A:$A,$A6)*SUMIFS('Modeling - Base Estimates'!O:O,'Modeling - Base Estimates'!$A:$A,$A6)*($N$2)) -> 23953208 | AK6: =(SUMIFS('Modeling - Base Estimates'!$X:$X,'Modeling - Base Estimates'!$A:$A,$A6)*SUMIFS('Modeling - Base Estimates'!P:P,'Modeling - Base Estimates'!$A:$A,$A6)*($N$2)) -> 4071950.8 | AL6: =(SUMIFS('Modeling - Base Estimates'!$X:$X,'Modeling - Base Estimates'!$A:$A,$A6)*SUMIFS('Modeling - Base Estimates'!Q:Q,'Modeling - Base Estimates'!$A:$A,$A6)*($N$2)) -> 5727969.2 | AM6: =(SUMIFS('Modeling - Base Estimates'!$X:$X,'Modeling - Base Estimates'!$A:$A,$A6)*SUMIFS('Modeling - Base Estimates'!R:R,'Modeling - Base Estimates'!$A:$A,$A6)*($N$2)) -> 21389334 | AN6: =(SUMIFS('Modeling - Base Estimates'!X:X,'Modeling - Base Estimates'!A:A,$A6)*$R6*($R$2))+(SUMIFS('Modeling - Base Estimates'!X:X,'Modeling - Base Estimates'!A:A,$A6)*$S6*($S$2))+(SUMIFS('Modeling - Base Estimates'!X:X,'Modeling - Base Estimates'!A:A,$A6)*$T6*($T$2))+(SUMIFS('Modeling - Base Estimates'!X:X,'Modeling - Base Estimates'!A:A,$A6)*$U6*($U$2))+(SUMIFS('Modeling - Base Estimates'!X:X,'Modeling - Base Estimates'!A:A,$A6)*$V6*($V$2)) -> 7660929.4 | AO6: =SUM(AJ6:AN6)-(SUMIFS('Modeling - Base Estimates'!X:X,'Modeling - Base Estimates'!A:A,A6)-SUMIFS('Modeling - Base Estimates'!Z:Z,'Modeling - Base Estimates'!A:A,A6)) -> 1.1920929e-07 | AQ6: =(W6*$N6*($N$2)) -> 22466312 | AR6: =(W6*$O6*($N$2+'Modeling - Base Estimates'!$AA$51)) -> 12001344 | AS6: =(W6*P6*('Modeling - Base Estimates'!$AE$51)) -> 7597953.2 | AT6: =(W6*$Q6*($Q$2)) -> 21582194 | AU6: =(W6*$R6*($R$2))+(W6*$S6*($S$2))+(W6*$T6*($T$2))+(W6*$U6*($U$2))+(W6*$V6*($V$2)) -> 7730005.2 | AV6: =SUM(AQ6:AU6)-(W6-X6) -> -2.5331974e-07 | AX6: =SUMIFS('Modeling - Base Estimates'!X:X,'Modeling - Base Estimates'!A:A,A6) -> 1.1094544e+09 | AY6: =AJ6 -> 23953208 | AZ6: =AK6 -> 4071950.8 | BA6: =AL6 -> 5727969.2 | BB6: =AM6 -> 21389334 | BC6: =AN6 -> 7660929.4 | BD6: =AX6-SUM(AY6:BC6) -> 1.046651e+09 | BF6: =W6 -> 1.119458e+09 | BG6: =AQ6 -> 22466312 | BH6: =Y6 -> 2403816.6 | BI6: =AR6 -> 12001344 | BJ6: =AS6 -> 7597953.2 | BK6: =AT6 -> 21582194 | BL6: =AU6 -> 7730005.2 | BM6: =BF6-SUM(BG6:BL6) -> 1.0456763e+09 | BO6: =BM6-BD6 -> -974695.2 | BP6: =BO6/BD6 -> -0.00093125136
