Workbook

Sheet Modeling - Base Estimates
O1: 0.077 | P1: 0.1122 | Q1: 0.077 | R1: 0.077 | S1: 0.0225 | T1: 0.02 | U1: 0.02 | V1: 0 | W1: 0.02
N2: Discount: | O2: 0.077 | P2: 0.077 | Q2: 0.077 | R2: 0.077 | S2: 0.0225 | T2: 0.02 | U2: 0.02 | V2: 0 | W2: 0.02 | AS2: Should be 10.66% | AU2: Should be 0%
D3: FY25 PDA | O3: Percent Share | AR3: MA QP | AT3: MA non QP | AY3: Discount Break Out - As Is | BF3: Discount Break Out - Final | CK3: Effective Discount
A4: Short ID | B4: HospID | C4: Hospital Name | D4: Gross Patient Revenue | E4: Medicare FFS Revenue | F4: Medicare Advantage Revenue - Qualifying Plans | G4: Medicare Advantage Revenue - Non-Qualifying Plans | H4: Medicaid Revenue | I4: Medicaid MCO Revenue | J4: Commercial Inpatient Revenue | K4: Commercial Outpatient Revenue | L4: Medicare Deductibles (Paid by Medicaid) | M4: UCC | N4: Other Payers | O4: Medicare FFS | P4: Medicare Advantage - Qualifying Plans | Q4: Medicare Advantage - Non-Qualifying Plans | R4: Medicaid | S4: Commercial IP | T4: Commercial OP | U4: Medicare Deductible | V4: UCC | W4: Other Payers | X4: FY27 GBR (Preliminary), Gross - Jan to Jun | Y4: FY27 GBR (Preliminary) | Z4: FY27 GBR, Net | AA4: Incremental New MA QP Discount | AB4: FY27 Orig GBR, Net w MA QP Differential Change | AC4: FY27 GBR, Gross w MA QP Differential Change | AD4: FY27 GBR, New Net | AE4: New MA NonQP Discount | AF4: FY27 GBR w MA QP Change, Net w MA Non-QP Differential Change | AG4: FY27 GBR, Gross w MA Non QP Differential Change | AH4: FY27 GBR, New Net | AI4: MPA Offset | AJ4: MPA Offset w Mark Up | AK4: FY27 GBR, Gross with MPA | AL4: FY27 GBR, Net with MPA | AM4: MPA Adjustment | AN4: MPA % | AO4: FY27 GBR, Net after MPA Adjustment | AP4: Net Medicare FFS | AR4: Discount v Old Gross | AS4: Incremental v Old Gross | AT4: Discount v Old Gross | AU4: Incremental v Old Gross | AV4: Total Net Share, after MA Changes | AW4: CO+Medicaid Net Share | AY4: MC FFS | AZ4: MA QP | BA4: MA Non-QP | BB4: Medicaid | BC4: All Other | BD4: Check | BF4: MC FFS | BG4: MA QP | BH4: MA Non-QP | BI4: Medicaid | BJ4: All Other | BK4: Check | BM4: Gross GBR (Pre) | BN4: Medicare FFS Discount (Pre) | BO4: Medicare Advantage QP Discount (Pre) | BP4: Medicare Advantage non-QP Discount (Pre) | BQ4: Medicaid Discount (Pre) | BR4: All Other Discount (Pre) | BS4: Net GBR (Pre) | BU4: Gross GBR (Post) | BV4: Medicare FFS Discount (Post) | BW4: MPA | BX4: Medicare Advantage QP Discount (Post) | BY4: Medicare Advantage non-QP Discount (Post) | BZ4: Medicaid Discount (Post) | CA4: All Other Discount (Post) | CB4: Net GBR (Post) | CD4: Net Increase (Decrease) | CF4: Gross FFS (Pre) | CG4: Net FFS (Pre) | CH4: Net FFS (Post) | CI4: Difference | CK4: New | CL4: Orig
A5: 1 | B5: 210001 | D5: 540426100 | E5: 195056900 | F5: 17084685 | G5: 65643915 | H5: 15216900 | I5: 83029700 | J5: 28769300 | K5: 39563100 | L5: 0 | M5: 24180500 | N5: =D5-SUM(E5:M5) -> 71881100 | O5: =E5/$D5 -> 0.36093168 | P5: =F5/$D5 -> 0.03161336 | Q5: =G5/$D5 -> 0.12146696 | R5: =(H5+I5)/$D5 -> 0.1817947 | S5: =J5/$D5 -> 0.053234476 | T5: =K5/$D5 -> 0.073207234 | U5: =L5/$D5 -> 0 | V5: =M5/$D5 -> 0.044743398 | W5: =(N5)/$D5 -> 0.13300819 | X5: =Y5*(1-0.4973) -> 3.1175787e+08 | Y5: 6.2016684e+08 | Z5: =(X5*O5*(1-O$2))+(X5*P5*(1-O$2))+(X5*Q5*(1-Q$2))+(X5*R5*(1-R$2))+(X5*S5*(1-S$2))+(X5*T5*(1-T$2))+(X5*U5*(1-U$2))+(X5*V5*(1-V$2))+(X5*W5*(1-W$2)) -> 2.9339558e+08 | AA5: =$AA$51 -> 0.114873 | AB5: =(X5*O5*(1-O$2))+(X5*P5*(1-AA5-O$2))+(X5*Q5*(1-Q$2))+(X5*R5*(1-R$2))+(X5*S5*(1-S$2))+(X5*T5*(1-T$2))+(X5*U5*(1-U$2))+(X5*V5*(1-V$2))+(X5*W5*(1-W$2)) -> 2.9226342e+08 | AC5: =((Z5-AB5)*O5/(1-O$2))+((Z5-AB5)*P5/(1-(AA$5+O$2)))+((Z5-AB5)*Q5/(1-Q$2))+((Z5-AB5)*R5/(1-R$2))+((Z5-AB5)*S5/(1-S$2))+((Z5-AB5)*T5/(1-T$2))+((Z5-AB5)*U5/(1-U$2))+((Z5-AB5)*V5/(1-V$2))+((Z5-AB5)*W5/(1-W$2))+X5 -> 3.1296741e+08 | AD5: =(AC5*O5*(1-O$2))+(AC5*P5*(1-AA5-O$2))+(AC5*Q5*(1-Q$2))+(AC5*R5*(1-R$2))+(AC5*S5*(1-S$2))+(AC5*T5*(1-T$2))+(AC5*U5*(1-U$2))+(AC5*V5*(1-V$2))+(AC5*W5*(1-W$2)) -> 2.9339733e+08 | AE5: =$AE$51 -> 0.086354 | AF5: =(AC5*O5*(1-O$2))+(AC5*P5*(1-AA5-O$2))+(AC5*Q5*(1-AE$5))+(AC5*R5*(1-R$2))+(AC5*S5*(1-S$2))+(AC5*T5*(1-T$2))+(AC5*U5*(1-U$2))+(AC5*V5*(1-V$2))+(AC5*W5*(1-W$2)) -> 2.9304173e+08 | AG5: =((AD5-AF5)*O5/(1-O$2))+((AD5-AF5)*P5/(1-(AA$5+O$2)))+((AD5-AF5)*Q5/(1-AE$5))+((AD5-AF5)*R5/(1-R$2))+((AD5-AF5)*S5/(1-S$2))+((AD5-AF5)*T5/(1-T$2))+((AD5-AF5)*U5/(1-U$2))+((AD5-AF5)*V5/(1-V$2))+((AD5-AF5)*W5/(1-W$2))+AC5 -> 3.1334778e+08 | AH5: =(AG5*O5*(1-O$2))+(AG5*P5*(1-AA5-O$2))+(AG5*Q5*(1-AE$5))+(AG5*R5*(1-R$2))+(AG5*S5*(1-S$2))+(AG5*T5*(1-T$2))+(AG5*U5*(1-U$2))+(AG5*V5*(1-V$2))+(AG5*W5*(1-W$2)) -> 2.9339789e+08 | AI5: =(AG5*O5*(1-O$2))-(X5*O5*(1-O$2)) -> 529664.23 | AJ5: =AI5/(AW5/AV5) -> 822194.59 | AK5: =AG5+(AJ5*O5)/(1-O$2)+(AJ5*P5)/(1-O$2-AA5)+(AJ5*Q5)/(1-AE5)+(AJ5*R5)/(1-R$2)+(AJ5*S5)/(1-S$2)+(AJ5*T5)/(1-T$2)+(AJ5*U5)/(1-U$2)+(AJ5*V5)/(1-V$2)+(AJ5*W5)/(1-W$2) -> 3.1422728e+08 | AL5: =(AK5*O5*(1-O$2))+(AK5*P5*(1-AA5-O$2))+(AK5*Q5*(1-AE$5))+(AK5*R5*(1-R$2))+(AK5*S5*(1-S$2))+(AK5*T5*(1-T$2))+(AK5*U5*(1-U$2))+(AK5*V5*(1-V$2))+(AK5*W5*(1-W$2)) -> 2.942214e+08 | AM5: =(AK5*O5*(1-O$2))-(X5*O5*(1-O$2)) -> 822660.37 | AN5: =AM5/((O5*AL5)) -> 0.0077467817 | AO5: =AL5-AM5 -> 2.9339874e+08 | AP5: =(((AK5*O5*(1-O$2))/AL5)*AL5)-AM5-(((X5*O5*(1-O$2))/Z5)*Z5) -> 0 | AR5: =1-((((AK5*P5*(1-O$2-AA5))/AL5)*AL5)/(X5*P5)) -> 0.18547188 | AS5: =AR5-$O$2 -> 0.10847188 | AT5: =1-((((AK5*Q5*(1-AE5))/AL5)*AL5)/(X5*Q5)) -> 0.079117069 | AU5: =AT5-$O$2 -> 0.0021170694 | AV5: =$O5*(1-$O$2)+$P5*(1-$O$2-$AA5)+$Q5*(1-$AE5)+$R5*(1-$R$2)+$S5*(1-$S$2)+$T5*(1-$T$2)+$U5*(1-$U$2)+$V5*(1-$V$2)+$W5*(1-$W$2) -> 0.93633308 | AW5: =$P5*(1-$O$2-$AA5)+$Q5*(1-$AE5)+$R5*(1-$R$2)+$S5*(1-$S$2)+$T5*(1-$T$2)+$U5*(1-$U$2)+$V5*(1-$V$2)+$W5*(1-$W$2) -> 0.60319314 | AY5: =(X5*$O5*($O$2)) -> 8664293.4 | AZ5: =(X5*$P5*($O$2)) -> 758889.95 | BA5: =(X5*Q5*($Q$2)) -> 2915857.6 | BB5: =(X5*$R5*($R$2)) -> 4364046.4 | BC5: =(X5*$S5*($S$2))+(X5*$T5*($T$2))+(X5*$U5*($U$2))+(X5*$V5*($V$2))+(X5*$W5*($W$2)) -> 1659201.6 | BD5: =SUM(AY5:BC5)-(X5-Z5) -> 0 | BF5: =(AK5*$O5*($O$2)) -> 8732922.7 | BG5: =(AK5*$P5*($O$2+$AA5)) -> 1906024.2 | BH5: =(AK5*Q5*($AE5)) -> 3295979.6 | BI5: =(AK5*$R5*($R$2)) -> 4398613.8 | BJ5: =(AK5*$S5*($S$2))+(AK5*$T5*($T$2))+(AK5*$U5*($U$2))+(AK5*$V5*($V$2))+(AK5*$W5*($W$2)) -> 1672344.1 | BK5: =SUM(BF5:BJ5)-(AK5-AL5) -> 0 | BM5: =X5 -> 3.1175787e+08 | BN5: =AY5 -> 8664293.4 | BO5: =AZ5 -> 758889.95 | BP5: =BA5 -> 2915857.6 | BQ5: =BB5 -> 4364046.4 | BR5: =BC5 -> 1659201.6 | BS5: =BM5-SUM(BN5:BR5) -> 2.9339558e+08 | BU5: =AK5 -> 3.1422728e+08 | BV5: =BF5 -> 8732922.7 | BW5: =AM5 -> 822660.37 | BX5: =BG5 -> 1906024.2 | BY5: =BH5 -> 3295979.6 | BZ5: =BI5 -> 4398613.8 | CA5: =BJ5 -> 1672344.1 | CB5: =BU5-SUM(BV5:CA5) -> 2.9339874e+08 | CD5: =CB5-BS5 -> 3158.1744 | CE5: =CD5/BS5 -> 1.0764219e-05 | CF5: =($X5*O5) -> 1.1252329e+08 | CG5: =CF5-AY5 -> 1.03859e+08 | CH5: =($AK5*O5)-BF5-AM5 -> 1.03859e+08 | CI5: =CH5-CG5 -> 0 | CK5: =1-CH5/CF5 -> 0.077 | CL5: =1-CG5/CF5 -> 0.077
A6: 2 | B6: 210002 | D6: 1.9989426e+09 | E6: 5.6048478e+08 | F6: 95280202 | G6: 1.3402963e+08 | H6: 89178014 | I6: 4.113143e+08 | J6: 196198153 | K6: 1.092107e+08 | L6: 6086659.5 | M6: 43032337 | N6: =D6-SUM(E6:M6) -> 3.5412787e+08 | O6: =E6/$D6 -> 0.28039063 | P6: =F6/$D6 -> 0.0476653 | Q6: =G6/$D6 -> 0.067050263 | R6: =(H6+I6)/$D6 -> 0.25037852 | S6: =J6/$D6 -> 0.098150967 | T6: =K6/$D6 -> 0.054634234 | U6: =L6/$D6 -> 0.0030449395 | V6: =M6/$D6 -> 0.02152755 | W6: =(N6)/$D6 -> 0.1771576 | X6: =Y6*(1-0.4973) -> 1.1094544e+09 | Y6: 2.2069911e+09 | Z6: =(X6*O6*(1-O$2))+(X6*P6*(1-O$2))+(X6*Q6*(1-Q$2))+(X6*R6*(1-R$2))+(X6*S6*(1-S$2))+(X6*T6*(1-T$2))+(X6*U6*(1-U$2))+(X6*V6*(1-V$2))+(X6*W6*(1-W$2)) -> 1.046651e+09 | AA6: =$AA$51 -> 0.114873 | AB6: =(X6*O6*(1-O$2))+(X6*P6*(1-AA6-O$2))+(X6*Q6*(1-Q$2))+(X6*R6*(1-R$2))+(X6*S6*(1-S$2))+(X6*T6*(1-T$2))+(X6*U6*(1-U$2))+(X6*V6*(1-V$2))+(X6*W6*(1-W$2)) -> 1.0405763e+09 | AC6: =((Z6-AB6)*O6/(1-O$2))+((Z6-AB6)*P6/(1-(AA$5+O$2)))+((Z6-AB6)*Q6/(1-Q$2))+((Z6-AB6)*R6/(1-R$2))+((Z6-AB6)*S6/(1-S$2))+((Z6-AB6)*T6/(1-T$2))+((Z6-AB6)*U6/(1-U$2))+((Z6-AB6)*V6/(1-V$2))+((Z6-AB6)*W6/(1-W$2))+X6 -> 1.1159437e+09 | AD6: =(AC6*O6*(1-O$2))+(AC6*P6*(1-AA6-O$2))+(AC6*Q6*(1-Q$2))+(AC6*R6*(1-R$2))+(AC6*S6*(1-S$2))+(AC6*T6*(1-T$2))+(AC6*U6*(1-U$2))+(AC6*V6*(1-V$2))+(AC6*W6*(1-W$2)) -> 1.0466627e+09 | AE6: =$AE$51 -> 0.086354 | AF6: =(AC6*O6*(1-O$2))+(AC6*P6*(1-AA6-O$2))+(AC6*Q6*(1-AE$5))+(AC6*R6*(1-R$2))+(AC6*S6*(1-S$2))+(AC6*T6*(1-T$2))+(AC6*U6*(1-U$2))+(AC6*V6*(1-V$2))+(AC6*W6*(1-W$2)) -> 1.0459628e+09 | AG6: =((AD6-AF6)*O6/(1-O$2))+((AD6-AF6)*P6/(1-(AA$5+O$2)))+((AD6-AF6)*Q6/(1-AE$5))+((AD6-AF6)*R6/(1-R$2))+((AD6-AF6)*S6/(1-S$2))+((AD6-AF6)*T6/(1-T$2))+((AD6-AF6)*U6/(1-U$2))+((AD6-AF6)*V6/(1-V$2))+((AD6-AF6)*W6/(1-W$2))+AC6 -> 1.1166919e+09 | AH6: =(AG6*O6*(1-O$2))+(AG6*P6*(1-AA6-O$2))+(AG6*Q6*(1-AE$5))+(AG6*R6*(1-R$2))+(AG6*S6*(1-S$2))+(AG6*T6*(1-T$2))+(AG6*U6*(1-U$2))+(AG6*V6*(1-V$2))+(AG6*W6*(1-W$2)) -> 1.0466641e+09 | AI6: =(AG6*O6*(1-O$2))-(X6*O6*(1-O$2)) -> 1873071.1 | AJ6: =AI6/(AW6/AV6) -> 2587528.6 | AK6: =AG6+(AJ6*O6)/(1-O$2)+(AJ6*P6)/(1-O$2-AA6)+(AJ6*Q6)/(1-AE6)+(AJ6*R6)/(1-R$2)+(AJ6*S6)/(1-S$2)+(AJ6*T6)/(1-T$2)+(AJ6*U6)/(1-U$2)+(AJ6*V6)/(1-V$2)+(AJ6*W6)/(1-W$2) -> 1.119458e+09 | AL6: =(AK6*O6*(1-O$2))+(AK6*P6*(1-AA6-O$2))+(AK6*Q6*(1-AE$5))+(AK6*R6*(1-R$2))+(AK6*S6*(1-S$2))+(AK6*T6*(1-T$2))+(AK6*U6*(1-U$2))+(AK6*V6*(1-V$2))+(AK6*W6*(1-W$2)) -> 1.0492566e+09 | AM6: =(AK6*O6*(1-O$2))-(X6*O6*(1-O$2)) -> 2588921 | AN6: =AM6/((O6*AL6)) -> 0.0087998157 | AO6: =AL6-AM6 -> 1.0466677e+09 | AP6: =(((AK6*O6*(1-O$2))/AL6)*AL6)-AM6-(((X6*O6*(1-O$2))/Z6)*Z6) -> 0 | AR6: =1-((((AK6*P6*(1-O$2-AA6))/AL6)*AL6)/(X6*P6)) -> 0.18458642 | AS6: =AR6-$O$2 -> 0.10758642 | AT6: =1-((((AK6*Q6*(1-AE6))/AL6)*AL6)/(X6*Q6)) -> 0.078115994 | AU6: =AT6-$O$2 -> 0.0011159942 | AV6: =$O6*(1-$O$2)+$P6*(1-$O$2-$AA6)+$Q6*(1-$AE6)+$R6*(1-$R$2)+$S6*(1-$S$2)+$T6*(1-$T$2)+$U6*(1-$U$2)+$V6*(1-$V$2)+$W6*(1-$W$2) -> 0.9372899 | AW6: =$P6*(1-$O$2-$AA6)+$Q6*(1-$AE6)+$R6*(1-$R$2)+$S6*(1-$S$2)+$T6*(1-$T$2)+$U6*(1-$U$2)+$V6*(1-$V$2)+$W6*(1-$W$2) -> 0.67848935 | AY6: =(X6*$O6*($O$2)) -> 23953208 | AZ6: =(X6*$P6*($O$2)) -> 4071950.8 | BA6: =(X6*Q6*($Q$2)) -> 5727969.2 | BB6: =(X6*$R6*($R$2)) -> 21389334 | BC6: =(X6*$S6*($S$2))+(X6*$T6*($T$2))+(X6*$U6*($U$2))+(X6*$V6*($V$2))+(X6*$W6*($W$2)) -> 7660929.4 | BD6: =SUM(AY6:BC6)-(X6-Z6) -> 1.1920929e-07 | BF6: =(AK6*$O6*($O$2)) -> 24169185 | BG6: =(AK6*$P6*($O$2+$AA6)) -> 10238209 | BH6: =(AK6*Q6*($AE6)) -> 6481727 | BI6: =(AK6*$R6*($R$2)) -> 21582194 | BJ6: =(AK6*$S6*($S$2))+(AK6*$T6*($T$2))+(AK6*$U6*($U$2))+(AK6*$V6*($V$2))+(AK6*$W6*($W$2)) -> 7730005.2 | BK6: =SUM(BF6:BJ6)-(AK6-AL6) -> 1.7881393e-07 | BM6: =X6 -> 1.1094544e+09 | BN6: =AY6 -> 23953208 | BO6: =AZ6 -> 4071950.8 | BP6: =BA6 -> 5727969.2 | BQ6: =BB6 -> 21389334 | BR6: =BC6 -> 7660929.4 | BS6: =BM6-SUM(BN6:BR6) -> 1.046651e+09 | BU6: =AK6 -> 1.119458e+09 | BV6: =BF6 -> 24169185 | BW6: =AM6 -> 2588921 | BX6: =BG6 -> 10238209 | BY6: =BH6 -> 6481727 | BZ6: =BI6 -> 21582194 | CA6: =BJ6 -> 7730005.2 | CB6: =BU6-SUM(BV6:CA6) -> 1.0466677e+09 | CD6: =CB6-BS6 -> 16688.019 | CE6: =CD6/BS6 -> 1.5944206e-05 | CF6: =($X6*O6) -> 3.1108062e+08 | CG6: =CF6-AY6 -> 2.8712741e+08 | CH6: =($AK6*O6)-BF6-AM6 -> 2.8712741e+08 | CI6: =CH6-CG6 -> 0 | CK6: =1-CH6/CF6 -> 0.077 | CL6: =1-CG6/CF6 -> 0.077
A7: 3 | B7: 210003 | D7: 4.8432511e+08 | E7: 1.1335404e+08 | F7: 40465630 | G7: 29007312 | H7: 27626915 | I7: 1.1732571e+08 | J7: 30292846 | K7: 21023955 | L7: 1018742.4 | M7: 30929000 | N7: =D7-SUM(E7:M7) -> 73280950 | O7: =E7/$D7 -> 0.23404536 | P7: =F7/$D7 -> 0.083550553 | Q7: =G7/$D7 -> 0.059892233 | R7: =(H7+I7)/$D7 -> 0.29928786 | S7: =J7/$D7 -> 0.062546513 | T7: =K7/$D7 -> 0.043408766 | U7: =L7/$D7 -> 0.0021034268 | V7: =M7/$D7 -> 0.063859997 | W7: =(N7)/$D7 -> 0.15130529 | X7: =Y7*(1-0.4973) -> 2.6134271e+08 | Y7: 5.1987807e+08 | Z7: =(X7*O7*(1-O$2))+(X7*P7*(1-O$2))+(X7*Q7*(1-Q$2))+(X7*R7*(1-R$2))+(X7*S7*(1-S$2))+(X7*T7*(1-T$2))+(X7*U7*(1-U$2))+(X7*V7*(1-V$2))+(X7*W7*(1-W$2)) -> 2.4632716e+08 | AA7: =$AA$51 -> 0.114873 | AB7: =(X7*O7*(1-O$2))+(X7*P7*(1-AA7-O$2))+(X7*Q7*(1-Q$2))+(X7*R7*(1-R$2))+(X7*S7*(1-S$2))+(X7*T7*(1-T$2))+(X7*U7*(1-U$2))+(X7*V7*(1-V$2))+(X7*W7*(1-W$2)) -> 2.4381887e+08 | AC7: =((Z7-AB7)*O7/(1-O$2))+((Z7-AB7)*P7/(1-(AA$5+O$2)))+((Z7-AB7)*Q7/(1-Q$2))+((Z7-AB7)*R7/(1-R$2))+((Z7-AB7)*S7/(1-S$2))+((Z7-AB7)*T7/(1-T$2))+((Z7-AB7)*U7/(1-U$2))+((Z7-AB7)*V7/(1-V$2))+((Z7-AB7)*W7/(1-W$2))+X7 -> 2.6403857e+08 | AD7: =(AC7*O7*(1-O$2))+(AC7*P7*(1-AA7-O$2))+(AC7*Q7*(1-Q$2))+(AC7*R7*(1-R$2))+(AC7*S7*(1-S$2))+(AC7*T7*(1-T$2))+(AC7*U7*(1-U$2))+(AC7*V7*(1-V$2))+(AC7*W7*(1-W$2)) -> 2.4633397e+08 | AE7: =$AE$51 -> 0.086354 | AF7: =(AC7*O7*(1-O$2))+(AC7*P7*(1-AA7-O$2))+(AC7*Q7*(1-AE$5))+(AC7*R7*(1-R$2))+(AC7*S7*(1-S$2))+(AC7*T7*(1-T$2))+(AC7*U7*(1-U$2))+(AC7*V7*(1-V$2))+(AC7*W7*(1-W$2)) -> 2.4618605e+08 | AG7: =((AD7-AF7)*O7/(1-O$2))+((AD7-AF7)*P7/(1-(AA$5+O$2)))+((AD7-AF7)*Q7/(1-AE$5))+((AD7-AF7)*R7/(1-R$2))+((AD7-AF7)*S7/(1-S$2))+((AD7-AF7)*T7/(1-T$2))+((AD7-AF7)*U7/(1-U$2))+((AD7-AF7)*V7/(1-V$2))+((AD7-AF7)*W7/(1-W$2))+AC7 -> 2.6419766e+08 | AH7: =(AG7*O7*(1-O$2))+(AG7*P7*(1-AA7-O$2))+(AG7*Q7*(1-AE$5))+(AG7*R7*(1-R$2))+(AG7*S7*(1-S$2))+(AG7*T7*(1-T$2))+(AG7*U7*(1-U$2))+(AG7*V7*(1-V$2))+(AG7*W7*(1-W$2)) -> 2.4633437e+08 | AI7: =(AG7*O7*(1-O$2))-(X7*O7*(1-O$2)) -> 616737.25 | AJ7: =AI7/(AW7/AV7) -> 802718.38 | AK7: =AG7+(AJ7*O7)/(1-O$2)+(AJ7*P7)/(1-O$2-AA7)+(AJ7*Q7)/(1-AE7)+(AJ7*R7)/(1-R$2)+(AJ7*S7)/(1-S$2)+(AJ7*T7)/(1-T$2)+(AJ7*U7)/(1-U$2)+(AJ7*V7)/(1-V$2)+(AJ7*W7)/(1-W$2) -> 2.6506094e+08 | AL7: =(AK7*O7*(1-O$2))+(AK7*P7*(1-AA7-O$2))+(AK7*Q7*(1-AE$5))+(AK7*R7*(1-R$2))+(AK7*S7*(1-S$2))+(AK7*T7*(1-T$2))+(AK7*U7*(1-U$2))+(AK7*V7*(1-V$2))+(AK7*W7*(1-W$2)) -> 2.4713929e+08 | AM7: =(AK7*O7*(1-O$2))-(X7*O7*(1-O$2)) -> 803226.58 | AN7: =AM7/((O7*AL7)) -> 0.01388661 | AO7: =AL7-AM7 -> 2.4633606e+08 | AP7: =(((AK7*O7*(1-O$2))/AL7)*AL7)-AM7-(((X7*O7*(1-O$2))/Z7)*Z7) -> 0 | AR7: =1-((((AK7*P7*(1-O$2-AA7))/AL7)*AL7)/(X7*P7)) -> 0.18037544 | AS7: =AR7-$O$2 -> 0.10337544 | AT7: =1-((((AK7*Q7*(1-AE7))/AL7)*AL7)/(X7*Q7)) -> 0.073355181 | AU7: =AT7-$O$2 -> -0.0036448191 | AV7: =$O7*(1-$O$2)+$P7*(1-$O$2-$AA7)+$Q7*(1-$AE7)+$R7*(1-$R$2)+$S7*(1-$S$2)+$T7*(1-$T$2)+$U7*(1-$U$2)+$V7*(1-$V$2)+$W7*(1-$W$2) -> 0.93238667 | AW7: =$P7*(1-$O$2-$AA7)+$Q7*(1-$AE7)+$R7*(1-$R$2)+$S7*(1-$S$2)+$T7*(1-$T$2)+$U7*(1-$U$2)+$V7*(1-$V$2)+$W7*(1-$W$2) -> 0.7163628 | AY7: =(X7*$O7*($O$2)) -> 4709785.7 | AZ7: =(X7*$P7*($O$2)) -> 1681320.2 | BA7: =(X7*Q7*($Q$2)) -> 1205234.7 | BB7: =(X7*$R7*($R$2)) -> 6022685.9 | BC7: =(X7*$S7*($S$2))+(X7*$T7*($T$2))+(X7*$U7*($U$2))+(X7*$V7*($V$2))+(X7*$W7*($W$2)) -> 1396523 | BD7: =SUM(AY7:BC7)-(X7-Z7) -> 0 | BF7: =(AK7*$O7*($O$2)) -> 4776793.8 | BG7: =(AK7*$P7*($O$2+$AA7)) -> 4249217.2 | BH7: =(AK7*Q7*($AE7)) -> 1370877.7 | BI7: =(AK7*$R7*($R$2)) -> 6108373.2 | BJ7: =(AK7*$S7*($S$2))+(AK7*$T7*($T$2))+(AK7*$U7*($U$2))+(AK7*$V7*($V$2))+(AK7*$W7*($W$2)) -> 1416391.9 | BK7: =SUM(BF7:BJ7)-(AK7-AL7) -> 0 | BM7: =X7 -> 2.6134271e+08 | BN7: =AY7 -> 4709785.7 | BO7: =AZ7 -> 1681320.2 | BP7: =BA7 -> 1205234.7 | BQ7: =BB7 -> 6022685.9 | BR7: =BC7 -> 1396523 | BS7: =BM7-SUM(BN7:BR7) -> 2.4632716e+08 | BU7: =AK7 -> 2.6506094e+08 | BV7: =BF7 -> 4776793.8 | BW7: =AM7 -> 803226.58 | BX7: =BG7 -> 4249217.2 | BY7: =BH7 -> 1370877.7 | BZ7: =BI7 -> 6108373.2 | CA7: =BJ7 -> 1416391.9 | CB7: =BU7-SUM(BV7:CA7) -> 2.4633606e+08 | CD7: =CB7-BS7 -> 8899.9928 | CE7: =CD7/BS7 -> 3.6130782e-05 | CF7: =($X7*O7) -> 61166049 | CG7: =CF7-AY7 -> 56456263 | CH7: =($AK7*O7)-BF7-AM7 -> 56456263 | CI7: =CH7-CG7 -> 0 | CK7: =1-CH7/CF7 -> 0.077 | CL7: =1-CG7/CF7 -> 0.077
A8: 4 | B8: 210004 | D8: 638008057 | E8: 1.1529329e+08 | F8: 89031176 | G8: 21808091 | H8: 38011102 | I8: 1.3146383e+08 | J8: 38795590 | K8: 21621496 | L8: 4480781.6 | M8: 38345458 | N8: =D8-SUM(E8:M8) -> 1.3915725e+08 | O8: =E8/$D8 -> 0.1807082 | P8: =F8/$D8 -> 0.13954553 | Q8: =G8/$D8 -> 0.03418153 | R8: =(H8+I8)/$D8 -> 0.26563134 | S8: =J8/$D8 -> 0.060807367 | T8: =K8/$D8 -> 0.033889064 | U8: =L8/$D8 -> 0.00702308 | V8: =M8/$D8 -> 0.060101839 | W8: =(N8)/$D8 -> 0.21811205 | X8: =Y8*(1-0.4973) -> 3.5255072e+08 | Y8: 7.0131434e+08 | Z8: =(X8*O8*(1-O$2))+(X8*P8*(1-O$2))+(X8*Q8*(1-Q$2))+(X8*R8*(1-R$2))+(X8*S8*(1-S$2))+(X8*T8*(1-T$2))+(X8*U8*(1-U$2))+(X8*V8*(1-V$2))+(X8*W8*(1-W$2)) -> 3.3340941e+08 | AA8: =$AA$51 -> 0.114873 | AB8: =(X8*O8*(1-O$2))+(X8*P8*(1-AA8-O$2))+(X8*Q8*(1-Q$2))+(X8*R8*(1-R$2))+(X8*S8*(1-S$2))+(X8*T8*(1-T$2))+(X8*U8*(1-U$2))+(X8*V8*(1-V$2))+(X8*W8*(1-W$2)) -> 3.2775802e+08 | AC8: =((Z8-AB8)*O8/(1-O$2))+((Z8-AB8)*P8/(1-(AA$5+O$2)))+((Z8-AB8)*Q8/(1-Q$2))+((Z8-AB8)*R8/(1-R$2))+((Z8-AB8)*S8/(1-S$2))+((Z8-AB8)*T8/(1-T$2))+((Z8-AB8)*U8/(1-U$2))+((Z8-AB8)*V8/(1-V$2))+((Z8-AB8)*W8/(1-W$2))+X8 -> 3.5865369e+08 | AD8: =(AC8*O8*(1-O$2))+(AC8*P8*(1-AA8-O$2))+(AC8*Q8*(1-Q$2))+(AC8*R8*(1-R$2))+(AC8*S8*(1-S$2))+(AC8*T8*(1-T$2))+(AC8*U8*(1-U$2))+(AC8*V8*(1-V$2))+(AC8*W8*(1-W$2)) -> 3.334318e+08 | AE8: =$AE$51 -> 0.086354 | AF8: =(AC8*O8*(1-O$2))+(AC8*P8*(1-AA8-O$2))+(AC8*Q8*(1-AE$5))+(AC8*R8*(1-R$2))+(AC8*S8*(1-S$2))+(AC8*T8*(1-T$2))+(AC8*U8*(1-U$2))+(AC8*V8*(1-V$2))+(AC8*W8*(1-W$2)) -> 3.3331713e+08 | AG8: =((AD8-AF8)*O8/(1-O$2))+((AD8-AF8)*P8/(1-(AA$5+O$2)))+((AD8-AF8)*Q8/(1-AE$5))+((AD8-AF8)*R8/(1-R$2))+((AD8-AF8)*S8/(1-S$2))+((AD8-AF8)*T8/(1-T$2))+((AD8-AF8)*U8/(1-U$2))+((AD8-AF8)*V8/(1-V$2))+((AD8-AF8)*W8/(1-W$2))+AC8 -> 3.5877757e+08 | AH8: =(AG8*O8*(1-O$2))+(AG8*P8*(1-AA8-O$2))+(AG8*Q8*(1-AE$5))+(AG8*R8*(1-R$2))+(AG8*S8*(1-S$2))+(AG8*T8*(1-T$2))+(AG8*U8*(1-U$2))+(AG8*V8*(1-V$2))+(AG8*W8*(1-W$2)) -> 3.3343226e+08 | AI8: =(AG8*O8*(1-O$2))-(X8*O8*(1-O$2)) -> 1038598.7 | AJ8: =AI8/(AW8/AV8) -> 1265769 | AK8: =AG8+(AJ8*O8)/(1-O$2)+(AJ8*P8)/(1-O$2-AA8)+(AJ8*Q8)/(1-AE8)+(AJ8*R8)/(1-R$2)+(AJ8*S8)/(1-S$2)+(AJ8*T8)/(1-T$2)+(AJ8*U8)/(1-U$2)+(AJ8*V8)/(1-V$2)+(AJ8*W8)/(1-W$2) -> 3.6014496e+08 | AL8: =(AK8*O8*(1-O$2))+(AK8*P8*(1-AA8-O$2))+(AK8*Q8*(1-AE$5))+(AK8*R8*(1-R$2))+(AK8*S8*(1-S$2))+(AK8*T8*(1-T$2))+(AK8*U8*(1-U$2))+(AK8*V8*(1-V$2))+(AK8*W8*(1-W$2)) -> 3.3470305e+08 | AM8: =(AK8*O8*(1-O$2))-(X8*O8*(1-O$2)) -> 1266670.7 | AN8: =AM8/((O8*AL8)) -> 0.020942387 | AO8: =AL8-AM8 -> 3.3343638e+08 | AP8: =(((AK8*O8*(1-O$2))/AL8)*AL8)-AM8-(((X8*O8*(1-O$2))/Z8)*Z8) -> 0 | AR8: =1-((((AK8*P8*(1-O$2-AA8))/AL8)*AL8)/(X8*P8)) -> 0.17446527 | AS8: =AR8-$O$2 -> 0.097465269 | AT8: =1-((((AK8*Q8*(1-AE8))/AL8)*AL8)/(X8*Q8)) -> 0.066673302 | AU8: =AT8-$O$2 -> -0.010326698 | AV8: =$O8*(1-$O$2)+$P8*(1-$O$2-$AA8)+$Q8*(1-$AE8)+$R8*(1-$R$2)+$S8*(1-$S$2)+$T8*(1-$T$2)+$U8*(1-$U$2)+$V8*(1-$V$2)+$W8*(1-$W$2) -> 0.92935647 | AW8: =$P8*(1-$O$2-$AA8)+$Q8*(1-$AE8)+$R8*(1-$R$2)+$S8*(1-$S$2)+$T8*(1-$T$2)+$U8*(1-$U$2)+$V8*(1-$V$2)+$W8*(1-$W$2) -> 0.76256281 | AY8: =(X8*$O8*($O$2)) -> 4905578 | AZ8: =(X8*$P8*($O$2)) -> 3788159.7 | BA8: =(X8*Q8*($Q$2)) -> 927905.66 | BB8: =(X8*$R8*($R$2)) -> 7210936 | BC8: =(X8*$S8*($S$2))+(X8*$T8*($T$2))+(X8*$U8*($U$2))+(X8*$V8*($V$2))+(X8*$W8*($W$2)) -> 2308731.2 | BD8: =SUM(AY8:BC8)-(X8-Z8) -> 0 | BF8: =(AK8*$O8*($O$2)) -> 5011248.2 | BG8: =(AK8*$P8*($O$2+$AA8)) -> 9642888.6 | BH8: =(AK8*Q8*($AE8)) -> 1063044.1 | BI8: =(AK8*$R8*($R$2)) -> 7366265.6 | BJ8: =(AK8*$S8*($S$2))+(AK8*$T8*($T$2))+(AK8*$U8*($U$2))+(AK8*$V8*($V$2))+(AK8*$W8*($W$2)) -> 2358463.2 | BK8: =SUM(BF8:BJ8)-(AK8-AL8) -> 0 | BM8: =X8 -> 3.5255072e+08 | BN8: =AY8 -> 4905578 | BO8: =AZ8 -> 3788159.7 | BP8: =BA8 -> 927905.66 | BQ8: =BB8 -> 7210936 | BR8: =BC8 -> 2308731.2 | BS8: =BM8-SUM(BN8:BR8) -> 3.3340941e+08 | BU8: =AK8 -> 3.6014496e+08 | BV8: =BF8 -> 5011248.2 | BW8: =AM8 -> 1266670.7 | BX8: =BG8 -> 9642888.6 | BY8: =BH8 -> 1063044.1 | BZ8: =BI8 -> 7366265.6 | CA8: =BJ8 -> 2358463.2 | CB8: =BU8-SUM(BV8:CA8) -> 3.3343638e+08 | CD8: =CB8-BS8 -> 26967.305 | CE8: =CD8/BS8 -> 8.0883454e-05 | CF8: =($X8*O8) -> 63708805 | CG8: =CF8-AY8 -> 58803227 | CH8: =($AK8*O8)-BF8-AM8 -> 58803227 | CI8: =CH8-CG8 -> 0 | CK8: =1-CH8/CF8 -> 0.077 | CL8: =1-CG8/CF8 -> 0.077
A9: 5 | B9: 210005 | D9: 464628200 | E9: 162379200 | F9: 17374729 | G9: 31581871 | H9: 7748400 | I9: 62118500 | J9: 37567300 | K9: 37785400 | L9: 3671900 | M9: 30488500 | N9: =D9-SUM(E9:M9) -> 73912400 | O9: =E9/$D9 -> 0.34948202 | P9: =F9/$D9 -> 0.037394909 | Q9: =G9/$D9 -> 0.06797235 | R9: =(H9+I9)/$D9 -> 0.15037163 | S9: =J9/$D9 -> 0.080854541 | T9: =K9/$D9 -> 0.081323949 | U9: =L9/$D9 -> 0.007902878 | V9: =M9/$D9 -> 0.065619134 | W9: =(N9)/$D9 -> 0.15907859 | X9: =Y9*(1-0.4973) -> 2.5517115e+08 | Y9: 5.0760126e+08 | Z9: =(X9*O9*(1-O$2))+(X9*P9*(1-O$2))+(X9*Q9*(1-Q$2))+(X9*R9*(1-R$2))+(X9*S9*(1-S$2))+(X9*T9*(1-T$2))+(X9*U9*(1-U$2))+(X9*V9*(1-V$2))+(X9*W9*(1-W$2)) -> 2.4154824e+08 | AA9: =$AA$51 -> 0.114873 | AB9: =(X9*O9*(1-O$2))+(X9*P9*(1-AA9-O$2))+(X9*Q9*(1-Q$2))+(X9*R9*(1-R$2))+(X9*S9*(1-S$2))+(X9*T9*(1-T$2))+(X9*U9*(1-U$2))+(X9*V9*(1-V$2))+(X9*W9*(1-W$2)) -> 2.4045211e+08 | AC9: =((Z9-AB9)*O9/(1-O$2))+((Z9-AB9)*P9/(1-(AA$5+O$2)))+((Z9-AB9)*Q9/(1-Q$2))+((Z9-AB9)*R9/(1-R$2))+((Z9-AB9)*S9/(1-S$2))+((Z9-AB9)*T9/(1-T$2))+((Z9-AB9)*U9/(1-U$2))+((Z9-AB9)*V9/(1-V$2))+((Z9-AB9)*W9/(1-W$2))+X9 -> 2.5633653e+08 | AD9: =(AC9*O9*(1-O$2))+(AC9*P9*(1-AA9-O$2))+(AC9*Q9*(1-Q$2))+(AC9*R9*(1-R$2))+(AC9*S9*(1-S$2))+(AC9*T9*(1-T$2))+(AC9*U9*(1-U$2))+(AC9*V9*(1-V$2))+(AC9*W9*(1-W$2)) -> 2.4155027e+08 | AE9: =$AE$51 -> 0.086354 | AF9: =(AC9*O9*(1-O$2))+(AC9*P9*(1-AA9-O$2))+(AC9*Q9*(1-AE$5))+(AC9*R9*(1-R$2))+(AC9*S9*(1-S$2))+(AC9*T9*(1-T$2))+(AC9*U9*(1-U$2))+(AC9*V9*(1-V$2))+(AC9*W9*(1-W$2)) -> 2.4138729e+08 | AG9: =((AD9-AF9)*O9/(1-O$2))+((AD9-AF9)*P9/(1-(AA$5+O$2)))+((AD9-AF9)*Q9/(1-AE$5))+((AD9-AF9)*R9/(1-R$2))+((AD9-AF9)*S9/(1-S$2))+((AD9-AF9)*T9/(1-T$2))+((AD9-AF9)*U9/(1-U$2))+((AD9-AF9)*V9/(1-V$2))+((AD9-AF9)*W9/(1-W$2))+AC9 -> 2.5650994e+08 | AH9: =(AG9*O9*(1-O$2))+(AG9*P9*(1-AA9-O$2))+(AG9*Q9*(1-AE$5))+(AG9*R9*(1-R$2))+(AG9*S9*(1-S$2))+(AG9*T9*(1-T$2))+(AG9*U9*(1-U$2))+(AG9*V9*(1-V$2))+(AG9*W9*(1-W$2)) -> 2.4155058e+08 | AI9: =(AG9*O9*(1-O$2))-(X9*O9*(1-O$2)) -> 431853.54 | AJ9: =AI9/(AW9/AV9) -> 656860.38 | AK9: =AG9+(AJ9*O9)/(1-O$2)+(AJ9*P9)/(1-O$2-AA9)+(AJ9*Q9)/(1-AE9)+(AJ9*R9)/(1-R$2)+(AJ9*S9)/(1-S$2)+(AJ9*T9)/(1-T$2)+(AJ9*U9)/(1-U$2)+(AJ9*V9)/(1-V$2)+(AJ9*W9)/(1-W$2) -> 2.5720879e+08 | AL9: =(AK9*O9*(1-O$2))+(AK9*P9*(1-AA9-O$2))+(AK9*Q9*(1-AE$5))+(AK9*R9*(1-R$2))+(AK9*S9*(1-S$2))+(AK9*T9*(1-T$2))+(AK9*U9*(1-U$2))+(AK9*V9*(1-V$2))+(AK9*W9*(1-W$2)) -> 2.4220868e+08 | AM9: =(AK9*O9*(1-O$2))-(X9*O9*(1-O$2)) -> 657284.3 | AN9: =AM9/((O9*AL9)) -> 0.0077649512 | AO9: =AL9-AM9 -> 2.4155139e+08 | AP9: =(((AK9*O9*(1-O$2))/AL9)*AL9)-AM9-(((X9*O9*(1-O$2))/Z9)*Z9) -> 0 | AR9: =1-((((AK9*P9*(1-O$2-AA9))/AL9)*AL9)/(X9*P9)) -> 0.18541981 | AS9: =AR9-$O$2 -> 0.10841981 | AT9: =1-((((AK9*Q9*(1-AE9))/AL9)*AL9)/(X9*Q9)) -> 0.079058197 | AU9: =AT9-$O$2 -> 0.0020581969 | AV9: =$O9*(1-$O$2)+$P9*(1-$O$2-$AA9)+$Q9*(1-$AE9)+$R9*(1-$R$2)+$S9*(1-$S$2)+$T9*(1-$T$2)+$U9*(1-$U$2)+$V9*(1-$V$2)+$W9*(1-$W$2) -> 0.94168118 | AW9: =$P9*(1-$O$2-$AA9)+$Q9*(1-$AE9)+$R9*(1-$R$2)+$S9*(1-$S$2)+$T9*(1-$T$2)+$U9*(1-$U$2)+$V9*(1-$V$2)+$W9*(1-$W$2) -> 0.61910928 | AY9: =(X9*$O9*($O$2)) -> 6866685.1 | AZ9: =(X9*$P9*($O$2)) -> 734741.86 | BA9: =(X9*Q9*($Q$2)) -> 1335532.9 | BB9: =(X9*$R9*($R$2)) -> 2954528.7 | BC9: =(X9*$S9*($S$2))+(X9*$T9*($T$2))+(X9*$U9*($U$2))+(X9*$V9*($V$2))+(X9*$W9*($W$2)) -> 1731421.9 | BD9: =SUM(AY9:BC9)-(X9-Z9) -> 2.6077032e-08 | BF9: =(AK9*$O9*($O$2)) -> 6921518.2 | BG9: =(AK9*$P9*($O$2+$AA9)) -> 1845491.9 | BH9: =(AK9*Q9*($AE9)) -> 1509734.4 | BI9: =(AK9*$R9*($R$2)) -> 2978121.7 | BJ9: =(AK9*$S9*($S$2))+(AK9*$T9*($T$2))+(AK9*$U9*($U$2))+(AK9*$V9*($V$2))+(AK9*$W9*($W$2)) -> 1745247.9 | BK9: =SUM(BF9:BJ9)-(AK9-AL9) -> 3.1664968e-08 | BM9: =X9 -> 2.5517115e+08 | BN9: =AY9 -> 6866685.1 | BO9: =AZ9 -> 734741.86 | BP9: =BA9 -> 1335532.9 | BQ9: =BB9 -> 2954528.7 | BR9: =BC9 -> 1731421.9 | BS9: =BM9-SUM(BN9:BR9) -> 2.4154824e+08 | BU9: =AK9 -> 2.5720879e+08 | BV9: =BF9 -> 6921518.2 | BW9: =AM9 -> 657284.3 | BX9: =BG9 -> 1845491.9 | BY9: =BH9 -> 1509734.4 | BZ9: =BI9 -> 2978121.7 | CA9: =BJ9 -> 1745247.9 | CB9: =BU9-SUM(BV9:CA9) -> 2.4155139e+08 | CD9: =CB9-BS9 -> 3148.5793 | CE9: =CD9/BS9 -> 1.3034992e-05 | CF9: =($X9*O9) -> 89177729 | CG9: =CF9-AY9 -> 82311044 | CH9: =($AK9*O9)-BF9-AM9 -> 82311044 | CI9: =CH9-CG9 -> 0 | CK9: =1-CH9/CF9 -> 0.077 | CL9: =1-CG9/CF9 -> 0.077
A10: 6 | B10: 210006 | D10: 38346876 | E10: 8802748.4 | F10: 1737426.3 | G10: 2555426.9 | H10: 517795.9 | I10: 9066069.6 | J10: 0 | K10: 5731495.5 | L10: 151462.6 | M10: 2527000 | N10: =D10-SUM(E10:M10) -> 7257450.9 | O10: =E10/$D10 -> 0.22955582 | P10: =F10/$D10 -> 0.045308158 | Q10: =G10/$D10 -> 0.066639767 | R10: =(H10+I10)/$D10 -> 0.24992559 | S10: =J10/$D10 -> 0 | T10: =K10/$D10 -> 0.14946447 | U10: =L10/$D10 -> 0.0039498028 | V10: =M10/$D10 -> 0.065898458 | W10: =(N10)/$D10 -> 0.18925794 | X10: =Y10*(1-0.4973) -> 16461404 | Y10: 32745980 | Z10: =(X10*O10*(1-O$2))+(X10*P10*(1-O$2))+(X10*Q10*(1-Q$2))+(X10*R10*(1-R$2))+(X10*S10*(1-S$2))+(X10*T10*(1-T$2))+(X10*U10*(1-U$2))+(X10*V10*(1-V$2))+(X10*W10*(1-W$2)) -> 15598933 | AA10: =$AA$51 -> 0.114873 | AB10: =(X10*O10*(1-O$2))+(X10*P10*(1-AA10-O$2))+(X10*Q10*(1-Q$2))+(X10*R10*(1-R$2))+(X10*S10*(1-S$2))+(X10*T10*(1-T$2))+(X10*U10*(1-U$2))+(X10*V10*(1-V$2))+(X10*W10*(1-W$2)) -> 15513257 | AC10: =((Z10-AB10)*O10/(1-O$2))+((Z10-AB10)*P10/(1-(AA$5+O$2)))+((Z10-AB10)*Q10/(1-Q$2))+((Z10-AB10)*R10/(1-R$2))+((Z10-AB10)*S10/(1-S$2))+((Z10-AB10)*T10/(1-T$2))+((Z10-AB10)*U10/(1-U$2))+((Z10-AB10)*V10/(1-V$2))+((Z10-AB10)*W10/(1-W$2))+X10 -> 16552505 | AD10: =(AC10*O10*(1-O$2))+(AC10*P10*(1-AA10-O$2))+(AC10*Q10*(1-Q$2))+(AC10*R10*(1-R$2))+(AC10*S10*(1-S$2))+(AC10*T10*(1-T$2))+(AC10*U10*(1-U$2))+(AC10*V10*(1-V$2))+(AC10*W10*(1-W$2)) -> 15599110 | AE10: =$AE$51 -> 0.086354 | AF10: =(AC10*O10*(1-O$2))+(AC10*P10*(1-AA10-O$2))+(AC10*Q10*(1-AE$5))+(AC10*R10*(1-R$2))+(AC10*S10*(1-S$2))+(AC10*T10*(1-T$2))+(AC10*U10*(1-U$2))+(AC10*V10*(1-V$2))+(AC10*W10*(1-W$2)) -> 15588792 | AG10: =((AD10-AF10)*O10/(1-O$2))+((AD10-AF10)*P10/(1-(AA$5+O$2)))+((AD10-AF10)*Q10/(1-AE$5))+((AD10-AF10)*R10/(1-R$2))+((AD10-AF10)*S10/(1-S$2))+((AD10-AF10)*T10/(1-T$2))+((AD10-AF10)*U10/(1-U$2))+((AD10-AF10)*V10/(1-V$2))+((AD10-AF10)*W10/(1-W$2))+AC10 -> 16563483 | AH10: =(AG10*O10*(1-O$2))+(AG10*P10*(1-AA10-O$2))+(AG10*Q10*(1-AE$5))+(AG10*R10*(1-R$2))+(AG10*S10*(1-S$2))+(AG10*T10*(1-T$2))+(AG10*U10*(1-U$2))+(AG10*V10*(1-V$2))+(AG10*W10*(1-W$2)) -> 15599132 | AI10: =(AG10*O10*(1-O$2))-(X10*O10*(1-O$2)) -> 21628.592 | AJ10: =AI10/(AW10/AV10) -> 27907.091 | AK10: =AG10+(AJ10*O10)/(1-O$2)+(AJ10*P10)/(1-O$2-AA10)+(AJ10*Q10)/(1-AE10)+(AJ10*R10)/(1-R$2)+(AJ10*S10)/(1-S$2)+(AJ10*T10)/(1-T$2)+(AJ10*U10)/(1-U$2)+(AJ10*V10)/(1-V$2)+(AJ10*W10)/(1-W$2) -> 16593178 | AL10: =(AK10*O10*(1-O$2))+(AK10*P10*(1-AA10-O$2))+(AK10*Q10*(1-AE$5))+(AK10*R10*(1-R$2))+(AK10*S10*(1-S$2))+(AK10*T10*(1-T$2))+(AK10*U10*(1-U$2))+(AK10*V10*(1-V$2))+(AK10*W10*(1-W$2)) -> 15627098 | AM10: =(AK10*O10*(1-O$2))-(X10*O10*(1-O$2)) -> 27920.268 | AN10: =AM10/((O10*AL10)) -> 0.0077831062 | AO10: =AL10-AM10 -> 15599177 | AP10: =(((AK10*O10*(1-O$2))/AL10)*AL10)-AM10-(((X10*O10*(1-O$2))/Z10)*Z10) -> 0 | AR10: =1-((((AK10*P10*(1-O$2-AA10))/AL10)*AL10)/(X10*P10)) -> 0.18540392 | AS10: =AR10-$O$2 -> 0.10840392 | AT10: =1-((((AK10*Q10*(1-AE10))/AL10)*AL10)/(X10*Q10)) -> 0.079040241 | AU10: =AT10-$O$2 -> 0.0020402406 | AV10: =$O10*(1-$O$2)+$P10*(1-$O$2-$AA10)+$Q10*(1-$AE10)+$R10*(1-$R$2)+$S10*(1-$S$2)+$T10*(1-$T$2)+$U10*(1-$U$2)+$V10*(1-$V$2)+$W10*(1-$W$2) -> 0.94177847 | AW10: =$P10*(1-$O$2-$AA10)+$Q10*(1-$AE10)+$R10*(1-$R$2)+$S10*(1-$S$2)+$T10*(1-$T$2)+$U10*(1-$U$2)+$V10*(1-$V$2)+$W10*(1-$W$2) -> 0.72989845 | AY10: =(X10*$O10*($O$2)) -> 290968.45 | AZ10: =(X10*$P10*($O$2)) -> 57429.363 | BA10: =(X10*Q10*($Q$2)) -> 84467.777 | BB10: =(X10*$R10*($R$2)) -> 316787.7 | BC10: =(X10*$S10*($S$2))+(X10*$T10*($T$2))+(X10*$U10*($U$2))+(X10*$V10*($V$2))+(X10*$W10*($W$2)) -> 112817.32 | BD10: =SUM(AY10:BC10)-(X10-Z10) -> -1.6298145e-09 | BF10: =(AK10*$O10*($O$2)) -> 293297.66 | BG10: =(AK10*$P10*($O$2+$AA10)) -> 144251.33 | BH10: =(AK10*Q10*($AE10)) -> 95487.275 | BI10: =(AK10*$R10*($R$2)) -> 319323.6 | BJ10: =(AK10*$S10*($S$2))+(AK10*$T10*($T$2))+(AK10*$U10*($U$2))+(AK10*$V10*($V$2))+(AK10*$W10*($W$2)) -> 113720.42 | BK10: =SUM(BF10:BJ10)-(AK10-AL10) -> 0 | BM10: =X10 -> 16461404 | BN10: =AY10 -> 290968.45 | BO10: =AZ10 -> 57429.363 | BP10: =BA10 -> 84467.777 | BQ10: =BB10 -> 316787.7 | BR10: =BC10 -> 112817.32 | BS10: =BM10-SUM(BN10:BR10) -> 15598933 | BU10: =AK10 -> 16593178 | BV10: =BF10 -> 293297.66 | BW10: =AM10 -> 27920.268 | BX10: =BG10 -> 144251.33 | BY10: =BH10 -> 95487.275 | BZ10: =BI10 -> 319323.6 | CA10: =BJ10 -> 113720.42 | CB10: =BU10-SUM(BV10:CA10) -> 15599177 | CD10: =CB10-BS10 -> 244.01021 | CE10: =CD10/BS10 -> 1.564275e-05 | CF10: =($X10*O10) -> 3778811 | CG10: =CF10-AY10 -> 3487842.5 | CH10: =($AK10*O10)-BF10-AM10 -> 3487842.5 | CI10: =CH10-CG10 -> 0 | CK10: =1-CH10/CF10 -> 0.077 | CL10: =1-CG10/CF10 -> 0.077
A11: 8 | B11: 210008 | D11: 7.174881e+08 | E11: =180105.3*1000 -> 180105300 | F11: 37985859 | G11: 50781441 | H11: 13192500 | I11: 1.3062634e+08 | J11: 43889364 | K11: 1.3768936e+08 | L11: -3066440 | M11: 33119277 | N11: =D11-SUM(E11:M11) -> 93165092 | O11: =E11/$D11 -> 0.251022 | P11: =F11/$D11 -> 0.052942841 | Q11: =G11/$D11 -> 0.070776702 | R11: =(H11+I11)/$D11 -> 0.20044771 | S11: =J11/$D11 -> 0.06117086 | T11: =K11/$D11 -> 0.19190474 | U11: =L11/$D11 -> -0.0042738549 | V11: =M11/$D11 -> 0.046160037 | W11: =(N11)/$D11 -> 0.12984897 | X11: =Y11*(1-0.4973) -> 3.9425499e+08 | Y11: 7.842749e+08 | Z11: =(X11*O11*(1-O$2))+(X11*P11*(1-O$2))+(X11*Q11*(1-Q$2))+(X11*R11*(1-R$2))+(X11*S11*(1-S$2))+(X11*T11*(1-T$2))+(X11*U11*(1-U$2))+(X11*V11*(1-V$2))+(X11*W11*(1-W$2)) -> 3.7374761e+08 | AA11: =$AA$51 -> 0.114873 | AB11: =(X11*O11*(1-O$2))+(X11*P11*(1-AA11-O$2))+(X11*Q11*(1-Q$2))+(X11*R11*(1-R$2))+(X11*S11*(1-S$2))+(X11*T11*(1-T$2))+(X11*U11*(1-U$2))+(X11*V11*(1-V$2))+(X11*W11*(1-W$2)) -> 3.7134987e+08 | AC11: =((Z11-AB11)*O11/(1-O$2))+((Z11-AB11)*P11/(1-(AA$5+O$2)))+((Z11-AB11)*Q11/(1-Q$2))+((Z11-AB11)*R11/(1-R$2))+((Z11-AB11)*S11/(1-S$2))+((Z11-AB11)*T11/(1-T$2))+((Z11-AB11)*U11/(1-U$2))+((Z11-AB11)*V11/(1-V$2))+((Z11-AB11)*W11/(1-W$2))+X11 -> 3.9680625e+08 | AD11: =(AC11*O11*(1-O$2))+(AC11*P11*(1-AA11-O$2))+(AC11*Q11*(1-Q$2))+(AC11*R11*(1-R$2))+(AC11*S11*(1-S$2))+(AC11*T11*(1-T$2))+(AC11*U11*(1-U$2))+(AC11*V11*(1-V$2))+(AC11*W11*(1-W$2)) -> 3.7375291e+08 | AE11: =$AE$51 -> 0.086354 | AF11: =(AC11*O11*(1-O$2))+(AC11*P11*(1-AA11-O$2))+(AC11*Q11*(1-AE$5))+(AC11*R11*(1-R$2))+(AC11*S11*(1-S$2))+(AC11*T11*(1-T$2))+(AC11*U11*(1-U$2))+(AC11*V11*(1-V$2))+(AC11*W11*(1-W$2)) -> 3.7349021e+08 | AG11: =((AD11-AF11)*O11/(1-O$2))+((AD11-AF11)*P11/(1-(AA$5+O$2)))+((AD11-AF11)*Q11/(1-AE$5))+((AD11-AF11)*R11/(1-R$2))+((AD11-AF11)*S11/(1-S$2))+((AD11-AF11)*T11/(1-T$2))+((AD11-AF11)*U11/(1-U$2))+((AD11-AF11)*V11/(1-V$2))+((AD11-AF11)*W11/(1-W$2))+AC11 -> 3.9708598e+08 | AH11: =(AG11*O11*(1-O$2))+(AG11*P11*(1-AA11-O$2))+(AG11*Q11*(1-AE$5))+(AG11*R11*(1-R$2))+(AG11*S11*(1-S$2))+(AG11*T11*(1-T$2))+(AG11*U11*(1-U$2))+(AG11*V11*(1-V$2))+(AG11*W11*(1-W$2)) -> 3.737535e+08 | AI11: =(AG11*O11*(1-O$2))-(X11*O11*(1-O$2)) -> 655920.73 | AJ11: =AI11/(AW11/AV11) -> 870102.95 | AK11: =AG11+(AJ11*O11)/(1-O$2)+(AJ11*P11)/(1-O$2-AA11)+(AJ11*Q11)/(1-AE11)+(AJ11*R11)/(1-R$2)+(AJ11*S11)/(1-S$2)+(AJ11*T11)/(1-T$2)+(AJ11*U11)/(1-U$2)+(AJ11*V11)/(1-V$2)+(AJ11*W11)/(1-W$2) -> 3.9801247e+08 | AL11: =(AK11*O11*(1-O$2))+(AK11*P11*(1-AA11-O$2))+(AK11*Q11*(1-AE$5))+(AK11*R11*(1-R$2))+(AK11*S11*(1-S$2))+(AK11*T11*(1-T$2))+(AK11*U11*(1-U$2))+(AK11*V11*(1-V$2))+(AK11*W11*(1-W$2)) -> 3.7462555e+08 | AM11: =(AK11*O11*(1-O$2))-(X11*O11*(1-O$2)) -> 870583.29 | AN11: =AM11/((O11*AL11)) -> 0.0092576581 | AO11: =AL11-AM11 -> 3.7375497e+08 | AP11: =(((AK11*O11*(1-O$2))/AL11)*AL11)-AM11-(((X11*O11*(1-O$2))/Z11)*Z11) -> 0 | AR11: =1-((((AK11*P11*(1-O$2-AA11))/AL11)*AL11)/(X11*P11)) -> 0.18417108 | AS11: =AR11-$O$2 -> 0.10717108 | AT11: =1-((((AK11*Q11*(1-AE11))/AL11)*AL11)/(X11*Q11)) -> 0.077646418 | AU11: =AT11-$O$2 -> 0.00064641761 | AV11: =$O11*(1-$O$2)+$P11*(1-$O$2-$AA11)+$Q11*(1-$AE11)+$R11*(1-$R$2)+$S11*(1-$S$2)+$T11*(1-$T$2)+$U11*(1-$U$2)+$V11*(1-$V$2)+$W11*(1-$W$2) -> 0.94124074 | AW11: =$P11*(1-$O$2-$AA11)+$Q11*(1-$AE11)+$R11*(1-$R$2)+$S11*(1-$S$2)+$T11*(1-$T$2)+$U11*(1-$U$2)+$V11*(1-$V$2)+$W11*(1-$W$2) -> 0.70954743 | AY11: =(X11*$O11*($O$2)) -> 7620434.2 | AZ11: =(X11*$P11*($O$2)) -> 1607219.4 | BA11: =(X11*Q11*($Q$2)) -> 2148613.2 | BB11: =(X11*$R11*($R$2)) -> 6085118.1 | BC11: =(X11*$S11*($S$2))+(X11*$T11*($T$2))+(X11*$U11*($U$2))+(X11*$V11*($V$2))+(X11*$W11*($W$2)) -> 3045990.9 | BD11: =SUM(AY11:BC11)-(X11-Z11) -> 0 | BF11: =(AK11*$O11*($O$2)) -> 7693061.4 | BG11: =(AK11*$P11*($O$2+$AA11)) -> 4043130.8 | BH11: =(AK11*Q11*($AE11)) -> 2432593 | BI11: =(AK11*$R11*($R$2)) -> 6143112.9 | BJ11: =(AK11*$S11*($S$2))+(AK11*$T11*($T$2))+(AK11*$U11*($U$2))+(AK11*$V11*($V$2))+(AK11*$W11*($W$2)) -> 3075021 | BK11: =SUM(BF11:BJ11)-(AK11-AL11) -> 0 | BM11: =X11 -> 3.9425499e+08 | BN11: =AY11 -> 7620434.2 | BO11: =AZ11 -> 1607219.4 | BP11: =BA11 -> 2148613.2 | BQ11: =BB11 -> 6085118.1 | BR11: =BC11 -> 3045990.9 | BS11: =BM11-SUM(BN11:BR11) -> 3.7374761e+08 | BU11: =AK11 -> 3.9801247e+08 | BV11: =BF11 -> 7693061.4 | BW11: =AM11 -> 870583.29 | BX11: =BG11 -> 4043130.8 | BY11: =BH11 -> 2432593 | BZ11: =BI11 -> 6143112.9 | CA11: =BJ11 -> 3075021 | CB11: =BU11-SUM(BV11:CA11) -> 3.7375497e+08 | CD11: =CB11-BS11 -> 7354.8176 | CE11: =CD11/BS11 -> 1.9678567e-05 | CF11: =($X11*O11) -> 98966677 | CG11: =CF11-AY11 -> 91346243 | CH11: =($AK11*O11)-BF11-AM11 -> 91346243 | CI11: =CH11-CG11 -> 0 | CK11: =1-CH11/CF11 -> 0.077 | CL11: =1-CG11/CF11 -> 0.077
A12: 9 | B12: 210009 | D12: 3.3116156e+09 | E12: 9.0930247e+08 | F12: 39986665 | G12: 35591810 | H12: 1.8342521e+08 | I12: 483234508 | J12: 3.7126676e+08 | K12: 3.1460109e+08 | L12: 13732402 | M12: 90366000 | N12: =D12-SUM(E12:M12) -> 8.7010867e+08 | O12: =E12/$D12 -> 0.27457972 | P12: =F12/$D12 -> 0.01207467 | Q12: =G12/$D12 -> 0.010747567 | R12: =(H12+I12)/$D12 -> 0.20130951 | S12: =J12/$D12 -> 0.11211047 | T12: =K12/$D12 -> 0.094999277 | U12: =L12/$D12 -> 0.0041467379 | V12: =M12/$D12 -> 0.027287587 | W12: =(N12)/$D12 -> 0.26274447 | X12: =Y12*(1-0.4973) -> 1.8525744e+09 | Y12: 3.6852484e+09 | Z12: =(X12*O12*(1-O$2))+(X12*P12*(1-O$2))+(X12*Q12*(1-Q$2))+(X12*R12*(1-R$2))+(X12*S12*(1-S$2))+(X12*T12*(1-T$2))+(X12*U12*(1-U$2))+(X12*V12*(1-V$2))+(X12*W12*(1-W$2)) -> 1.7633524e+09 | AA12: =$AA$51 -> 0.114873 | AB12: =(X12*O12*(1-O$2))+(X12*P12*(1-AA12-O$2))+(X12*Q12*(1-Q$2))+(X12*R12*(1-R$2))+(X12*S12*(1-S$2))+(X12*T12*(1-T$2))+(X12*U12*(1-U$2))+(X12*V12*(1-V$2))+(X12*W12*(1-W$2)) -> 1.7607828e+09 | AC12: =((Z12-AB12)*O12/(1-O$2))+((Z12-AB12)*P12/(1-(AA$5+O$2)))+((Z12-AB12)*Q12/(1-Q$2))+((Z12-AB12)*R12/(1-R$2))+((Z12-AB12)*S12/(1-S$2))+((Z12-AB12)*T12/(1-T$2))+((Z12-AB12)*U12/(1-U$2))+((Z12-AB12)*V12/(1-V$2))+((Z12-AB12)*W12/(1-W$2))+X12 -> 1.8552813e+09 | AD12: =(AC12*O12*(1-O$2))+(AC12*P12*(1-AA12-O$2))+(AC12*Q12*(1-Q$2))+(AC12*R12*(1-R$2))+(AC12*S12*(1-S$2))+(AC12*T12*(1-T$2))+(AC12*U12*(1-U$2))+(AC12*V12*(1-V$2))+(AC12*W12*(1-W$2)) -> 1.7633556e+09 | AE12: =$AE$51 -> 0.086354 | AF12: =(AC12*O12*(1-O$2))+(AC12*P12*(1-AA12-O$2))+(AC12*Q12*(1-AE$5))+(AC12*R12*(1-R$2))+(AC12*S12*(1-S$2))+(AC12*T12*(1-T$2))+(AC12*U12*(1-U$2))+(AC12*V12*(1-V$2))+(AC12*W12*(1-W$2)) -> 1.763169e+09 | AG12: =((AD12-AF12)*O12/(1-O$2))+((AD12-AF12)*P12/(1-(AA$5+O$2)))+((AD12-AF12)*Q12/(1-AE$5))+((AD12-AF12)*R12/(1-R$2))+((AD12-AF12)*S12/(1-S$2))+((AD12-AF12)*T12/(1-T$2))+((AD12-AF12)*U12/(1-U$2))+((AD12-AF12)*V12/(1-V$2))+((AD12-AF12)*W12/(1-W$2))+AC12 -> 1.8554778e+09 | AH12: =(AG12*O12*(1-O$2))+(AG12*P12*(1-AA12-O$2))+(AG12*Q12*(1-AE$5))+(AG12*R12*(1-R$2))+(AG12*S12*(1-S$2))+(AG12*T12*(1-T$2))+(AG12*U12*(1-U$2))+(AG12*V12*(1-V$2))+(AG12*W12*(1-W$2)) -> 1.7633558e+09 | AI12: =(AG12*O12*(1-O$2))-(X12*O12*(1-O$2)) -> 735833.98 | AJ12: =AI12/(AW12/AV12) -> 1003424.4 | AK12: =AG12+(AJ12*O12)/(1-O$2)+(AJ12*P12)/(1-O$2-AA12)+(AJ12*Q12)/(1-AE12)+(AJ12*R12)/(1-R$2)+(AJ12*S12)/(1-S$2)+(AJ12*T12)/(1-T$2)+(AJ12*U12)/(1-U$2)+(AJ12*V12)/(1-V$2)+(AJ12*W12)/(1-W$2) -> 1.8565349e+09 | AL12: =(AK12*O12*(1-O$2))+(AK12*P12*(1-AA12-O$2))+(AK12*Q12*(1-AE$5))+(AK12*R12*(1-R$2))+(AK12*S12*(1-S$2))+(AK12*T12*(1-T$2))+(AK12*U12*(1-U$2))+(AK12*V12*(1-V$2))+(AK12*W12*(1-W$2)) -> 1.7643605e+09 | AM12: =(AK12*O12*(1-O$2))-(X12*O12*(1-O$2)) -> 1003756.8 | AN12: =AM12/((O12*AL12)) -> 0.0020719187 | AO12: =AL12-AM12 -> 1.7633567e+09 | AP12: =(((AK12*O12*(1-O$2))/AL12)*AL12)-AM12-(((X12*O12*(1-O$2))/Z12)*Z12) -> 0 | AR12: =1-((((AK12*P12*(1-O$2-AA12))/AL12)*AL12)/(X12*P12)) -> 0.19014532 | AS12: =AR12-$O$2 -> 0.11314532 | AT12: =1-((((AK12*Q12*(1-AE12))/AL12)*AL12)/(X12*Q12)) -> 0.084400737 | AU12: =AT12-$O$2 -> 0.0074007374 | AV12: =$O12*(1-$O$2)+$P12*(1-$O$2-$AA12)+$Q12*(1-$AE12)+$R12*(1-$R$2)+$S12*(1-$S$2)+$T12*(1-$T$2)+$U12*(1-$U$2)+$V12*(1-$V$2)+$W12*(1-$W$2) -> 0.95035134 | AW12: =$P12*(1-$O$2-$AA12)+$Q12*(1-$AE12)+$R12*(1-$R$2)+$S12*(1-$S$2)+$T12*(1-$T$2)+$U12*(1-$U$2)+$V12*(1-$V$2)+$W12*(1-$W$2) -> 0.69691426 | AY12: =(X12*$O12*($O$2)) -> 39168309 | AZ12: =(X12*$P12*($O$2)) -> 1722430.2 | BA12: =(X12*Q12*($Q$2)) -> 1533121.3 | BB12: =(X12*$R12*($R$2)) -> 28716445 | BC12: =(X12*$S12*($S$2))+(X12*$T12*($T$2))+(X12*$U12*($U$2))+(X12*$V12*($V$2))+(X12*$W12*($W$2)) -> 18081672 | BD12: =SUM(AY12:BC12)-(X12-Z12) -> 0 | BF12: =(AK12*$O12*($O$2)) -> 39252046 | BG12: =(AK12*$P12*($O$2+$AA12)) -> 4301225.9 | BH12: =(AK12*Q12*($AE12)) -> 1723041.5 | BI12: =(AK12*$R12*($R$2)) -> 28777837 | BJ12: =(AK12*$S12*($S$2))+(AK12*$T12*($T$2))+(AK12*$U12*($U$2))+(AK12*$V12*($V$2))+(AK12*$W12*($W$2)) -> 18120329 | BK12: =SUM(BF12:BJ12)-(AK12-AL12) -> 2.3841858e-07 | BM12: =X12 -> 1.8525744e+09 | BN12: =AY12 -> 39168309 | BO12: =AZ12 -> 1722430.2 | BP12: =BA12 -> 1533121.3 | BQ12: =BB12 -> 28716445 | BR12: =BC12 -> 18081672 | BS12: =BM12-SUM(BN12:BR12) -> 1.7633524e+09 | BU12: =AK12 -> 1.8565349e+09 | BV12: =BF12 -> 39252046 | BW12: =AM12 -> 1003756.8 | BX12: =BG12 -> 4301225.9 | BY12: =BH12 -> 1723041.5 | BZ12: =BI12 -> 28777837 | CA12: =BJ12 -> 18120329 | CB12: =BU12-SUM(BV12:CA12) -> 1.7633567e+09 | CD12: =CB12-BS12 -> 4317.5309 | CE12: =CD12/BS12 -> 2.4484788e-06 | CF12: =($X12*O12) -> 5.0867934e+08 | CG12: =CF12-AY12 -> 4.6951103e+08 | CH12: =($AK12*O12)-BF12-AM12 -> 4.6951103e+08 | CI12: =CH12-CG12 -> 0 | CK12: =1-CH12/CF12 -> 0.077 | CL12: =1-CG12/CF12 -> 0.077
A13: 10 | B13: 210010 | D13: 17496641 | E13: 4094217.5 | F13: 738320.93 | G13: 1107031 | H13: 381171.9 | I13: 5946729.8 | J13: 0 | K13: 1684870.6 | L13: 83712.9 | M13: 1609000 | N13: =D13-SUM(E13:M13) -> 1851586.1 | O13: =E13/$D13 -> 0.2340002 | P13: =F13/$D13 -> 0.042197868 | Q13: =G13/$D13 -> 0.063271058 | R13: =(H13+I13)/$D13 -> 0.36166381 | S13: =J13/$D13 -> 0 | T13: =K13/$D13 -> 0.096296805 | U13: =L13/$D13 -> 0.0047845127 | V13: =M13/$D13 -> 0.09196051 | W13: =(N13)/$D13 -> 0.10582523 | X13: =Y13*(1-0.4973) -> 9660166.9 | Y13: 19216564 | Z13: =(X13*O13*(1-O$2))+(X13*P13*(1-O$2))+(X13*Q13*(1-Q$2))+(X13*R13*(1-R$2))+(X13*S13*(1-S$2))+(X13*T13*(1-T$2))+(X13*U13*(1-U$2))+(X13*V13*(1-V$2))+(X13*W13*(1-W$2)) -> 9098666.2 | AA13: =$AA$51 -> 0.114873 | AB13: =(X13*O13*(1-O$2))+(X13*P13*(1-AA13-O$2))+(X13*Q13*(1-Q$2))+(X13*R13*(1-R$2))+(X13*S13*(1-S$2))+(X13*T13*(1-T$2))+(X13*U13*(1-U$2))+(X13*V13*(1-V$2))+(X13*W13*(1-W$2)) -> 9051839.5 | AC13: =((Z13-AB13)*O13/(1-O$2))+((Z13-AB13)*P13/(1-(AA$5+O$2)))+((Z13-AB13)*Q13/(1-Q$2))+((Z13-AB13)*R13/(1-R$2))+((Z13-AB13)*S13/(1-S$2))+((Z13-AB13)*T13/(1-T$2))+((Z13-AB13)*U13/(1-U$2))+((Z13-AB13)*V13/(1-V$2))+((Z13-AB13)*W13/(1-W$2))+X13 -> 9710234.5 | AD13: =(AC13*O13*(1-O$2))+(AC13*P13*(1-AA13-O$2))+(AC13*Q13*(1-Q$2))+(AC13*R13*(1-R$2))+(AC13*S13*(1-S$2))+(AC13*T13*(1-T$2))+(AC13*U13*(1-U$2))+(AC13*V13*(1-V$2))+(AC13*W13*(1-W$2)) -> 9098754.2 | AE13: =$AE$51 -> 0.086354 | AF13: =(AC13*O13*(1-O$2))+(AC13*P13*(1-AA13-O$2))+(AC13*Q13*(1-AE$5))+(AC13*R13*(1-R$2))+(AC13*S13*(1-S$2))+(AC13*T13*(1-T$2))+(AC13*U13*(1-U$2))+(AC13*V13*(1-V$2))+(AC13*W13*(1-W$2)) -> 9093007.4 | AG13: =((AD13-AF13)*O13/(1-O$2))+((AD13-AF13)*P13/(1-(AA$5+O$2)))+((AD13-AF13)*Q13/(1-AE$5))+((AD13-AF13)*R13/(1-R$2))+((AD13-AF13)*S13/(1-S$2))+((AD13-AF13)*T13/(1-T$2))+((AD13-AF13)*U13/(1-U$2))+((AD13-AF13)*V13/(1-V$2))+((AD13-AF13)*W13/(1-W$2))+AC13 -> 9716383.2 | AH13: =(AG13*O13*(1-O$2))+(AG13*P13*(1-AA13-O$2))+(AG13*Q13*(1-AE$5))+(AG13*R13*(1-R$2))+(AG13*S13*(1-S$2))+(AG13*T13*(1-T$2))+(AG13*U13*(1-U$2))+(AG13*V13*(1-V$2))+(AG13*W13*(1-W$2)) -> 9098765.2 | AI13: =(AG13*O13*(1-O$2))-(X13*O13*(1-O$2)) -> 12141.72 | AJ13: =AI13/(AW13/AV13) -> 15781.644 | AK13: =AG13+(AJ13*O13)/(1-O$2)+(AJ13*P13)/(1-O$2-AA13)+(AJ13*Q13)/(1-AE13)+(AJ13*R13)/(1-R$2)+(AJ13*S13)/(1-S$2)+(AJ13*T13)/(1-T$2)+(AJ13*U13)/(1-U$2)+(AJ13*V13)/(1-V$2)+(AJ13*W13)/(1-W$2) -> 9733268.2 | AL13: =(AK13*O13*(1-O$2))+(AK13*P13*(1-AA13-O$2))+(AK13*Q13*(1-AE$5))+(AK13*R13*(1-R$2))+(AK13*S13*(1-S$2))+(AK13*T13*(1-T$2))+(AK13*U13*(1-U$2))+(AK13*V13*(1-V$2))+(AK13*W13*(1-W$2)) -> 9114576.9 | AM13: =(AK13*O13*(1-O$2))-(X13*O13*(1-O$2)) -> 15788.58 | AN13: =AM13/((O13*AL13)) -> 0.007402703 | AO13: =AL13-AM13 -> 9098788.3 | AP13: =(((AK13*O13*(1-O$2))/AL13)*AL13)-AM13-(((X13*O13*(1-O$2))/Z13)*Z13) -> 0 | AR13: =1-((((AK13*P13*(1-O$2-AA13))/AL13)*AL13)/(X13*P13)) -> 0.18575767 | AS13: =AR13-$O$2 -> 0.10875767 | AT13: =1-((((AK13*Q13*(1-AE13))/AL13)*AL13)/(X13*Q13)) -> 0.079440174 | AU13: =AT13-$O$2 -> 0.0024401736 | AV13: =$O13*(1-$O$2)+$P13*(1-$O$2-$AA13)+$Q13*(1-$AE13)+$R13*(1-$R$2)+$S13*(1-$S$2)+$T13*(1-$T$2)+$U13*(1-$U$2)+$V13*(1-$V$2)+$W13*(1-$W$2) -> 0.9364354 | AW13: =$P13*(1-$O$2-$AA13)+$Q13*(1-$AE13)+$R13*(1-$R$2)+$S13*(1-$S$2)+$T13*(1-$T$2)+$U13*(1-$U$2)+$V13*(1-$V$2)+$W13*(1-$W$2) -> 0.72045321 | AY13: =(X13*$O13*($O$2)) -> 174057.04 | AZ13: =(X13*$P13*($O$2)) -> 31388.16 | BA13: =(X13*Q13*($Q$2)) -> 47063.092 | BB13: =(X13*$R13*($R$2)) -> 269017.42 | BC13: =(X13*$S13*($S$2))+(X13*$T13*($T$2))+(X13*$U13*($U$2))+(X13*$V13*($V$2))+(X13*$W13*($W$2)) -> 39975.037 | BD13: =SUM(AY13:BC13)-(X13-Z13) -> 0 | BF13: =(AK13*$O13*($O$2)) -> 175374.18 | BG13: =(AK13*$P13*($O$2+$AA13)) -> 78806.686 | BH13: =(AK13*Q13*($AE13)) -> 53179.745 | BI13: =(AK13*$R13*($R$2)) -> 271053.16 | BJ13: =(AK13*$S13*($S$2))+(AK13*$T13*($T$2))+(AK13*$U13*($U$2))+(AK13*$V13*($V$2))+(AK13*$W13*($W$2)) -> 40277.539 | BK13: =SUM(BF13:BJ13)-(AK13-AL13) -> 0 | BM13: =X13 -> 9660166.9 | BN13: =AY13 -> 174057.04 | BO13: =AZ13 -> 31388.16 | BP13: =BA13 -> 47063.092 | BQ13: =BB13 -> 269017.42 | BR13: =BC13 -> 39975.037 | BS13: =BM13-SUM(BN13:BR13) -> 9098666.2 | BU13: =AK13 -> 9733268.2 | BV13: =BF13 -> 175374.18 | BW13: =AM13 -> 15788.58 | BX13: =BG13 -> 78806.686 | BY13: =BH13 -> 53179.745 | BZ13: =BI13 -> 271053.16 | CA13: =BJ13 -> 40277.539 | CB13: =BU13-SUM(BV13:CA13) -> 9098788.3 | CD13: =CB13-BS13 -> 122.17141 | CE13: =CD13/BS13 -> 1.3427398e-05 | CF13: =($X13*O13) -> 2260481 | CG13: =CF13-AY13 -> 2086424 | CH13: =($AK13*O13)-BF13-AM13 -> 2086424 | CI13: =CH13-CG13 -> 0 | CK13: =1-CH13/CF13 -> 0.077 | CL13: =1-CG13/CF13 -> 0.077
A14: 11 | B14: 210011 | D14: 5.6892684e+08 | E14: 165578609 | F14: 44502475 | G14: 54107812 | H14: 21979929 | I14: 107720681 | J14: 24642250 | K14: 47344358 | L14: 10656614 | M14: 31745188 | N14: =D14-SUM(E14:M14) -> 60648922 | O14: =E14/$D14 -> 0.29103673 | P14: =F14/$D14 -> 0.078221788 | Q14: =G14/$D14 -> 0.095105045 | R14: =(H14+I14)/$D14 -> 0.22797415 | S14: =J14/$D14 -> 0.043313566 | T14: =K14/$D14 -> 0.083216953 | U14: =L14/$D14 -> 0.018731079 | V14: =M14/$D14 -> 0.055798366 | W14: =(N14)/$D14 -> 0.10660232 | X14: =Y14*(1-0.4973) -> 3.0376216e+08 | Y14: 6.0426131e+08 | Z14: =(X14*O14*(1-O$2))+(X14*P14*(1-O$2))+(X14*Q14*(1-Q$2))+(X14*R14*(1-R$2))+(X14*S14*(1-S$2))+(X14*T14*(1-T$2))+(X14*U14*(1-U$2))+(X14*V14*(1-V$2))+(X14*W14*(1-W$2)) -> 2.8600557e+08 | AA14: =$AA$51 -> 0.114873 | AB14: =(X14*O14*(1-O$2))+(X14*P14*(1-AA14-O$2))+(X14*Q14*(1-Q$2))+(X14*R14*(1-R$2))+(X14*S14*(1-S$2))+(X14*T14*(1-T$2))+(X14*U14*(1-U$2))+(X14*V14*(1-V$2))+(X14*W14*(1-W$2)) -> 2.832761e+08 | AC14: =((Z14-AB14)*O14/(1-O$2))+((Z14-AB14)*P14/(1-(AA$5+O$2)))+((Z14-AB14)*Q14/(1-Q$2))+((Z14-AB14)*R14/(1-R$2))+((Z14-AB14)*S14/(1-S$2))+((Z14-AB14)*T14/(1-T$2))+((Z14-AB14)*U14/(1-U$2))+((Z14-AB14)*V14/(1-V$2))+((Z14-AB14)*W14/(1-W$2))+X14 -> 3.066965e+08 | AD14: =(AC14*O14*(1-O$2))+(AC14*P14*(1-AA14-O$2))+(AC14*Q14*(1-Q$2))+(AC14*R14*(1-R$2))+(AC14*S14*(1-S$2))+(AC14*T14*(1-T$2))+(AC14*U14*(1-U$2))+(AC14*V14*(1-V$2))+(AC14*W14*(1-W$2)) -> 2.8601254e+08 | AE14: =$AE$51 -> 0.086354 | AF14: =(AC14*O14*(1-O$2))+(AC14*P14*(1-AA14-O$2))+(AC14*Q14*(1-AE$5))+(AC14*R14*(1-R$2))+(AC14*S14*(1-S$2))+(AC14*T14*(1-T$2))+(AC14*U14*(1-U$2))+(AC14*V14*(1-V$2))+(AC14*W14*(1-W$2)) -> 2.857397e+08 | AG14: =((AD14-AF14)*O14/(1-O$2))+((AD14-AF14)*P14/(1-(AA$5+O$2)))+((AD14-AF14)*Q14/(1-AE$5))+((AD14-AF14)*R14/(1-R$2))+((AD14-AF14)*S14/(1-S$2))+((AD14-AF14)*T14/(1-T$2))+((AD14-AF14)*U14/(1-U$2))+((AD14-AF14)*V14/(1-V$2))+((AD14-AF14)*W14/(1-W$2))+AC14 -> 3.0699011e+08 | AH14: =(AG14*O14*(1-O$2))+(AG14*P14*(1-AA14-O$2))+(AG14*Q14*(1-AE$5))+(AG14*R14*(1-R$2))+(AG14*S14*(1-S$2))+(AG14*T14*(1-T$2))+(AG14*U14*(1-U$2))+(AG14*V14*(1-V$2))+(AG14*W14*(1-W$2)) -> 2.8601325e+08 | AI14: =(AG14*O14*(1-O$2))-(X14*O14*(1-O$2)) -> 867114.37 | AJ14: =AI14/(AW14/AV14) -> 1218419.6 | AK14: =AG14+(AJ14*O14)/(1-O$2)+(AJ14*P14)/(1-O$2-AA14)+(AJ14*Q14)/(1-AE14)+(AJ14*R14)/(1-R$2)+(AJ14*S14)/(1-S$2)+(AJ14*T14)/(1-T$2)+(AJ14*U14)/(1-U$2)+(AJ14*V14)/(1-V$2)+(AJ14*W14)/(1-W$2) -> 3.0830127e+08 | AL14: =(AK14*O14*(1-O$2))+(AK14*P14*(1-AA14-O$2))+(AK14*Q14*(1-AE$5))+(AK14*R14*(1-R$2))+(AK14*S14*(1-S$2))+(AK14*T14*(1-T$2))+(AK14*U14*(1-U$2))+(AK14*V14*(1-V$2))+(AK14*W14*(1-W$2)) -> 2.8723481e+08 | AM14: =(AK14*O14*(1-O$2))-(X14*O14*(1-O$2)) -> 1219326.1 | AN14: =AM14/((O14*AL14)) -> 0.014585959 | AO14: =AL14-AM14 -> 2.8601548e+08 | AP14: =(((AK14*O14*(1-O$2))/AL14)*AL14)-AM14-(((X14*O14*(1-O$2))/Z14)*Z14) -> 0 | AR14: =1-((((AK14*P14*(1-O$2-AA14))/AL14)*AL14)/(X14*P14)) -> 0.17979719 | AS14: =AR14-$O$2 -> 0.10279719 | AT14: =1-((((AK14*Q14*(1-AE14))/AL14)*AL14)/(X14*Q14)) -> 0.072701422 | AU14: =AT14-$O$2 -> -0.0042985776 | AV14: =$O14*(1-$O$2)+$P14*(1-$O$2-$AA14)+$Q14*(1-$AE14)+$R14*(1-$R$2)+$S14*(1-$S$2)+$T14*(1-$T$2)+$U14*(1-$U$2)+$V14*(1-$V$2)+$W14*(1-$W$2) -> 0.93166925 | AW14: =$P14*(1-$O$2-$AA14)+$Q14*(1-$AE14)+$R14*(1-$R$2)+$S14*(1-$S$2)+$T14*(1-$T$2)+$U14*(1-$U$2)+$V14*(1-$V$2)+$W14*(1-$W$2) -> 0.66304234 | AY14: =(X14*$O14*($O$2)) -> 6807257.9 | AZ14: =(X14*$P14*($O$2)) -> 1829583.1 | BA14: =(X14*Q14*($Q$2)) -> 2224477.2 | BB14: =(X14*$R14*($R$2)) -> 5332243.8 | BC14: =(X14*$S14*($S$2))+(X14*$T14*($T$2))+(X14*$U14*($U$2))+(X14*$V14*($V$2))+(X14*$W14*($W$2)) -> 1563027.1 | BD14: =SUM(AY14:BC14)-(X14-Z14) -> 0 | BF14: =(AK14*$O14*($O$2)) -> 6908978.5 | BG14: =(AK14*$P14*($O$2+$AA14)) -> 4627185.6 | BH14: =(AK14*Q14*($AE14)) -> 2531986.1 | BI14: =(AK14*$R14*($R$2)) -> 5411923.3 | BJ14: =(AK14*$S14*($S$2))+(AK14*$T14*($T$2))+(AK14*$U14*($U$2))+(AK14*$V14*($V$2))+(AK14*$W14*($W$2)) -> 1586383.4 | BK14: =SUM(BF14:BJ14)-(AK14-AL14) -> 0 | BM14: =X14 -> 3.0376216e+08 | BN14: =AY14 -> 6807257.9 | BO14: =AZ14 -> 1829583.1 | BP14: =BA14 -> 2224477.2 | BQ14: =BB14 -> 5332243.8 | BR14: =BC14 -> 1563027.1 | BS14: =BM14-SUM(BN14:BR14) -> 2.8600557e+08 | BU14: =AK14 -> 3.0830127e+08 | BV14: =BF14 -> 6908978.5 | BW14: =AM14 -> 1219326.1 | BX14: =BG14 -> 4627185.6 | BY14: =BH14 -> 2531986.1 | BZ14: =BI14 -> 5411923.3 | CA14: =BJ14 -> 1586383.4 | CB14: =BU14-SUM(BV14:CA14) -> 2.8601548e+08 | CD14: =CB14-BS14 -> 9912.5423 | CE14: =CD14/BS14 -> 3.4658564e-05 | CF14: =($X14*O14) -> 88405947 | CG14: =CF14-AY14 -> 81598689 | CH14: =($AK14*O14)-BF14-AM14 -> 81598689 | CI14: =CH14-CG14 -> 0 | CK14: =1-CH14/CF14 -> 0.077 | CL14: =1-CG14/CF14 -> 0.077
A15: 12 | B15: 210012 | D15: 9.9438958e+08 | E15: 3.3368735e+08 | F15: 56472877 | G15: 93405084 | H15: 39331013 | I15: 1.9236949e+08 | J15: 39762161 | K15: 58202311 | L15: 0 | M15: 30264900 | N15: =D15-SUM(E15:M15) -> 150894400 | O15: =E15/$D15 -> 0.33557004 | P15: =F15/$D15 -> 0.056791501 | Q15: =G15/$D15 -> 0.093932083 | R15: =(H15+I15)/$D15 -> 0.23300777 | S15: =J15/$D15 -> 0.039986503 | T15: =K15/$D15 -> 0.058530693 | U15: =L15/$D15 -> 0 | V15: =M15/$D15 -> 0.030435657 | W15: =(N15)/$D15 -> 0.15174576 | X15: =Y15*(1-0.4973) -> 5.4746584e+08 | Y15: 1.0890508e+09 | Z15: =(X15*O15*(1-O$2))+(X15*P15*(1-O$2))+(X15*Q15*(1-Q$2))+(X15*R15*(1-R$2))+(X15*S15*(1-S$2))+(X15*T15*(1-T$2))+(X15*U15*(1-U$2))+(X15*V15*(1-V$2))+(X15*W15*(1-W$2)) -> 5.1434885e+08 | AA15: =$AA$51 -> 0.114873 | AB15: =(X15*O15*(1-O$2))+(X15*P15*(1-AA15-O$2))+(X15*Q15*(1-Q$2))+(X15*R15*(1-R$2))+(X15*S15*(1-S$2))+(X15*T15*(1-T$2))+(X15*U15*(1-U$2))+(X15*V15*(1-V$2))+(X15*W15*(1-W$2)) -> 5.1077729e+08 | AC15: =((Z15-AB15)*O15/(1-O$2))+((Z15-AB15)*P15/(1-(AA$5+O$2)))+((Z15-AB15)*Q15/(1-Q$2))+((Z15-AB15)*R15/(1-R$2))+((Z15-AB15)*S15/(1-S$2))+((Z15-AB15)*T15/(1-T$2))+((Z15-AB15)*U15/(1-U$2))+((Z15-AB15)*V15/(1-V$2))+((Z15-AB15)*W15/(1-W$2))+X15 -> 5.5130158e+08 | AD15: =(AC15*O15*(1-O$2))+(AC15*P15*(1-AA15-O$2))+(AC15*Q15*(1-Q$2))+(AC15*R15*(1-R$2))+(AC15*S15*(1-S$2))+(AC15*T15*(1-T$2))+(AC15*U15*(1-U$2))+(AC15*V15*(1-V$2))+(AC15*W15*(1-W$2)) -> 5.1435597e+08 | AE15: =$AE$51 -> 0.086354 | AF15: =(AC15*O15*(1-O$2))+(AC15*P15*(1-AA15-O$2))+(AC15*Q15*(1-AE$5))+(AC15*R15*(1-R$2))+(AC15*S15*(1-S$2))+(AC15*T15*(1-T$2))+(AC15*U15*(1-U$2))+(AC15*V15*(1-V$2))+(AC15*W15*(1-W$2)) -> 5.1387157e+08 | AG15: =((AD15-AF15)*O15/(1-O$2))+((AD15-AF15)*P15/(1-(AA$5+O$2)))+((AD15-AF15)*Q15/(1-AE$5))+((AD15-AF15)*R15/(1-R$2))+((AD15-AF15)*S15/(1-S$2))+((AD15-AF15)*T15/(1-T$2))+((AD15-AF15)*U15/(1-U$2))+((AD15-AF15)*V15/(1-V$2))+((AD15-AF15)*W15/(1-W$2))+AC15 -> 5.5182231e+08 | AH15: =(AG15*O15*(1-O$2))+(AG15*P15*(1-AA15-O$2))+(AG15*Q15*(1-AE$5))+(AG15*R15*(1-R$2))+(AG15*S15*(1-S$2))+(AG15*T15*(1-T$2))+(AG15*U15*(1-U$2))+(AG15*V15*(1-V$2))+(AG15*W15*(1-W$2)) -> 5.1435695e+08 | AI15: =(AG15*O15*(1-O$2))-(X15*O15*(1-O$2)) -> 1349331.9 | AJ15: =AI15/(AW15/AV15) -> 2020840.4 | AK15: =AG15+(AJ15*O15)/(1-O$2)+(AJ15*P15)/(1-O$2-AA15)+(AJ15*Q15)/(1-AE15)+(AJ15*R15)/(1-R$2)+(AJ15*S15)/(1-S$2)+(AJ15*T15)/(1-T$2)+(AJ15*U15)/(1-U$2)+(AJ15*V15)/(1-V$2)+(AJ15*W15)/(1-W$2) -> 5.5399472e+08 | AL15: =(AK15*O15*(1-O$2))+(AK15*P15*(1-AA15-O$2))+(AK15*Q15*(1-AE$5))+(AK15*R15*(1-R$2))+(AK15*S15*(1-S$2))+(AK15*T15*(1-T$2))+(AK15*U15*(1-U$2))+(AK15*V15*(1-V$2))+(AK15*W15*(1-W$2)) -> 5.1638187e+08 | AM15: =(AK15*O15*(1-O$2))-(X15*O15*(1-O$2)) -> 2022197 | AN15: =AM15/((O15*AL15)) -> 0.011669958 | AO15: =AL15-AM15 -> 5.1435967e+08 | AP15: =(((AK15*O15*(1-O$2))/AL15)*AL15)-AM15-(((X15*O15*(1-O$2))/Z15)*Z15) -> 0 | AR15: =1-((((AK15*P15*(1-O$2-AA15))/AL15)*AL15)/(X15*P15)) -> 0.18223557 | AS15: =AR15-$O$2 -> 0.10523557 | AT15: =1-((((AK15*Q15*(1-AE15))/AL15)*AL15)/(X15*Q15)) -> 0.07545819 | AU15: =AT15-$O$2 -> -0.0015418098 | AV15: =$O15*(1-$O$2)+$P15*(1-$O$2-$AA15)+$Q15*(1-$AE15)+$R15*(1-$R$2)+$S15*(1-$S$2)+$T15*(1-$T$2)+$U15*(1-$U$2)+$V15*(1-$V$2)+$W15*(1-$W$2) -> 0.93210612 | AW15: =$P15*(1-$O$2-$AA15)+$Q15*(1-$AE15)+$R15*(1-$R$2)+$S15*(1-$S$2)+$T15*(1-$T$2)+$U15*(1-$U$2)+$V15*(1-$V$2)+$W15*(1-$W$2) -> 0.62237497 | AY15: =(X15*$O15*($O$2)) -> 14145911 | AZ15: =(X15*$P15*($O$2)) -> 2394038.3 | BA15: =(X15*Q15*($Q$2)) -> 3959694.7 | BB15: =(X15*$R15*($R$2)) -> 9822412.3 | BC15: =(X15*$S15*($S$2))+(X15*$T15*($T$2))+(X15*$U15*($U$2))+(X15*$V15*($V$2))+(X15*$W15*($W$2)) -> 2794936.5 | BD15: =SUM(AY15:BC15)-(X15-Z15) -> 0 | BF15: =(AK15*$O15*($O$2)) -> 14314610 | BG15: =(AK15*$P15*($O$2+$AA15)) -> 6036745.1 | BH15: =(AK15*Q15*($AE15)) -> 4493678.9 | BI15: =(AK15*$R15*($R$2)) -> 9939550.8 | BJ15: =(AK15*$S15*($S$2))+(AK15*$T15*($T$2))+(AK15*$U15*($U$2))+(AK15*$V15*($V$2))+(AK15*$W15*($W$2)) -> 2828267.9 | BK15: =SUM(BF15:BJ15)-(AK15-AL15) -> 5.9604645e-08 | BM15: =X15 -> 5.4746584e+08 | BN15: =AY15 -> 14145911 | BO15: =AZ15 -> 2394038.3 | BP15: =BA15 -> 3959694.7 | BQ15: =BB15 -> 9822412.3 | BR15: =BC15 -> 2794936.5 | BS15: =BM15-SUM(BN15:BR15) -> 5.1434885e+08 | BU15: =AK15 -> 5.5399472e+08 | BV15: =BF15 -> 14314610 | BW15: =AM15 -> 2022197 | BX15: =BG15 -> 6036745.1 | BY15: =BH15 -> 4493678.9 | BZ15: =BI15 -> 9939550.8 | CA15: =BJ15 -> 2828267.9 | CB15: =BU15-SUM(BV15:CA15) -> 5.1435967e+08 | CD15: =CB15-BS15 -> 10821.599 | CE15: =CD15/BS15 -> 2.1039415e-05 | CF15: =($X15*O15) -> 1.8371313e+08 | CG15: =CF15-AY15 -> 1.6956722e+08 | CH15: =($AK15*O15)-BF15-AM15 -> 1.6956722e+08 | CI15: =CH15-CG15 -> 0 | CK15: =1-CH15/CF15 -> 0.077 | CL15: =1-CG15/CF15 -> 0.077
A16: 13 | B16: 210013 | D16: 34392900 | E16: 5559100 | F16: 2109131.9 | G16: 2648768.1 | H16: 2279300 | I16: 16750800 | J16: 0 | K16: 925900 | L16: 0 | M16: 2838040 | N16: =D16-SUM(E16:M16) -> 1281860 | O16: =E16/$D16 -> 0.1616351 | P16: =F16/$D16 -> 0.06132463 | Q16: =G16/$D16 -> 0.077014969 | R16: =(H16+I16)/$D16 -> 0.55331478 | S16: =J16/$D16 -> 0 | T16: =K16/$D16 -> 0.026921254 | U16: =L16/$D16 -> 0 | V16: =M16/$D16 -> 0.082518194 | W16: =(N16)/$D16 -> 0.037271065 | X16: =Y16*(1-0.4973) -> 19069324 | Y16: 37933806 | Z16: =(X16*O16*(1-O$2))+(X16*P16*(1-O$2))+(X16*Q16*(1-Q$2))+(X16*R16*(1-R$2))+(X16*S16*(1-S$2))+(X16*T16*(1-T$2))+(X16*U16*(1-U$2))+(X16*V16*(1-V$2))+(X16*W16*(1-W$2)) -> 17791925 | AA16: =$AA$51 -> 0.114873 | AB16: =(X16*O16*(1-O$2))+(X16*P16*(1-AA16-O$2))+(X16*Q16*(1-Q$2))+(X16*R16*(1-R$2))+(X16*S16*(1-S$2))+(X16*T16*(1-T$2))+(X16*U16*(1-U$2))+(X16*V16*(1-V$2))+(X16*W16*(1-W$2)) -> 17657590 | AC16: =((Z16-AB16)*O16/(1-O$2))+((Z16-AB16)*P16/(1-(AA$5+O$2)))+((Z16-AB16)*Q16/(1-Q$2))+((Z16-AB16)*R16/(1-R$2))+((Z16-AB16)*S16/(1-S$2))+((Z16-AB16)*T16/(1-T$2))+((Z16-AB16)*U16/(1-U$2))+((Z16-AB16)*V16/(1-V$2))+((Z16-AB16)*W16/(1-W$2))+X16 -> 19214666 | AD16: =(AC16*O16*(1-O$2))+(AC16*P16*(1-AA16-O$2))+(AC16*Q16*(1-Q$2))+(AC16*R16*(1-R$2))+(AC16*S16*(1-S$2))+(AC16*T16*(1-T$2))+(AC16*U16*(1-U$2))+(AC16*V16*(1-V$2))+(AC16*W16*(1-W$2)) -> 17792172 | AE16: =$AE$51 -> 0.086354 | AF16: =(AC16*O16*(1-O$2))+(AC16*P16*(1-AA16-O$2))+(AC16*Q16*(1-AE$5))+(AC16*R16*(1-R$2))+(AC16*S16*(1-S$2))+(AC16*T16*(1-T$2))+(AC16*U16*(1-U$2))+(AC16*V16*(1-V$2))+(AC16*W16*(1-W$2)) -> 17778330 | AG16: =((AD16-AF16)*O16/(1-O$2))+((AD16-AF16)*P16/(1-(AA$5+O$2)))+((AD16-AF16)*Q16/(1-AE$5))+((AD16-AF16)*R16/(1-R$2))+((AD16-AF16)*S16/(1-S$2))+((AD16-AF16)*T16/(1-T$2))+((AD16-AF16)*U16/(1-U$2))+((AD16-AF16)*V16/(1-V$2))+((AD16-AF16)*W16/(1-W$2))+AC16 -> 19229654 | AH16: =(AG16*O16*(1-O$2))+(AG16*P16*(1-AA16-O$2))+(AG16*Q16*(1-AE$5))+(AG16*R16*(1-R$2))+(AG16*S16*(1-S$2))+(AG16*T16*(1-T$2))+(AG16*U16*(1-U$2))+(AG16*V16*(1-V$2))+(AG16*W16*(1-W$2)) -> 17792198 | AI16: =(AG16*O16*(1-O$2))-(X16*O16*(1-O$2)) -> 23919.531 | AJ16: =AI16/(AW16/AV16) -> 28517.812 | AK16: =AG16+(AJ16*O16)/(1-O$2)+(AJ16*P16)/(1-O$2-AA16)+(AJ16*Q16)/(1-AE16)+(AJ16*R16)/(1-R$2)+(AJ16*S16)/(1-S$2)+(AJ16*T16)/(1-T$2)+(AJ16*U16)/(1-U$2)+(AJ16*V16)/(1-V$2)+(AJ16*W16)/(1-W$2) -> 19260533 | AL16: =(AK16*O16*(1-O$2))+(AK16*P16*(1-AA16-O$2))+(AK16*Q16*(1-AE$5))+(AK16*R16*(1-R$2))+(AK16*S16*(1-S$2))+(AK16*T16*(1-T$2))+(AK16*U16*(1-U$2))+(AK16*V16*(1-V$2))+(AK16*W16*(1-W$2)) -> 17820768 | AM16: =(AK16*O16*(1-O$2))-(X16*O16*(1-O$2)) -> 28526.329 | AN16: =AM16/((O16*AL16)) -> 0.0099033874 | AO16: =AL16-AM16 -> 17792242 | AP16: =(((AK16*O16*(1-O$2))/AL16)*AL16)-AM16-(((X16*O16*(1-O$2))/Z16)*Z16) -> 0 | AR16: =1-((((AK16*P16*(1-O$2-AA16))/AL16)*AL16)/(X16*P16)) -> 0.18376987 | AS16: =AR16-$O$2 -> 0.10676987 | AT16: =1-((((AK16*Q16*(1-AE16))/AL16)*AL16)/(X16*Q16)) -> 0.077192826 | AU16: =AT16-$O$2 -> 0.00019282567 | AV16: =$O16*(1-$O$2)+$P16*(1-$O$2-$AA16)+$Q16*(1-$AE16)+$R16*(1-$R$2)+$S16*(1-$S$2)+$T16*(1-$T$2)+$U16*(1-$U$2)+$V16*(1-$V$2)+$W16*(1-$W$2) -> 0.92524792 | AW16: =$P16*(1-$O$2-$AA16)+$Q16*(1-$AE16)+$R16*(1-$R$2)+$S16*(1-$S$2)+$T16*(1-$T$2)+$U16*(1-$U$2)+$V16*(1-$V$2)+$W16*(1-$W$2) -> 0.77605872 | AY16: =(X16*$O16*($O$2)) -> 237334.96 | AZ16: =(X16*$P16*($O$2)) -> 90045.281 | BA16: =(X16*Q16*($Q$2)) -> 113084 | BB16: =(X16*$R16*($R$2)) -> 812453.1 | BC16: =(X16*$S16*($S$2))+(X16*$T16*($T$2))+(X16*$U16*($U$2))+(X16*$V16*($V$2))+(X16*$W16*($W$2)) -> 24482.083 | BD16: =SUM(AY16:BC16)-(X16-Z16) -> 0 | BF16: =(AK16*$O16*($O$2)) -> 239714.73 | BG16: =(AK16*$P16*($O$2+$AA16)) -> 226629.85 | BH16: =(AK16*Q16*($AE16)) -> 128093.15 | BI16: =(AK16*$R16*($R$2)) -> 820599.6 | BJ16: =(AK16*$S16*($S$2))+(AK16*$T16*($T$2))+(AK16*$U16*($U$2))+(AK16*$V16*($V$2))+(AK16*$W16*($W$2)) -> 24727.566 | BK16: =SUM(BF16:BJ16)-(AK16-AL16) -> -2.5611371e-09 | BM16: =X16 -> 19069324 | BN16: =AY16 -> 237334.96 | BO16: =AZ16 -> 90045.281 | BP16: =BA16 -> 113084 | BQ16: =BB16 -> 812453.1 | BR16: =BC16 -> 24482.083 | BS16: =BM16-SUM(BN16:BR16) -> 17791925 | BU16: =AK16 -> 19260533 | BV16: =BF16 -> 239714.73 | BW16: =AM16 -> 28526.329 | BX16: =BG16 -> 226629.85 | BY16: =BH16 -> 128093.15 | BZ16: =BI16 -> 820599.6 | CA16: =BJ16 -> 24727.566 | CB16: =BU16-SUM(BV16:CA16) -> 17792242 | CD16: =CB16-BS16 -> 317.26639 | CE16: =CD16/BS16 -> 1.7832044e-05 | CF16: =($X16*O16) -> 3082272.2 | CG16: =CF16-AY16 -> 2844937.2 | CH16: =($AK16*O16)-BF16-AM16 -> 2844937.2 | CI16: =CH16-CG16 -> 0 | CK16: =1-CH16/CF16 -> 0.077 | CL16: =1-CG16/CF16 -> 0.077
